BEGIN:VCALENDAR
VERSION:2.0
PRODID:-//Kuopion museot - ECPv6.15.20//NONSGML v1.0//EN
CALSCALE:GREGORIAN
METHOD:PUBLISH
X-WR-CALNAME:Kuopion museot
X-ORIGINAL-URL:https://kuopionmuseot.fi
X-WR-CALDESC:Tapahtumat Kuopion museot
REFRESH-INTERVAL;VALUE=DURATION:PT1H
X-Robots-Tag:noindex
X-PUBLISHED-TTL:PT1H
BEGIN:VTIMEZONE
TZID:Europe/Helsinki
BEGIN:DAYLIGHT
TZOFFSETFROM:+0200
TZOFFSETTO:+0300
TZNAME:EEST
DTSTART:20250330T010000
END:DAYLIGHT
BEGIN:STANDARD
TZOFFSETFROM:+0300
TZOFFSETTO:+0200
TZNAME:EET
DTSTART:20251026T010000
END:STANDARD
BEGIN:DAYLIGHT
TZOFFSETFROM:+0200
TZOFFSETTO:+0300
TZNAME:EEST
DTSTART:20260329T010000
END:DAYLIGHT
BEGIN:STANDARD
TZOFFSETFROM:+0300
TZOFFSETTO:+0200
TZNAME:EET
DTSTART:20261025T010000
END:STANDARD
BEGIN:DAYLIGHT
TZOFFSETFROM:+0200
TZOFFSETTO:+0300
TZNAME:EEST
DTSTART:20270328T010000
END:DAYLIGHT
BEGIN:STANDARD
TZOFFSETFROM:+0300
TZOFFSETTO:+0200
TZNAME:EET
DTSTART:20271031T010000
END:STANDARD
END:VTIMEZONE
BEGIN:VEVENT
DTSTART;TZID=Europe/Helsinki:20260414T163000
DTEND;TZID=Europe/Helsinki:20260414T183000
DTSTAMP:20260422T201824
CREATED:20260325T101558Z
LAST-MODIFIED:20260325T101708Z
UID:10004250-1776184200-1776191400@kuopionmuseot.fi
SUMMARY:Avaruushenkinen leffahetki
DESCRIPTION:Tiistaina 14.4. klo 16.30–18.30 pääkirjaston kokoussalissa. \nLeffahetkessä katsotaan avaruuteen liittyvä elokuva\, jossa joukko astronautteja lähtee vaaralliselle matkalle. Elokuvan ikäraja on K-12. Aluksi kuullaan Kuopion museon noin 15 minuuttia kestävä alustuspuheenvuoro liittyen elokuvaan ja museon Stardust-näyttelyyn (27.2.–2.8.2026). \nLeffahetki on suunnattu aikuisille ja yli 12-vuotiaille nuorille. Mukaan saa ottaa omia leffaherkkuja. Leffahetken ohessa on esillä avaruuteen liittyvä aineistonäyttely sekä vinkkilistat elokuvista ja kirjoista. Leffan aikana voi pelata myös leffabingoa! \nLeffahetken kesto on yhteensä 2 tuntia. \nTapahtuma on maksuton ja se toteutetaan Kuopion museon sekä Kuopion kaupunginkirjaston Kantti-yhteistyönä.
URL:https://kuopionmuseot.fi/tapahtuma/avaruushenkinen-leffahetki/
LOCATION:Kuopion pääkirjasto\, Maaherrankatu 12\, Kuopio\, 70100
ATTACH;FMTTYPE=image/jpeg:https://kuopionmuseot.fi/wp-content/uploads/2026/03/Leffahetki2026.jpg
END:VEVENT
BEGIN:VEVENT
DTSTART;TZID=Europe/Helsinki:20260415T130000
DTEND;TZID=Europe/Helsinki:20260415T131500
DTSTAMP:20260422T201824
CREATED:20260226T111506Z
LAST-MODIFIED:20260226T111506Z
UID:10004237-1776258000-1776258900@kuopionmuseot.fi
SUMMARY:Taidevartti ke 15.4. klo 13: Graffiti
DESCRIPTION:Tervetuloa kuuntelemaan KUMMAn taidevartteja keskiviikkoisin klo 13. Varttien aikana syvennytään niin Villit – Kuopion koulun nousu ja uho kuin Kumma keitos -näyttelyiden teoksiin. \n  \nAikataulu: \nke 4.3. klo 13 Pentti Meklin\nke 11.3. klo 13 Aurore Hirn\nke 18.3. klo 13 Marina Abramović\nke 25.3. klo 13 Kumma pulma -peli\nke 1.4. klo 13 Taidemuseon teoksiin kohdistuneet varkaudet\nke 8.4. klo 13 Markku Kolehmainen\nke 15.4. klo 13 Graffiti\nke 22.4. klo 13 Rainer Fetting \n  \nTaidevartti kuuluu sisäänpääsyn hintaan 12/6€\, alle 18-vuotiaat ilmaiseksi ja Museokortti ja Kaikukortti käyvät maksuvälineeksi tottakai.
URL:https://kuopionmuseot.fi/tapahtuma/taidevartti-ke-15-4-klo-13-graffiti/
LOCATION:KUMMA\, Kauppakatu 35\, Kuopio\, 70100
ATTACH;FMTTYPE=image/png:https://kuopionmuseot.fi/wp-content/uploads/2026/02/taidevartit.png
ORGANIZER;CN="KUMMA":MAILTO:taidemuseo@kuopio.fi
END:VEVENT
BEGIN:VEVENT
DTSTART;TZID=Europe/Helsinki:20260415T170000
DTEND;TZID=Europe/Helsinki:20260415T180000
DTSTAMP:20260422T201824
CREATED:20260115T141111Z
LAST-MODIFIED:20260115T141111Z
UID:10004146-1776272400-1776276000@kuopionmuseot.fi
SUMMARY:Luontokirjalukupiiri
DESCRIPTION:Etänä verkossa kokoontuvassa Luontokirjalukupiirissä tutustutaan ajankohtaisiin ympäristöaiheisiin teoksiin ja keskustellaan niiden herättämistä ajatuksista. Kirjallisuus- tai ympäristöasiantuntemusta ei tarvita\, ja mukaan voi tulla yhdelle tai useammalle kerralle. \n\n\nLukupiiri toimii hyvin myös kirjavinkkauksena – keskustelun kuunteleminen on mainio tapa löytää kiinnostavaa luettavaa! \n\nKokoonnumme seuraavina keskiviikkopäivinä klo 17 Zoomissa: \n\n18.2. Koivisto\, Aura: Lahottajat \n18.3. Valtoja\, Esko: Ihmeitä : kävelyretkiä kaikkeuteen\n15.4. Räinä\, Jenni: Veden ajat : matka läpi muuttuneen maiseman \n\nhttps://zoom.us/j/99576520794\n\nLuontokirjalukupiirin järjestävät Kuopion kaupunginkirjasto ja Kuopion luonnontieteellinen museo.
URL:https://kuopionmuseot.fi/tapahtuma/luontokirjalukupiiri-28/2026-04-15/
ATTACH;FMTTYPE=image/jpeg:https://kuopionmuseot.fi/wp-content/uploads/2022/06/puro_Outdoors-Finland-CC-BY-2.0-scaled.jpg
LOCATION:https://kuopionmuseot.fi/tapahtuma/luontokirjalukupiiri-28/2026-04-15/
END:VEVENT
BEGIN:VEVENT
DTSTART;TZID=Europe/Helsinki:20260416T140000
DTEND;TZID=Europe/Helsinki:20260416T163000
DTSTAMP:20260422T201824
CREATED:20251210T062442Z
LAST-MODIFIED:20251210T062443Z
UID:10004071-1776348000-1776357000@kuopionmuseot.fi
SUMMARY:Avoin kuvapaja
DESCRIPTION:Kaikenikäisille aikuisille suunnatut avoimet kuvapajat\, jossa taiteen keinoin tapahtuvaan tekemiseen syvennytään eri teemojen kautta. Aiempaa kokemusta piirtämisestä tai maalaamisesta ei tarvita. \nEi ennakkoilmoittautumista\, mukaan voi tulla silloin kun itselle sopii. Pajatoiminta on maksutonta ja taidetarvikkeet löytyvät paikan päältä. Huom! Paikkoja oppimistilassa on rajoitettu määrä. \nTORSTAIN KUVAPAJA KLO 14‒16.30 Kuopion museon katukerroksen oppimistilassa seuraavina päivinä: 18.9. / 25.9. / 2.10. / 9.10. / SYYSTAUKO 2vkoa / 30.10. / 6.11. / 13.11. / 20.11. / 27.11. / 4.12. / 11.12. / 18.12.\nKEVÄTKAUSI 2026: 29.1.2026\, 5.2.\, 12.2.\, 19.2.\,26.2.\, kevättauko 2 vkoa\, 19.3. \, 26.3.\, 2.4. \, 9.4. \,16.4.\,  23.4. \, 30.4. \nJärj. Kuopion kaupunki\, Kansalaistoiminnan palvelut. Yhteistyössä Kuopion museo.
URL:https://kuopionmuseot.fi/tapahtuma/avoinkuvapaja-2-2-2-2/2026-04-16/
LOCATION:Kuopion museo
ATTACH;FMTTYPE=image/jpeg:https://kuopionmuseot.fi/wp-content/uploads/2024/02/Kuvapaja1.jpg
END:VEVENT
BEGIN:VEVENT
DTSTART;TZID=Europe/Helsinki:20260416T170000
DTEND;TZID=Europe/Helsinki:20260416T180000
DTSTAMP:20260422T201824
CREATED:20260413T072918Z
LAST-MODIFIED:20260413T072918Z
UID:10004257-1776358800-1776362400@kuopionmuseot.fi
SUMMARY:Puhetta kokonaisturvallisuudesta: Henkinen kriisinkestävyys epävarmoina aikoina
DESCRIPTION:Miten rakennamme luottamusta aikana\, jolloin epävarmuus lisääntyy? Mikä on yhteisöjen rooli kriisinkestävyydessä?\n\n\n\nTervetuloa maksuttomaan\, kaikille avoimeen tilaisuuteen kuulemaan lisää ja keskustelemaan teemasta piispa Jari Jolkkosen kanssa! \n\n\nTilaisuus on kolmas osa kevään 2026 tapahtumasarjasta\, jossa kokonaisturvallisuuden käsitettä avataan eri näkökulmista. \n👉 Tilaisuudet jatkuvat: \n\n7.5. klo 16-17 (Huom. aika!!) esillä on kylävara erityisesti maaseudun yhteisöllisesssä varautumisessa\, alustajana Kylävara-hankkeen projektipäällikkö Ritva Pihlaja Suomen Kylät ry:stä.\n21.5. klo 17-18 puhutaan arjen häiriötilanteista\, aihetta alustaa siviilivalmiuden vanhempi opettaja Anu Keränen Pelastusopistolta.\n9.6. klo 17-18 teemana on taide ja kulttuuri sekä niiden merkitys henkiselle kriisinkestävyydellemme. Vieraana tällöin kirjailija Sirpa Kähkönen.
URL:https://kuopionmuseot.fi/tapahtuma/puhetta-kokonaisturvallisuudesta-henkinen-kriisinkestavyys-epavarmoina-aikoina/
LOCATION:Kuopion museo
ATTACH;FMTTYPE=image/png:https://kuopionmuseot.fi/wp-content/uploads/2026/04/PiispaJolkkonen160426_1920x1080-5.png
END:VEVENT
BEGIN:VEVENT
DTSTART;TZID=Europe/Helsinki:20260418T103000
DTEND;TZID=Europe/Helsinki:20260418T120000
DTSTAMP:20260422T201824
CREATED:20250618T095815Z
LAST-MODIFIED:20260206T080922Z
UID:10004194-1776508200-1776513600@kuopionmuseot.fi
SUMMARY:Tanssitupa
DESCRIPTION:Tanssituvissa opetellaan kansanomaisia pari- ja ryhmätansseja sekä improvisoidaan matalalla kynnyksellä\, livemusiikin tahtiin. Vetäjinä tanssitaiteilija Outi Markkula ja muusikko Jenni Venäläinen. \nKevätkauden Tanssituvat:\n21.3. valssi ja sottiisi\n18.4. polska\n16.5. masurkka ja polkka\n13.6. karjalaiset tanssit \nAiempaa kokemusta tai omaa tanssiparia ei tarvitse olla. Vapaa pääsy. \n \n 
URL:https://kuopionmuseot.fi/tapahtuma/tanssitupa/2026-04-18/
LOCATION:Kuopion museo
ATTACH;FMTTYPE=image/jpeg:https://kuopionmuseot.fi/wp-content/uploads/2025/06/Tanssitupa-kuva-Outi-Markkula_netti.jpg
END:VEVENT
BEGIN:VEVENT
DTSTART;TZID=Europe/Helsinki:20260418T130000
DTEND;TZID=Europe/Helsinki:20260418T140000
DTSTAMP:20260422T201824
CREATED:20260113T105216Z
LAST-MODIFIED:20260113T105216Z
UID:10004137-1776517200-1776520800@kuopionmuseot.fi
SUMMARY:Opastus: Talojen tarinoita
DESCRIPTION:Talojen tarinoita -näyttelyopastus esittelee jo lähes hävinnyttä puutalokaupunkia. Puu-Kuopio oli voimissaan 1900-luvun puoliväliin asti\, jolloin jälleenrakennuskausi ja kaupungistuminen muuttivat kaupunkikuvaa merkittävästi. Opastuksella muistellaan arkista elämää puutalokaupungissa siellä asuneiden silmin ja tutustutaan siihen valokuvien avulla. \nLauantaisin klo 13. Opastus sisältyy museon pääsymaksuun (8/5 €\, Museokortti\, Kaikukortti\, alle 18-vuotiaat maksutta). \n  \nTalojen tarinoita – Puutalokaupungin jäljillä \nNäyttelyssä valokuvat ja muistelmat nivoutuvat yhteen luoden eloisan kokonaisuuden\, joka kertoo kaupungin rakennushistoriasta sekä kaupunkikuvan muutoksesta. Näyttely esittelee Kuopion purettuja sekä edelleen olemassa olevia puutaloja piirtäen kuvaa vilkkaasta kaupungista\, jonka kaduilla ihmiset toimittivat arkisia askareitaan. Kuopiossa lapsuutensa ja nuoruutensa 1940–1960-luvuilla viettäneet ihmiset kertovat millaista oli elää puutalojen täyttämässä kaupungissa.
URL:https://kuopionmuseot.fi/tapahtuma/opastus-talojen-tarinoita-3/2026-04-18/
LOCATION:Korttelimuseo\, Kirkkokatu 22\, Kuopio\, 70100\, Suomi
ATTACH;FMTTYPE=image/png:https://kuopionmuseot.fi/wp-content/uploads/2026/01/Opastus-Talojen-tarinoita.png
END:VEVENT
BEGIN:VEVENT
DTSTART;TZID=Europe/Helsinki:20260418T140000
DTEND;TZID=Europe/Helsinki:20260418T144500
DTSTAMP:20260422T201824
CREATED:20260212T110147Z
LAST-MODIFIED:20260213T082039Z
UID:10004209-1776520800-1776523500@kuopionmuseot.fi
SUMMARY:Stardust-näyttelyopastus
DESCRIPTION:Matka maailmankaikkeuden mysteereihin  \nOpastuksella tehdään oppaan johdolla matka halki maailmankaikkeuden\, sen alkuhetkistä mahdollisiin erilaisiin loppuihin saakka. Matkalla tutustutaan käsittämättömän pieniin asioihin ja toisaalta uskomattoman valtaviin kokonaisuuksiin\, niin koon\, etäisyyksien kuin ajankin suhteen. Tule ottamaan selvää maailmankaikkeuden mysteereistä ja oman tarinamme nivoutumisesta universumiin.  \nTiedontäyteinen kierros on kestoltaan noin 45 minuuttia.  \nOpastus sisältyy pääsymaksuun (15/10 €\, alle 18-v maksutta)\, Museokortti ja Kaikukortti käyvät. \n***\nStardust – Universumi sisällämme -näyttelyssä pääset tutkimaan tähtien elinkaarta\, alkuaineiden alkuperää ja maailmankaikkeutta muovaavia kosmisia voimia jännittävän tarinankerronnan\, vuorovaikutteisten elämysten ja upeiden multimediaesitysten avulla. Heittäydy mukaan aikamatkalle avaruuteen!
URL:https://kuopionmuseot.fi/tapahtuma/stardust-nayttelyopastus/2026-04-18/
LOCATION:Kuopion museo
ATTACH;FMTTYPE=image/jpeg:https://kuopionmuseot.fi/wp-content/uploads/2026/02/Opastus-Stardust.jpg
END:VEVENT
BEGIN:VEVENT
DTSTART;TZID=Europe/Helsinki:20260419T140000
DTEND;TZID=Europe/Helsinki:20260419T150000
DTSTAMP:20260422T201824
CREATED:20251119T084542Z
LAST-MODIFIED:20251119T084542Z
UID:10004044-1776607200-1776610800@kuopionmuseot.fi
SUMMARY:Yleisöopastus Kummaan keitokseen
DESCRIPTION:Kumma keitos – tarinoita kokoelmista\nMitä yhteistä on Kevät-veistoksella\, salaperäisellä yöllä 18.6.1988 ja kauppaneuvos Oskar Huttusella? Entä mitä tapahtuu\, kun kokoelmaähky iskee? KUMMAn uusi kokoelmanäyttely Kumma keitos ei tyydy ainoastaan tarjoilemaan teoksia taiteennälkään – se kutsuu sinut lusikoimaan tarinoita\, jotka ovat yhtä outoja ja yllättäviä kuin itse museon kokoelmat. \nNäyttelyssä sukelletaan syvälle taiteenkeräilyn salaisuuksiin: miksi ihminen haluaa omistaa\, säilöä ja järjestää? Miten syntyy kokoelma\, ja mitä tapahtuu\, kun keräily menee vähän… överiksi? Mukana on myös taidekaupan kiemuroita\, väärennösten villi maailma ja pulmia\, jotka saavat sinut epäilemään kaikkea – jopa omia silmiäsi. \nJa sitten ne aarteet. Ne\, joita ei ole koskaan ennen nähty näyttelyssä\, koska eihän sellaisia aarteita uskalleta esille laittaa. Kyllä\, nyt niitä on esillä. Tule katsomaan\, mitä kaikkea museon kätköistä voi löytyä. \nKumma keitos on totaalinen taidekokemus\, mutta samalla se on myös seikkailu. Näyttelyssä voit tehdä katsauksen taidekauppiaan peräkonttiin\, jollaisesta joku kaupunginisä on aikoinaan ostanut perävalotakuulla teoksia. Astu kipsikaappiin\, jossa ajan hammas on jo nakertanut omansa. Murentuneet teokset ja pölyksi hajonneet muodot kertovat kuiskaten siitä\, mitä joskus oli – ja mitä ei enää ole. Pääset vaikuttamaan itse myös näkemiisi teoksiin: Mediataidetilassa valitset itse mitä katsot.  Ja kyllä\, näyttelyssä on voita. Miksi? Miten se liittyy kokoelmiin\, selviää näyttelyssä. \nKumma keitos kutsuu sinut myös aikamatkalle\, pelaamaan Kummapulma-taideväärennöspeliä ja ehkä – vain ehkä – ratkaisemaan mysteerin\, joka on odottanut ratkaisijaansa vuodesta 1988. \n  \nOpastus kuuluu sisäänpääsyn hintaan \, alle 18-vuotiaat ilmaiseksi ja Museokortti käy maksuvälineeksi tottakai.
URL:https://kuopionmuseot.fi/tapahtuma/yleisoopastus-kummaan-keitokseen/2026-04-19/
ATTACH;FMTTYPE=image/jpeg:https://kuopionmuseot.fi/wp-content/uploads/2025/11/kumma-keitos_hero-kuva_2025-10-06.jpg
END:VEVENT
END:VCALENDAR