BEGIN:VCALENDAR
VERSION:2.0
PRODID:-//Kuopion museot - ECPv6.15.20//NONSGML v1.0//EN
CALSCALE:GREGORIAN
METHOD:PUBLISH
X-ORIGINAL-URL:https://kuopionmuseot.fi
X-WR-CALDESC:Tapahtumat Kuopion museot
REFRESH-INTERVAL;VALUE=DURATION:PT1H
X-Robots-Tag:noindex
X-PUBLISHED-TTL:PT1H
BEGIN:VTIMEZONE
TZID:Europe/Helsinki
BEGIN:DAYLIGHT
TZOFFSETFROM:+0200
TZOFFSETTO:+0300
TZNAME:EEST
DTSTART:20250330T010000
END:DAYLIGHT
BEGIN:STANDARD
TZOFFSETFROM:+0300
TZOFFSETTO:+0200
TZNAME:EET
DTSTART:20251026T010000
END:STANDARD
BEGIN:DAYLIGHT
TZOFFSETFROM:+0200
TZOFFSETTO:+0300
TZNAME:EEST
DTSTART:20260329T010000
END:DAYLIGHT
BEGIN:STANDARD
TZOFFSETFROM:+0300
TZOFFSETTO:+0200
TZNAME:EET
DTSTART:20261025T010000
END:STANDARD
BEGIN:DAYLIGHT
TZOFFSETFROM:+0200
TZOFFSETTO:+0300
TZNAME:EEST
DTSTART:20270328T010000
END:DAYLIGHT
BEGIN:STANDARD
TZOFFSETFROM:+0300
TZOFFSETTO:+0200
TZNAME:EET
DTSTART:20271031T010000
END:STANDARD
END:VTIMEZONE
BEGIN:VEVENT
DTSTART;TZID=Europe/Helsinki:20260221T100000
DTEND;TZID=Europe/Helsinki:20260308T170000
DTSTAMP:20260422T202015
CREATED:20260219T093923Z
LAST-MODIFIED:20260219T093923Z
UID:10004228-1771668000-1772989200@kuopionmuseot.fi
SUMMARY:Talvitouhuja-suunnistus
DESCRIPTION:Kylmät\, valkoiset talvet täynnä vaikka minkämoista tekemistä ovat aina kuuluneet savolaisten elämään. \nTalvitouhuja-suunnistuksella etsitään eri aikojen talvipuuhia\, joita on piilotettu museon perusnäyttelyihin. Kierros on esillä 21.2.–8.3. ja sisältyy museon pääsymaksuun. Alle 18-vuotiaille museovierailu on aina maksuton!
URL:https://kuopionmuseot.fi/tapahtuma/talvitouhuja-suunnistus-2/
LOCATION:Kuopion museo
ATTACH;FMTTYPE=image/png:https://kuopionmuseot.fi/wp-content/uploads/2026/02/Talvitouhuja.png
ORGANIZER;CN="Kuopion museo":MAILTO:kuopionmuseo@kuopio.fi
END:VEVENT
BEGIN:VEVENT
DTSTART;TZID=Europe/Helsinki:20260304T130000
DTEND;TZID=Europe/Helsinki:20260304T131500
DTSTAMP:20260422T202015
CREATED:20260226T110335Z
LAST-MODIFIED:20260226T110335Z
UID:10004231-1772629200-1772630100@kuopionmuseot.fi
SUMMARY:Taidevartti ke 4.3. klo 13: Pentti Meklin
DESCRIPTION:Tervetuloa kuuntelemaan KUMMAn taidevartteja keskiviikkoisin klo 13. Varttien aikana syvennytään niin Villit – Kuopion koulun nousu ja uho kuin Kumma keitos -näyttelyiden teoksiin. \n  \nAikataulu: \nke 4.3. klo 13 Pentti Meklin\nke 11.3. klo 13 Aurore Hirn\nke 18.3. klo 13 Marina Abramović\nke 25.3. klo 13 Kumma pulma -peli\nke 1.4. klo 13 Taidemuseon teoksiin kohdistuneet varkaudet\nke 8.4. klo 13 Markku Kolehmainen\nke 15.4. klo 13 Graffiti\nke 22.4. klo 13 Rainer Fetting \n  \nTaidevartti kuuluu sisäänpääsyn hintaan 12/6€\, alle 18-vuotiaat ilmaiseksi ja Museokortti ja Kaikukortti käyvät maksuvälineeksi tottakai. \n 
URL:https://kuopionmuseot.fi/tapahtuma/taidevartti-ke-4-3-klo-13-pentti-meklin/
LOCATION:KUMMA\, Kauppakatu 35\, Kuopio\, 70100
ATTACH;FMTTYPE=image/png:https://kuopionmuseot.fi/wp-content/uploads/2026/02/taidevartit.png
END:VEVENT
BEGIN:VEVENT
DTSTART;TZID=Europe/Helsinki:20260304T170000
DTEND;TZID=Europe/Helsinki:20260304T180000
DTSTAMP:20260422T202015
CREATED:20260212T124123Z
LAST-MODIFIED:20260212T124123Z
UID:10004225-1772643600-1772647200@kuopionmuseot.fi
SUMMARY:Puheenvuoroja taiteesta: Tuija Saresma ke 4.3. klo 17-18
DESCRIPTION:Naisvihaa ja myrkyllistä maskuliinisuutta – onko taide aikansa kuva? \nTule kuuntelemaan Tuijan puheenvuoroa Villit – Kuopion koulun nousu ja uho -näyttelystä. \nFT Tuija Saresma on kulttuurintutkimuksen professori Itä-Suomen yliopistossa. Hän tutkii vihapuhetta ja siihen liittyvää naisvihaa ja rasismia. Tieteentekijöiden liitto palkitsi Saresman Vuoden 2022 tieteentekijänä ansioista vihapuheen vastaisessa toiminnassa. Samana vuonna Saresma sai Jyväskylän yliopiston tiedeviestintäpalkinnon. \nTapahtuma kuuluu sisäänpääsyn hintaan 12/6€\, alle 18-vuotiaat ilmaiseksi ja Museokortti ja Kaikukortti käy maksuvälineeksi tottakai.
URL:https://kuopionmuseot.fi/tapahtuma/puheenvuoroja-taiteesta-tuija-saresma-ke-4-3-klo-17-18/
LOCATION:KUMMA\, Kauppakatu 35\, Kuopio\, 70100
ATTACH;FMTTYPE=image/jpeg:https://kuopionmuseot.fi/wp-content/uploads/2026/01/KUMMA_VILLIT_nettisivukuva_1920x1080.jpg
END:VEVENT
BEGIN:VEVENT
DTSTART;TZID=Europe/Helsinki:20260307T130000
DTEND;TZID=Europe/Helsinki:20260307T140000
DTSTAMP:20260422T202015
CREATED:20260113T105216Z
LAST-MODIFIED:20260113T105216Z
UID:10004131-1772888400-1772892000@kuopionmuseot.fi
SUMMARY:Opastus: Talojen tarinoita
DESCRIPTION:Talojen tarinoita -näyttelyopastus esittelee jo lähes hävinnyttä puutalokaupunkia. Puu-Kuopio oli voimissaan 1900-luvun puoliväliin asti\, jolloin jälleenrakennuskausi ja kaupungistuminen muuttivat kaupunkikuvaa merkittävästi. Opastuksella muistellaan arkista elämää puutalokaupungissa siellä asuneiden silmin ja tutustutaan siihen valokuvien avulla. \nLauantaisin klo 13. Opastus sisältyy museon pääsymaksuun (8/5 €\, Museokortti\, Kaikukortti\, alle 18-vuotiaat maksutta). \n  \nTalojen tarinoita – Puutalokaupungin jäljillä \nNäyttelyssä valokuvat ja muistelmat nivoutuvat yhteen luoden eloisan kokonaisuuden\, joka kertoo kaupungin rakennushistoriasta sekä kaupunkikuvan muutoksesta. Näyttely esittelee Kuopion purettuja sekä edelleen olemassa olevia puutaloja piirtäen kuvaa vilkkaasta kaupungista\, jonka kaduilla ihmiset toimittivat arkisia askareitaan. Kuopiossa lapsuutensa ja nuoruutensa 1940–1960-luvuilla viettäneet ihmiset kertovat millaista oli elää puutalojen täyttämässä kaupungissa.
URL:https://kuopionmuseot.fi/tapahtuma/opastus-talojen-tarinoita-3/2026-03-07/
LOCATION:Korttelimuseo\, Kirkkokatu 22\, Kuopio\, 70100\, Suomi
ATTACH;FMTTYPE=image/png:https://kuopionmuseot.fi/wp-content/uploads/2026/01/Opastus-Talojen-tarinoita.png
END:VEVENT
BEGIN:VEVENT
DTSTART;TZID=Europe/Helsinki:20260307T140000
DTEND;TZID=Europe/Helsinki:20260307T144500
DTSTAMP:20260422T202015
CREATED:20260212T110147Z
LAST-MODIFIED:20260213T082039Z
UID:10004202-1772892000-1772894700@kuopionmuseot.fi
SUMMARY:Stardust-näyttelyopastus
DESCRIPTION:Matka maailmankaikkeuden mysteereihin  \nOpastuksella tehdään oppaan johdolla matka halki maailmankaikkeuden\, sen alkuhetkistä mahdollisiin erilaisiin loppuihin saakka. Matkalla tutustutaan käsittämättömän pieniin asioihin ja toisaalta uskomattoman valtaviin kokonaisuuksiin\, niin koon\, etäisyyksien kuin ajankin suhteen. Tule ottamaan selvää maailmankaikkeuden mysteereistä ja oman tarinamme nivoutumisesta universumiin.  \nTiedontäyteinen kierros on kestoltaan noin 45 minuuttia.  \nOpastus sisältyy pääsymaksuun (15/10 €\, alle 18-v maksutta)\, Museokortti ja Kaikukortti käyvät. \n***\nStardust – Universumi sisällämme -näyttelyssä pääset tutkimaan tähtien elinkaarta\, alkuaineiden alkuperää ja maailmankaikkeutta muovaavia kosmisia voimia jännittävän tarinankerronnan\, vuorovaikutteisten elämysten ja upeiden multimediaesitysten avulla. Heittäydy mukaan aikamatkalle avaruuteen!
URL:https://kuopionmuseot.fi/tapahtuma/stardust-nayttelyopastus/2026-03-07/
LOCATION:Kuopion museo
ATTACH;FMTTYPE=image/jpeg:https://kuopionmuseot.fi/wp-content/uploads/2026/02/Opastus-Stardust.jpg
END:VEVENT
BEGIN:VEVENT
DTSTART;TZID=Europe/Helsinki:20260308T140000
DTEND;TZID=Europe/Helsinki:20260308T150000
DTSTAMP:20260422T202015
CREATED:20251119T084542Z
LAST-MODIFIED:20251119T084542Z
UID:10004041-1772978400-1772982000@kuopionmuseot.fi
SUMMARY:Yleisöopastus Kummaan keitokseen
DESCRIPTION:Kumma keitos – tarinoita kokoelmista\nMitä yhteistä on Kevät-veistoksella\, salaperäisellä yöllä 18.6.1988 ja kauppaneuvos Oskar Huttusella? Entä mitä tapahtuu\, kun kokoelmaähky iskee? KUMMAn uusi kokoelmanäyttely Kumma keitos ei tyydy ainoastaan tarjoilemaan teoksia taiteennälkään – se kutsuu sinut lusikoimaan tarinoita\, jotka ovat yhtä outoja ja yllättäviä kuin itse museon kokoelmat. \nNäyttelyssä sukelletaan syvälle taiteenkeräilyn salaisuuksiin: miksi ihminen haluaa omistaa\, säilöä ja järjestää? Miten syntyy kokoelma\, ja mitä tapahtuu\, kun keräily menee vähän… överiksi? Mukana on myös taidekaupan kiemuroita\, väärennösten villi maailma ja pulmia\, jotka saavat sinut epäilemään kaikkea – jopa omia silmiäsi. \nJa sitten ne aarteet. Ne\, joita ei ole koskaan ennen nähty näyttelyssä\, koska eihän sellaisia aarteita uskalleta esille laittaa. Kyllä\, nyt niitä on esillä. Tule katsomaan\, mitä kaikkea museon kätköistä voi löytyä. \nKumma keitos on totaalinen taidekokemus\, mutta samalla se on myös seikkailu. Näyttelyssä voit tehdä katsauksen taidekauppiaan peräkonttiin\, jollaisesta joku kaupunginisä on aikoinaan ostanut perävalotakuulla teoksia. Astu kipsikaappiin\, jossa ajan hammas on jo nakertanut omansa. Murentuneet teokset ja pölyksi hajonneet muodot kertovat kuiskaten siitä\, mitä joskus oli – ja mitä ei enää ole. Pääset vaikuttamaan itse myös näkemiisi teoksiin: Mediataidetilassa valitset itse mitä katsot.  Ja kyllä\, näyttelyssä on voita. Miksi? Miten se liittyy kokoelmiin\, selviää näyttelyssä. \nKumma keitos kutsuu sinut myös aikamatkalle\, pelaamaan Kummapulma-taideväärennöspeliä ja ehkä – vain ehkä – ratkaisemaan mysteerin\, joka on odottanut ratkaisijaansa vuodesta 1988. \n  \nOpastus kuuluu sisäänpääsyn hintaan \, alle 18-vuotiaat ilmaiseksi ja Museokortti käy maksuvälineeksi tottakai.
URL:https://kuopionmuseot.fi/tapahtuma/yleisoopastus-kummaan-keitokseen/2026-03-08/
ATTACH;FMTTYPE=image/jpeg:https://kuopionmuseot.fi/wp-content/uploads/2025/11/kumma-keitos_hero-kuva_2025-10-06.jpg
END:VEVENT
END:VCALENDAR