BEGIN:VCALENDAR
VERSION:2.0
PRODID:-//Kuopion museot - ECPv6.15.20//NONSGML v1.0//EN
CALSCALE:GREGORIAN
METHOD:PUBLISH
X-ORIGINAL-URL:https://kuopionmuseot.fi
X-WR-CALDESC:Tapahtumat Kuopion museot
REFRESH-INTERVAL;VALUE=DURATION:PT1H
X-Robots-Tag:noindex
X-PUBLISHED-TTL:PT1H
BEGIN:VTIMEZONE
TZID:Europe/Helsinki
BEGIN:DAYLIGHT
TZOFFSETFROM:+0200
TZOFFSETTO:+0300
TZNAME:EEST
DTSTART:20250330T010000
END:DAYLIGHT
BEGIN:STANDARD
TZOFFSETFROM:+0300
TZOFFSETTO:+0200
TZNAME:EET
DTSTART:20251026T010000
END:STANDARD
BEGIN:DAYLIGHT
TZOFFSETFROM:+0200
TZOFFSETTO:+0300
TZNAME:EEST
DTSTART:20260329T010000
END:DAYLIGHT
BEGIN:STANDARD
TZOFFSETFROM:+0300
TZOFFSETTO:+0200
TZNAME:EET
DTSTART:20261025T010000
END:STANDARD
BEGIN:DAYLIGHT
TZOFFSETFROM:+0200
TZOFFSETTO:+0300
TZNAME:EEST
DTSTART:20270328T010000
END:DAYLIGHT
BEGIN:STANDARD
TZOFFSETFROM:+0300
TZOFFSETTO:+0200
TZNAME:EET
DTSTART:20271031T010000
END:STANDARD
END:VTIMEZONE
BEGIN:VEVENT
DTSTART;TZID=Europe/Helsinki:20260204T080000
DTEND;TZID=Europe/Helsinki:20260222T170000
DTSTAMP:20260422T233914
CREATED:20260204T105546Z
LAST-MODIFIED:20260204T105546Z
UID:10004189-1770192000-1771779600@kuopionmuseot.fi
SUMMARY:Tavis Dance Company Villit-näyttelyssä
DESCRIPTION:Tavis Dance Company esiintyy KUMMAssa inspiroituneena Villit-näyttelystä. Improvisoituja sooloja\, ryhmän yhteistä villiä ja värikästä tanssia. \nTavis Dance Company (TDC) on harrastusryhmä\, joka koostuu tavallisista eri-ikäisistä ihmisistä\, joilla on uteliaisuutta\, avoimuutta sekä halua ilmaista itseään ja kokeilla uutta. TDC:n tanssijat ovat monipuolinen ja värikäs joukko eri-ikäisiä\, erilaisia ja ilmaisuvoimaisia persoonia. Tavis Dance Companyn toimintaa järjestää Itä-Suomen tanssin aluekeskus. \n  \nAikataulu: \nke 4.2. klo 16.30-17.30\nto 12.2. klo 11-12\nsu 22.2. klo 15-16 \n  \nEsitys kuuluu sisäänpääsyn hintaan\, alle 18-vuotiaat ilmaiseksi ja Museokortti ja Kaikukortti käy maksuvälineeksi tottakai. \n  \nKuva: Sampo Jaakkola
URL:https://kuopionmuseot.fi/tapahtuma/tavis-dance-company-villit-nayttelyssa/2026-02-04/1/
LOCATION:KUMMA\, Kauppakatu 35\, Kuopio\, 70100
ATTACH;FMTTYPE=image/jpeg:https://kuopionmuseot.fi/wp-content/uploads/2026/02/Tavis-Dance-Comapany_ITAK_Sampo-Jaakkola-scaled.jpg
ORGANIZER;CN="KUMMA":MAILTO:taidemuseo@kuopio.fi
END:VEVENT
BEGIN:VEVENT
DTSTART;TZID=Europe/Helsinki:20260218T160000
DTEND;TZID=Europe/Helsinki:20260218T183000
DTSTAMP:20260422T233914
CREATED:20260120T084543Z
LAST-MODIFIED:20260120T084543Z
UID:10004153-1771430400-1771439400@kuopionmuseot.fi
SUMMARY:Keskeneräisten teosten ilta
DESCRIPTION:Oletko taiteen ammattilainen tai opiskelija\, joka tarvitsisi tilan kehittää keskeneräistä työtään yleisön kanssa ja saada siitä palautetta? \nJärjestämme taidemuseo KUMMAssa yhteistyössä Itä-Suomen tanssin aluekeskuksen ja Ars Liberan kanssa keskiviikkona 18.2.2026 monitaiteisen illan\, jossa taiteilijat voivat esitellä suullisesti tai kuvallisesti teosideoitaan tai esittää teoksestaan katkelman. Tilaisuuden lopuksi on fasilitoitu yleisökeskustelu nähdyistä teoksista. Yleisöllä on myös mahdollisuus kirjoittaa palautetta taiteilijoille. \nIllan tarkoituksena on tarjota eri alojen taiteilijoille paikka keskustella työstään ja saada tukea ajatuksilleen. Esiintymisestä ei makseta palkkiota ja teosten täytyy olla esitettävissä Olotilassa ilman erityistä esitystekniikkaa. Äänentoisto ja dataprojektori ovat käytössä tapahtumassa. \nKeskeneräisten teosten ilta\nTaidemuseo KUMMAssa\, Kauppakatu 35\nkeskiviikkona 18.2.2026 klo 16–18.30 \nIltaan mahtuu neljä enintään 15 minuutin demoa. Kaikki taiteen lajit ovat tervetulleita. Ilmoittaudu mukaan omalla teoksellasi 5.2. mennessä ITAK:n taiteelliselle johtajalle veera.lamberg@itak.fi. Jos ilmoittautuneita on paljon\, pidätämme oikeuden valita osallistujat.
URL:https://kuopionmuseot.fi/tapahtuma/keskeneraisten-teosten-ilta/
LOCATION:KUMMA\, Kauppakatu 35\, Kuopio\, 70100
ATTACH;FMTTYPE=image/png:https://kuopionmuseot.fi/wp-content/uploads/2026/01/Keskeneraisten-teosten-ilta-vaaka-ilman-tekstia.png
END:VEVENT
BEGIN:VEVENT
DTSTART;TZID=Europe/Helsinki:20260218T170000
DTEND;TZID=Europe/Helsinki:20260218T180000
DTSTAMP:20260422T233914
CREATED:20260115T141111Z
LAST-MODIFIED:20260115T141111Z
UID:10004144-1771434000-1771437600@kuopionmuseot.fi
SUMMARY:Luontokirjalukupiiri
DESCRIPTION:Etänä verkossa kokoontuvassa Luontokirjalukupiirissä tutustutaan ajankohtaisiin ympäristöaiheisiin teoksiin ja keskustellaan niiden herättämistä ajatuksista. Kirjallisuus- tai ympäristöasiantuntemusta ei tarvita\, ja mukaan voi tulla yhdelle tai useammalle kerralle. \n\n\nLukupiiri toimii hyvin myös kirjavinkkauksena – keskustelun kuunteleminen on mainio tapa löytää kiinnostavaa luettavaa! \n\nKokoonnumme seuraavina keskiviikkopäivinä klo 17 Zoomissa: \n\n18.2. Koivisto\, Aura: Lahottajat \n18.3. Valtoja\, Esko: Ihmeitä : kävelyretkiä kaikkeuteen\n15.4. Räinä\, Jenni: Veden ajat : matka läpi muuttuneen maiseman \n\nhttps://zoom.us/j/99576520794\n\nLuontokirjalukupiirin järjestävät Kuopion kaupunginkirjasto ja Kuopion luonnontieteellinen museo.
URL:https://kuopionmuseot.fi/tapahtuma/luontokirjalukupiiri-28/2026-02-18/
ATTACH;FMTTYPE=image/jpeg:https://kuopionmuseot.fi/wp-content/uploads/2022/06/puro_Outdoors-Finland-CC-BY-2.0-scaled.jpg
LOCATION:https://kuopionmuseot.fi/tapahtuma/luontokirjalukupiiri-28/2026-02-18/
END:VEVENT
BEGIN:VEVENT
DTSTART;TZID=Europe/Helsinki:20260218T170000
DTEND;TZID=Europe/Helsinki:20260218T180000
DTSTAMP:20260422T233914
CREATED:20260206T082614Z
LAST-MODIFIED:20260206T082614Z
UID:10004199-1771434000-1771437600@kuopionmuseot.fi
SUMMARY:Kuopion hautapaikat arkeologin silmin
DESCRIPTION:Esitelmässä tarkastellaan\, mitä uutta arkeologia voi kertoa vanhoista hautapaikoista. Piispanpuiston ja Väinölänniemen viime vuosien tutkimushavaintojen lisäksi pohditaan lähialueen muiden historiallisten kohteiden tutkimuspotentiaalia ja avoimia tutkimuskysymyksiä. \nEsitelmän pitää arkeologi\, FT Ville Laakso. \nEsitelmä pidetään Kuopion museon monitoimitilassa 18.2.2026 kello 17. Tila on esteetön. Tilaisuus on maksuton ja sen järjestää Kuopion isänmaallinen seura.
URL:https://kuopionmuseot.fi/tapahtuma/kuopion-hautapaikat-arkeologin-silmin/
LOCATION:Kuopion museo
ATTACH;FMTTYPE=image/jpeg:https://kuopionmuseot.fi/wp-content/uploads/2026/02/Kuopio-Piispanpuiston-tutkimukset-2021.-Kuvaaja-Ville-Laakso.jpg
END:VEVENT
BEGIN:VEVENT
DTSTART;TZID=Europe/Helsinki:20260219T140000
DTEND;TZID=Europe/Helsinki:20260219T163000
DTSTAMP:20260422T233914
CREATED:20251210T062442Z
LAST-MODIFIED:20251210T062443Z
UID:10004065-1771509600-1771518600@kuopionmuseot.fi
SUMMARY:Avoin kuvapaja
DESCRIPTION:Kaikenikäisille aikuisille suunnatut avoimet kuvapajat\, jossa taiteen keinoin tapahtuvaan tekemiseen syvennytään eri teemojen kautta. Aiempaa kokemusta piirtämisestä tai maalaamisesta ei tarvita. \nEi ennakkoilmoittautumista\, mukaan voi tulla silloin kun itselle sopii. Pajatoiminta on maksutonta ja taidetarvikkeet löytyvät paikan päältä. Huom! Paikkoja oppimistilassa on rajoitettu määrä. \nTORSTAIN KUVAPAJA KLO 14‒16.30 Kuopion museon katukerroksen oppimistilassa seuraavina päivinä: 18.9. / 25.9. / 2.10. / 9.10. / SYYSTAUKO 2vkoa / 30.10. / 6.11. / 13.11. / 20.11. / 27.11. / 4.12. / 11.12. / 18.12.\nKEVÄTKAUSI 2026: 29.1.2026\, 5.2.\, 12.2.\, 19.2.\,26.2.\, kevättauko 2 vkoa\, 19.3. \, 26.3.\, 2.4. \, 9.4. \,16.4.\,  23.4. \, 30.4. \nJärj. Kuopion kaupunki\, Kansalaistoiminnan palvelut. Yhteistyössä Kuopion museo.
URL:https://kuopionmuseot.fi/tapahtuma/avoinkuvapaja-2-2-2-2/2026-02-19/
LOCATION:Kuopion museo
ATTACH;FMTTYPE=image/jpeg:https://kuopionmuseot.fi/wp-content/uploads/2024/02/Kuvapaja1.jpg
END:VEVENT
BEGIN:VEVENT
DTSTART;TZID=Europe/Helsinki:20260221T100000
DTEND;TZID=Europe/Helsinki:20260308T170000
DTSTAMP:20260422T233914
CREATED:20260219T093923Z
LAST-MODIFIED:20260219T093923Z
UID:10004228-1771668000-1772989200@kuopionmuseot.fi
SUMMARY:Talvitouhuja-suunnistus
DESCRIPTION:Kylmät\, valkoiset talvet täynnä vaikka minkämoista tekemistä ovat aina kuuluneet savolaisten elämään. \nTalvitouhuja-suunnistuksella etsitään eri aikojen talvipuuhia\, joita on piilotettu museon perusnäyttelyihin. Kierros on esillä 21.2.–8.3. ja sisältyy museon pääsymaksuun. Alle 18-vuotiaille museovierailu on aina maksuton!
URL:https://kuopionmuseot.fi/tapahtuma/talvitouhuja-suunnistus-2/
LOCATION:Kuopion museo
ATTACH;FMTTYPE=image/png:https://kuopionmuseot.fi/wp-content/uploads/2026/02/Talvitouhuja.png
ORGANIZER;CN="Kuopion museo":MAILTO:kuopionmuseo@kuopio.fi
END:VEVENT
BEGIN:VEVENT
DTSTART;TZID=Europe/Helsinki:20260221T130000
DTEND;TZID=Europe/Helsinki:20260221T140000
DTSTAMP:20260422T233914
CREATED:20260113T105216Z
LAST-MODIFIED:20260113T105216Z
UID:10004129-1771678800-1771682400@kuopionmuseot.fi
SUMMARY:Opastus: Talojen tarinoita
DESCRIPTION:Talojen tarinoita -näyttelyopastus esittelee jo lähes hävinnyttä puutalokaupunkia. Puu-Kuopio oli voimissaan 1900-luvun puoliväliin asti\, jolloin jälleenrakennuskausi ja kaupungistuminen muuttivat kaupunkikuvaa merkittävästi. Opastuksella muistellaan arkista elämää puutalokaupungissa siellä asuneiden silmin ja tutustutaan siihen valokuvien avulla. \nLauantaisin klo 13. Opastus sisältyy museon pääsymaksuun (8/5 €\, Museokortti\, Kaikukortti\, alle 18-vuotiaat maksutta). \n  \nTalojen tarinoita – Puutalokaupungin jäljillä \nNäyttelyssä valokuvat ja muistelmat nivoutuvat yhteen luoden eloisan kokonaisuuden\, joka kertoo kaupungin rakennushistoriasta sekä kaupunkikuvan muutoksesta. Näyttely esittelee Kuopion purettuja sekä edelleen olemassa olevia puutaloja piirtäen kuvaa vilkkaasta kaupungista\, jonka kaduilla ihmiset toimittivat arkisia askareitaan. Kuopiossa lapsuutensa ja nuoruutensa 1940–1960-luvuilla viettäneet ihmiset kertovat millaista oli elää puutalojen täyttämässä kaupungissa.
URL:https://kuopionmuseot.fi/tapahtuma/opastus-talojen-tarinoita-3/2026-02-21/
LOCATION:Korttelimuseo\, Kirkkokatu 22\, Kuopio\, 70100\, Suomi
ATTACH;FMTTYPE=image/png:https://kuopionmuseot.fi/wp-content/uploads/2026/01/Opastus-Talojen-tarinoita.png
END:VEVENT
BEGIN:VEVENT
DTSTART;TZID=Europe/Helsinki:20260221T140000
DTEND;TZID=Europe/Helsinki:20260221T144500
DTSTAMP:20260422T233914
CREATED:20240502T113349Z
LAST-MODIFIED:20260128T093801Z
UID:10004082-1771682400-1771685100@kuopionmuseot.fi
SUMMARY:Opastus: Kuopion museon kohokohdat
DESCRIPTION:Tule mukaan opastukselle tutustumaan alueemme Pohjois-Savon historiaan tai Itä-Suomen luontoon! Osallistujia johdatellaan Kuopion museon perusnäyttelyiden saloihin nostamalla esiin kunkin näyttelynosan kohokohtia. \nOpastus sisältyy pääsylipun hintaan (15/10 €\, alle 18-vuotiaat ilmaiseksi). Museokortti ja Kaikukortti käyvät. Opastus on kestoltaan noin 45 minuuttia.
URL:https://kuopionmuseot.fi/tapahtuma/opastus-kuopion-museon-kohokohdat/2026-02-21/
LOCATION:Kuopion museo
ATTACH;FMTTYPE=image/jpeg:https://kuopionmuseot.fi/wp-content/uploads/2024/05/Museonkohokohdat.jpg
ORGANIZER;CN="Kuopion museo":MAILTO:kuopionmuseo@kuopio.fi
END:VEVENT
BEGIN:VEVENT
DTSTART;TZID=Europe/Helsinki:20260222T120000
DTEND;TZID=Europe/Helsinki:20260222T133000
DTSTAMP:20260422T233914
CREATED:20260213T051714Z
LAST-MODIFIED:20260213T051714Z
UID:10004227-1771761600-1771767000@kuopionmuseot.fi
SUMMARY:Kalevalanpäivän etkot
DESCRIPTION:Kalevalanpäivä lähenee. Tule mukaan sunnuntaina 22.2. klo 12-13.30 Kuopion museon monitoimitilaan kuuntelemaan savonkielisen kalevalan luentaa ja kanteleiden soitantaa. Tilaisuus on maksuton ja kaikille avoin! \nJärj. Kuopion Kalevalaiset ry ja Savon kielen seura
URL:https://kuopionmuseot.fi/tapahtuma/kalevalanpaivan-etkot/
ATTACH;FMTTYPE=image/jpeg:https://kuopionmuseot.fi/wp-content/uploads/2026/02/Kalevalaiset-luenta2026.jpg
END:VEVENT
BEGIN:VEVENT
DTSTART;TZID=Europe/Helsinki:20260222T140000
DTEND;TZID=Europe/Helsinki:20260222T150000
DTSTAMP:20260422T233914
CREATED:20251119T084542Z
LAST-MODIFIED:20251119T084542Z
UID:10004040-1771768800-1771772400@kuopionmuseot.fi
SUMMARY:Yleisöopastus Kummaan keitokseen
DESCRIPTION:Kumma keitos – tarinoita kokoelmista\nMitä yhteistä on Kevät-veistoksella\, salaperäisellä yöllä 18.6.1988 ja kauppaneuvos Oskar Huttusella? Entä mitä tapahtuu\, kun kokoelmaähky iskee? KUMMAn uusi kokoelmanäyttely Kumma keitos ei tyydy ainoastaan tarjoilemaan teoksia taiteennälkään – se kutsuu sinut lusikoimaan tarinoita\, jotka ovat yhtä outoja ja yllättäviä kuin itse museon kokoelmat. \nNäyttelyssä sukelletaan syvälle taiteenkeräilyn salaisuuksiin: miksi ihminen haluaa omistaa\, säilöä ja järjestää? Miten syntyy kokoelma\, ja mitä tapahtuu\, kun keräily menee vähän… överiksi? Mukana on myös taidekaupan kiemuroita\, väärennösten villi maailma ja pulmia\, jotka saavat sinut epäilemään kaikkea – jopa omia silmiäsi. \nJa sitten ne aarteet. Ne\, joita ei ole koskaan ennen nähty näyttelyssä\, koska eihän sellaisia aarteita uskalleta esille laittaa. Kyllä\, nyt niitä on esillä. Tule katsomaan\, mitä kaikkea museon kätköistä voi löytyä. \nKumma keitos on totaalinen taidekokemus\, mutta samalla se on myös seikkailu. Näyttelyssä voit tehdä katsauksen taidekauppiaan peräkonttiin\, jollaisesta joku kaupunginisä on aikoinaan ostanut perävalotakuulla teoksia. Astu kipsikaappiin\, jossa ajan hammas on jo nakertanut omansa. Murentuneet teokset ja pölyksi hajonneet muodot kertovat kuiskaten siitä\, mitä joskus oli – ja mitä ei enää ole. Pääset vaikuttamaan itse myös näkemiisi teoksiin: Mediataidetilassa valitset itse mitä katsot.  Ja kyllä\, näyttelyssä on voita. Miksi? Miten se liittyy kokoelmiin\, selviää näyttelyssä. \nKumma keitos kutsuu sinut myös aikamatkalle\, pelaamaan Kummapulma-taideväärennöspeliä ja ehkä – vain ehkä – ratkaisemaan mysteerin\, joka on odottanut ratkaisijaansa vuodesta 1988. \n  \nOpastus kuuluu sisäänpääsyn hintaan \, alle 18-vuotiaat ilmaiseksi ja Museokortti käy maksuvälineeksi tottakai.
URL:https://kuopionmuseot.fi/tapahtuma/yleisoopastus-kummaan-keitokseen/2026-02-22/
ATTACH;FMTTYPE=image/jpeg:https://kuopionmuseot.fi/wp-content/uploads/2025/11/kumma-keitos_hero-kuva_2025-10-06.jpg
END:VEVENT
BEGIN:VEVENT
DTSTART;TZID=Europe/Helsinki:20260222T150000
DTEND;TZID=Europe/Helsinki:20260222T160000
DTSTAMP:20260422T233914
CREATED:20260204T105546Z
LAST-MODIFIED:20260204T105546Z
UID:10004192-1771772400-1771776000@kuopionmuseot.fi
SUMMARY:Tavis Dance Company Villit-näyttelyssä
DESCRIPTION:Tavis Dance Company esiintyy KUMMAssa inspiroituneena Villit-näyttelystä. Improvisoituja sooloja\, ryhmän yhteistä villiä ja värikästä tanssia. \nTavis Dance Company (TDC) on harrastusryhmä\, joka koostuu tavallisista eri-ikäisistä ihmisistä\, joilla on uteliaisuutta\, avoimuutta sekä halua ilmaista itseään ja kokeilla uutta. TDC:n tanssijat ovat monipuolinen ja värikäs joukko eri-ikäisiä\, erilaisia ja ilmaisuvoimaisia persoonia. Tavis Dance Companyn toimintaa järjestää Itä-Suomen tanssin aluekeskus. \n  \nAikataulu: \nke 4.2. klo 16.30-17.30\nto 12.2. klo 11-12\nsu 22.2. klo 15-16 \n  \nEsitys kuuluu sisäänpääsyn hintaan\, alle 18-vuotiaat ilmaiseksi ja Museokortti ja Kaikukortti käy maksuvälineeksi tottakai. \n  \nKuva: Sampo Jaakkola
URL:https://kuopionmuseot.fi/tapahtuma/tavis-dance-company-villit-nayttelyssa/2026-02-22/
LOCATION:KUMMA\, Kauppakatu 35\, Kuopio\, 70100
ATTACH;FMTTYPE=image/jpeg:https://kuopionmuseot.fi/wp-content/uploads/2026/02/Tavis-Dance-Comapany_ITAK_Sampo-Jaakkola-scaled.jpg
ORGANIZER;CN="KUMMA":MAILTO:taidemuseo@kuopio.fi
END:VEVENT
END:VCALENDAR