BEGIN:VCALENDAR
VERSION:2.0
PRODID:-//Kuopion museot - ECPv6.15.20//NONSGML v1.0//EN
CALSCALE:GREGORIAN
METHOD:PUBLISH
X-WR-CALNAME:Kuopion museot
X-ORIGINAL-URL:https://kuopionmuseot.fi
X-WR-CALDESC:Tapahtumat Kuopion museot
REFRESH-INTERVAL;VALUE=DURATION:PT1H
X-Robots-Tag:noindex
X-PUBLISHED-TTL:PT1H
BEGIN:VTIMEZONE
TZID:Europe/Helsinki
BEGIN:DAYLIGHT
TZOFFSETFROM:+0200
TZOFFSETTO:+0300
TZNAME:EEST
DTSTART:20250330T010000
END:DAYLIGHT
BEGIN:STANDARD
TZOFFSETFROM:+0300
TZOFFSETTO:+0200
TZNAME:EET
DTSTART:20251026T010000
END:STANDARD
BEGIN:DAYLIGHT
TZOFFSETFROM:+0200
TZOFFSETTO:+0300
TZNAME:EEST
DTSTART:20260329T010000
END:DAYLIGHT
BEGIN:STANDARD
TZOFFSETFROM:+0300
TZOFFSETTO:+0200
TZNAME:EET
DTSTART:20261025T010000
END:STANDARD
BEGIN:DAYLIGHT
TZOFFSETFROM:+0200
TZOFFSETTO:+0300
TZNAME:EEST
DTSTART:20270328T010000
END:DAYLIGHT
BEGIN:STANDARD
TZOFFSETFROM:+0300
TZOFFSETTO:+0200
TZNAME:EET
DTSTART:20271031T010000
END:STANDARD
END:VTIMEZONE
BEGIN:VEVENT
DTSTART;TZID=Europe/Helsinki:20260129T140000
DTEND;TZID=Europe/Helsinki:20260129T163000
DTSTAMP:20260423T032003
CREATED:20251210T062442Z
LAST-MODIFIED:20251210T062443Z
UID:10004062-1769695200-1769704200@kuopionmuseot.fi
SUMMARY:Avoin kuvapaja
DESCRIPTION:Kaikenikäisille aikuisille suunnatut avoimet kuvapajat\, jossa taiteen keinoin tapahtuvaan tekemiseen syvennytään eri teemojen kautta. Aiempaa kokemusta piirtämisestä tai maalaamisesta ei tarvita. \nEi ennakkoilmoittautumista\, mukaan voi tulla silloin kun itselle sopii. Pajatoiminta on maksutonta ja taidetarvikkeet löytyvät paikan päältä. Huom! Paikkoja oppimistilassa on rajoitettu määrä. \nTORSTAIN KUVAPAJA KLO 14‒16.30 Kuopion museon katukerroksen oppimistilassa seuraavina päivinä: 18.9. / 25.9. / 2.10. / 9.10. / SYYSTAUKO 2vkoa / 30.10. / 6.11. / 13.11. / 20.11. / 27.11. / 4.12. / 11.12. / 18.12.\nKEVÄTKAUSI 2026: 29.1.2026\, 5.2.\, 12.2.\, 19.2.\,26.2.\, kevättauko 2 vkoa\, 19.3. \, 26.3.\, 2.4. \, 9.4. \,16.4.\,  23.4. \, 30.4. \nJärj. Kuopion kaupunki\, Kansalaistoiminnan palvelut. Yhteistyössä Kuopion museo.
URL:https://kuopionmuseot.fi/tapahtuma/avoinkuvapaja-2-2-2-2/2026-01-29/
LOCATION:Kuopion museo
ATTACH;FMTTYPE=image/jpeg:https://kuopionmuseot.fi/wp-content/uploads/2024/02/Kuvapaja1.jpg
END:VEVENT
BEGIN:VEVENT
DTSTART;TZID=Europe/Helsinki:20260131T130000
DTEND;TZID=Europe/Helsinki:20260131T140000
DTSTAMP:20260423T032003
CREATED:20260113T105216Z
LAST-MODIFIED:20260113T105216Z
UID:10004126-1769864400-1769868000@kuopionmuseot.fi
SUMMARY:Opastus: Talojen tarinoita
DESCRIPTION:Talojen tarinoita -näyttelyopastus esittelee jo lähes hävinnyttä puutalokaupunkia. Puu-Kuopio oli voimissaan 1900-luvun puoliväliin asti\, jolloin jälleenrakennuskausi ja kaupungistuminen muuttivat kaupunkikuvaa merkittävästi. Opastuksella muistellaan arkista elämää puutalokaupungissa siellä asuneiden silmin ja tutustutaan siihen valokuvien avulla. \nLauantaisin klo 13. Opastus sisältyy museon pääsymaksuun (8/5 €\, Museokortti\, Kaikukortti\, alle 18-vuotiaat maksutta). \n  \nTalojen tarinoita – Puutalokaupungin jäljillä \nNäyttelyssä valokuvat ja muistelmat nivoutuvat yhteen luoden eloisan kokonaisuuden\, joka kertoo kaupungin rakennushistoriasta sekä kaupunkikuvan muutoksesta. Näyttely esittelee Kuopion purettuja sekä edelleen olemassa olevia puutaloja piirtäen kuvaa vilkkaasta kaupungista\, jonka kaduilla ihmiset toimittivat arkisia askareitaan. Kuopiossa lapsuutensa ja nuoruutensa 1940–1960-luvuilla viettäneet ihmiset kertovat millaista oli elää puutalojen täyttämässä kaupungissa.
URL:https://kuopionmuseot.fi/tapahtuma/opastus-talojen-tarinoita-3/2026-01-31/
LOCATION:Korttelimuseo\, Kirkkokatu 22\, Kuopio\, 70100\, Suomi
ATTACH;FMTTYPE=image/png:https://kuopionmuseot.fi/wp-content/uploads/2026/01/Opastus-Talojen-tarinoita.png
END:VEVENT
BEGIN:VEVENT
DTSTART;TZID=Europe/Helsinki:20260131T140000
DTEND;TZID=Europe/Helsinki:20260131T144500
DTSTAMP:20260423T032003
CREATED:20240502T113349Z
LAST-MODIFIED:20260128T093801Z
UID:10004079-1769868000-1769870700@kuopionmuseot.fi
SUMMARY:Opastus: Kuopion museon kohokohdat
DESCRIPTION:Tule mukaan opastukselle tutustumaan alueemme Pohjois-Savon historiaan tai Itä-Suomen luontoon! Osallistujia johdatellaan Kuopion museon perusnäyttelyiden saloihin nostamalla esiin kunkin näyttelynosan kohokohtia. \nOpastus sisältyy pääsylipun hintaan (15/10 €\, alle 18-vuotiaat ilmaiseksi). Museokortti ja Kaikukortti käyvät. Opastus on kestoltaan noin 45 minuuttia.
URL:https://kuopionmuseot.fi/tapahtuma/opastus-kuopion-museon-kohokohdat/2026-01-31/
LOCATION:Kuopion museo
ATTACH;FMTTYPE=image/jpeg:https://kuopionmuseot.fi/wp-content/uploads/2024/05/Museonkohokohdat.jpg
ORGANIZER;CN="Kuopion museo":MAILTO:kuopionmuseo@kuopio.fi
END:VEVENT
END:VCALENDAR