BEGIN:VCALENDAR
VERSION:2.0
PRODID:-//Kuopion museot - ECPv6.15.20//NONSGML v1.0//EN
CALSCALE:GREGORIAN
METHOD:PUBLISH
X-WR-CALNAME:Kuopion museot
X-ORIGINAL-URL:https://kuopionmuseot.fi
X-WR-CALDESC:Tapahtumat Kuopion museot
REFRESH-INTERVAL;VALUE=DURATION:PT1H
X-Robots-Tag:noindex
X-PUBLISHED-TTL:PT1H
BEGIN:VTIMEZONE
TZID:Europe/Helsinki
BEGIN:DAYLIGHT
TZOFFSETFROM:+0200
TZOFFSETTO:+0300
TZNAME:EEST
DTSTART:20240331T010000
END:DAYLIGHT
BEGIN:STANDARD
TZOFFSETFROM:+0300
TZOFFSETTO:+0200
TZNAME:EET
DTSTART:20241027T010000
END:STANDARD
BEGIN:DAYLIGHT
TZOFFSETFROM:+0200
TZOFFSETTO:+0300
TZNAME:EEST
DTSTART:20250330T010000
END:DAYLIGHT
BEGIN:STANDARD
TZOFFSETFROM:+0300
TZOFFSETTO:+0200
TZNAME:EET
DTSTART:20251026T010000
END:STANDARD
BEGIN:DAYLIGHT
TZOFFSETFROM:+0200
TZOFFSETTO:+0300
TZNAME:EEST
DTSTART:20260329T010000
END:DAYLIGHT
BEGIN:STANDARD
TZOFFSETFROM:+0300
TZOFFSETTO:+0200
TZNAME:EET
DTSTART:20261025T010000
END:STANDARD
BEGIN:DAYLIGHT
TZOFFSETFROM:+0200
TZOFFSETTO:+0300
TZNAME:EEST
DTSTART:20270328T010000
END:DAYLIGHT
BEGIN:STANDARD
TZOFFSETFROM:+0300
TZOFFSETTO:+0200
TZNAME:EET
DTSTART:20271031T010000
END:STANDARD
END:VTIMEZONE
BEGIN:VEVENT
DTSTART;VALUE=DATE:20251201
DTEND;VALUE=DATE:20260104
DTSTAMP:20260423T093428
CREATED:20251201T091926Z
LAST-MODIFIED:20251201T091926Z
UID:10004060-1764547200-1767484799@kuopionmuseot.fi
SUMMARY:Kuopion museon joulu
DESCRIPTION:Tänä jouluna Kuopion museossa tonttuillaan! \nKuopion museo ja pääkirjasto ovat valmistaneet Kantti-yhteistyönä museo- ja kirjastovieraiden tonttutietoja testaavan visailun. Visailuun voi osallistua ma 1.12. – ke 17.12.2025 Kuopion kaupungin museoissa ja kirjastoissa sekä verkko-osoitteessa https://q.surveypal.com/Kantin-tonttuvisa-2025. Yhteystiedot jättävien vastaajien kesken arvotaan tonttujen omin pienin kätösin valitsemia palkintoja. \nKantti-yhteistyönä on luotu myös perheen pienemmille suunniteltu tonttusuunnistus\, jossa jouluinen tarina Taavestiina-tontun seikkailuista täydentyy museon ja kirjaston tiloissa piileskelevien tonttuovien arvoituksilla. Suunnistus on suoritettavissa kirjaston ja museon aukioloaikoina ma 1.12.2025 – la 3.1.2026. Se on kaikille ilmainen. Aloitus pääkirjaston lasten- ja nuortenosastolta. \nLisäksi Kuopion kulttuurihistoriallisen museon kokoelmien tontut ovat päässeet esille Kuopion museon aulan Kurkistus kokoelmiin -vitriiniin\, ja museon perusnäyttelyt puolestaan ovat päätyneet tonttujen tehovalvontaan. Löydätkö vierailullasi punalakit asemapaikoiltaan? \nMuseon omatoimisesti tutustuttava joulutarjonta on yleisön ulottuvilla kohteen aukioloaikoina. Voit tarkistaa ne osoitteesta: https://kuopionmuseo.fi/tule-museoon/ \nMieleen kannattaa painaa myös\, että joulua edeltävinä sunnuntaina Kuopion museo tarjoaa Joulun taikaa -lastenopastuksia vaihtelevin sisällöin klo 10.30 ja klo 15.00. Mukaan pääsee museon pääsylipulla. Lue lisää osoitteesta https://kuopionmuseot.fi/tapahtuma/joulun-taikaa/2025-12-07/1/ \nHyvää joulua!
URL:https://kuopionmuseot.fi/tapahtuma/kuopion-museon-joulu/
LOCATION:Kuopion museo
ATTACH;FMTTYPE=image/jpeg:https://kuopionmuseot.fi/wp-content/uploads/2025/12/Museossa-tehovalvonta-1920-x-1080-px-scaled.jpg
END:VEVENT
BEGIN:VEVENT
DTSTART;TZID=Europe/Helsinki:20251211T140000
DTEND;TZID=Europe/Helsinki:20251211T163000
DTSTAMP:20260423T093428
CREATED:20251210T062442Z
LAST-MODIFIED:20251210T062443Z
UID:10003996-1765461600-1765470600@kuopionmuseot.fi
SUMMARY:Avoin kuvapaja
DESCRIPTION:Kaikenikäisille aikuisille suunnatut avoimet kuvapajat\, jossa taiteen keinoin tapahtuvaan tekemiseen syvennytään eri teemojen kautta. Aiempaa kokemusta piirtämisestä tai maalaamisesta ei tarvita. \nEi ennakkoilmoittautumista\, mukaan voi tulla silloin kun itselle sopii. Pajatoiminta on maksutonta ja taidetarvikkeet löytyvät paikan päältä. Huom! Paikkoja oppimistilassa on rajoitettu määrä. \nTORSTAIN KUVAPAJA KLO 14‒16.30 Kuopion museon katukerroksen oppimistilassa seuraavina päivinä: 18.9. / 25.9. / 2.10. / 9.10. / SYYSTAUKO 2vkoa / 30.10. / 6.11. / 13.11. / 20.11. / 27.11. / 4.12. / 11.12. / 18.12.\nKEVÄTKAUSI 2026: 29.1.2026\, 5.2.\, 12.2.\, 19.2.\,26.2.\, kevättauko 2 vkoa\, 19.3. \, 26.3.\, 2.4. \, 9.4. \,16.4.\,  23.4. \, 30.4. \nJärj. Kuopion kaupunki\, Kansalaistoiminnan palvelut. Yhteistyössä Kuopion museo.
URL:https://kuopionmuseot.fi/tapahtuma/avoinkuvapaja-2-2-2-2/2025-12-11/
LOCATION:Kuopion museo
ATTACH;FMTTYPE=image/jpeg:https://kuopionmuseot.fi/wp-content/uploads/2024/02/Kuvapaja1.jpg
END:VEVENT
BEGIN:VEVENT
DTSTART;TZID=Europe/Helsinki:20251213T110000
DTEND;TZID=Europe/Helsinki:20251213T123000
DTSTAMP:20260423T093428
CREATED:20250618T095815Z
LAST-MODIFIED:20260206T080922Z
UID:10003825-1765623600-1765629000@kuopionmuseot.fi
SUMMARY:Tanssitupa
DESCRIPTION:Tanssituvissa opetellaan kansanomaisia pari- ja ryhmätansseja sekä improvisoidaan matalalla kynnyksellä\, livemusiikin tahtiin. Vetäjinä tanssitaiteilija Outi Markkula ja muusikko Jenni Venäläinen. \nKevätkauden Tanssituvat:\n21.3. valssi ja sottiisi\n18.4. polska\n16.5. masurkka ja polkka\n13.6. karjalaiset tanssit \nAiempaa kokemusta tai omaa tanssiparia ei tarvitse olla. Vapaa pääsy. \n \n 
URL:https://kuopionmuseot.fi/tapahtuma/tanssitupa/2025-12-13/
LOCATION:Kuopion museo
ATTACH;FMTTYPE=image/jpeg:https://kuopionmuseot.fi/wp-content/uploads/2025/06/Tanssitupa-kuva-Outi-Markkula_netti.jpg
END:VEVENT
BEGIN:VEVENT
DTSTART;TZID=Europe/Helsinki:20251213T130000
DTEND;TZID=Europe/Helsinki:20251213T134500
DTSTAMP:20260423T093428
CREATED:20251129T143258Z
LAST-MODIFIED:20251130T093128Z
UID:10004053-1765630800-1765633500@kuopionmuseot.fi
SUMMARY:Opastus: Korttelimuseon joulu
DESCRIPTION:Korttelimuseon perinteisessä joulunäyttelyssä voi kokea\, miltä joulu tuoksui ja näytti ennen. Museokorttelin kodit on puettu jouluasuun 1800-luvulta 1930-luvulle. Näyttelyssä tapaat vanhan ajan joulupukin ja voit kuunnella joulunajan radio-ohjelmia. \nJouluopastuksilla tutustutaan joulunviettoon eri aikakausien ja yhteiskuntaluokkien kodeissa. Kierroksella kuullaan joulunvieton moninaisista taustoista\, perinteistä ja tavoista. \nOpastukset lauantaisin klo 13 ja tapaninpäivänä klo 11\, 13 ja 15. Opastuksille pääset mukaan museon pääsylipulla (8/5 €\, alle 18-vuotiaat maksutta\, Museokortti\, Kaikukortti). Kesto n. 45 min. \nLa 13.12. klo 13\nLa 20.12. klo 13\nPe 26.12. klo 11\, 13 ja 15\nLa 27.12. klo 13\nLa 3.1. klo 13 \n  \nJoulun aukioloajat \n2.12.–23.12.\nti–pe klo 10–15\, la–su 10–17\nSuljettu ma \n26.12.–4.1.\nti–su klo 10–17\nSuljettu ma \nSuljettu itsenäisyyspäivänä 6.12.\, jouluna 24.–25.12. ja uudenvuodenpäivänä 1.1.\n31.12. klo 10–16.\nLisäksi museokauppa on suljettu 31.12.
URL:https://kuopionmuseot.fi/tapahtuma/opastus-korttelimuseon-joulu-3/2025-12-13/
LOCATION:Korttelimuseo\, Kirkkokatu 22\, Kuopio\, 70100\, Suomi
ATTACH;FMTTYPE=image/jpeg:https://kuopionmuseot.fi/wp-content/uploads/2024/11/opastus-korttelin-joulu-2024-scaled.jpg
END:VEVENT
BEGIN:VEVENT
DTSTART;TZID=Europe/Helsinki:20251214T103000
DTEND;TZID=Europe/Helsinki:20251214T104500
DTSTAMP:20260423T093428
CREATED:20251126T140205Z
LAST-MODIFIED:20251126T140326Z
UID:10004049-1765708200-1765709100@kuopionmuseot.fi
SUMMARY:Lasten opastus: Joulun taikaa
DESCRIPTION:Kuopion museon sunnuntaisilla lasten opastuksilla on mukana myös ripaus joulun taikaa: arvaatkos\, mitä muita tonttuja kuin joulutonttuja on liikkeellä\, mitä jännää tapahtuukaan ensilumen aikaan\, miten joulua vietettiin savutuvassa tai miksi Joulupukki haluaa vaihtaa Petteri Punakuonon Petraksi? \nJouluisia tarinoita vaihtelevin sisällöin sunnuntaisin 30.11.\, 7.12.\,14.12.\, ja 21.12.\, klo 10:30 ja klo 15. Osallistua voi vaikka joka sunnuntai! \nOpastuksen kesto on noin 15 minuuttia\, opastukselle sekä museoon pääsevät alle 18-v lapset aina ilmaiseksi\, aikuiset museon pääsylipulla (15/10 €\, Museokortti ja Kaikukortti käyvät).
URL:https://kuopionmuseot.fi/tapahtuma/joulun-taikaa/2025-12-14/1/
LOCATION:Kuopion museo
ATTACH;FMTTYPE=image/jpeg:https://kuopionmuseot.fi/wp-content/uploads/2025/11/Joulun-taikaa.jpg
END:VEVENT
BEGIN:VEVENT
DTSTART;TZID=Europe/Helsinki:20251214T140000
DTEND;TZID=Europe/Helsinki:20251214T150000
DTSTAMP:20260423T093428
CREATED:20251119T084542Z
LAST-MODIFIED:20251119T084542Z
UID:10004036-1765720800-1765724400@kuopionmuseot.fi
SUMMARY:Yleisöopastus Kummaan keitokseen
DESCRIPTION:Kumma keitos – tarinoita kokoelmista\nMitä yhteistä on Kevät-veistoksella\, salaperäisellä yöllä 18.6.1988 ja kauppaneuvos Oskar Huttusella? Entä mitä tapahtuu\, kun kokoelmaähky iskee? KUMMAn uusi kokoelmanäyttely Kumma keitos ei tyydy ainoastaan tarjoilemaan teoksia taiteennälkään – se kutsuu sinut lusikoimaan tarinoita\, jotka ovat yhtä outoja ja yllättäviä kuin itse museon kokoelmat. \nNäyttelyssä sukelletaan syvälle taiteenkeräilyn salaisuuksiin: miksi ihminen haluaa omistaa\, säilöä ja järjestää? Miten syntyy kokoelma\, ja mitä tapahtuu\, kun keräily menee vähän… överiksi? Mukana on myös taidekaupan kiemuroita\, väärennösten villi maailma ja pulmia\, jotka saavat sinut epäilemään kaikkea – jopa omia silmiäsi. \nJa sitten ne aarteet. Ne\, joita ei ole koskaan ennen nähty näyttelyssä\, koska eihän sellaisia aarteita uskalleta esille laittaa. Kyllä\, nyt niitä on esillä. Tule katsomaan\, mitä kaikkea museon kätköistä voi löytyä. \nKumma keitos on totaalinen taidekokemus\, mutta samalla se on myös seikkailu. Näyttelyssä voit tehdä katsauksen taidekauppiaan peräkonttiin\, jollaisesta joku kaupunginisä on aikoinaan ostanut perävalotakuulla teoksia. Astu kipsikaappiin\, jossa ajan hammas on jo nakertanut omansa. Murentuneet teokset ja pölyksi hajonneet muodot kertovat kuiskaten siitä\, mitä joskus oli – ja mitä ei enää ole. Pääset vaikuttamaan itse myös näkemiisi teoksiin: Mediataidetilassa valitset itse mitä katsot.  Ja kyllä\, näyttelyssä on voita. Miksi? Miten se liittyy kokoelmiin\, selviää näyttelyssä. \nKumma keitos kutsuu sinut myös aikamatkalle\, pelaamaan Kummapulma-taideväärennöspeliä ja ehkä – vain ehkä – ratkaisemaan mysteerin\, joka on odottanut ratkaisijaansa vuodesta 1988. \n  \nOpastus kuuluu sisäänpääsyn hintaan \, alle 18-vuotiaat ilmaiseksi ja Museokortti käy maksuvälineeksi tottakai.
URL:https://kuopionmuseot.fi/tapahtuma/yleisoopastus-kummaan-keitokseen/2025-12-14/
ATTACH;FMTTYPE=image/jpeg:https://kuopionmuseot.fi/wp-content/uploads/2025/11/kumma-keitos_hero-kuva_2025-10-06.jpg
END:VEVENT
BEGIN:VEVENT
DTSTART;TZID=Europe/Helsinki:20251214T150000
DTEND;TZID=Europe/Helsinki:20251214T151500
DTSTAMP:20260423T093428
CREATED:20251126T140205Z
LAST-MODIFIED:20251126T140326Z
UID:10004050-1765724400-1765725300@kuopionmuseot.fi
SUMMARY:Lasten opastus: Joulun taikaa
DESCRIPTION:Kuopion museon sunnuntaisilla lasten opastuksilla on mukana myös ripaus joulun taikaa: arvaatkos\, mitä muita tonttuja kuin joulutonttuja on liikkeellä\, mitä jännää tapahtuukaan ensilumen aikaan\, miten joulua vietettiin savutuvassa tai miksi Joulupukki haluaa vaihtaa Petteri Punakuonon Petraksi? \nJouluisia tarinoita vaihtelevin sisällöin sunnuntaisin 30.11.\, 7.12.\,14.12.\, ja 21.12.\, klo 10:30 ja klo 15. Osallistua voi vaikka joka sunnuntai! \nOpastuksen kesto on noin 15 minuuttia\, opastukselle sekä museoon pääsevät alle 18-v lapset aina ilmaiseksi\, aikuiset museon pääsylipulla (15/10 €\, Museokortti ja Kaikukortti käyvät).
URL:https://kuopionmuseot.fi/tapahtuma/joulun-taikaa/2025-12-14/2/
LOCATION:Kuopion museo
ATTACH;FMTTYPE=image/jpeg:https://kuopionmuseot.fi/wp-content/uploads/2025/11/Joulun-taikaa.jpg
END:VEVENT
END:VCALENDAR