BEGIN:VCALENDAR
VERSION:2.0
PRODID:-//Kuopion museot - ECPv6.15.20//NONSGML v1.0//EN
CALSCALE:GREGORIAN
METHOD:PUBLISH
X-WR-CALNAME:Kuopion museot
X-ORIGINAL-URL:https://kuopionmuseot.fi
X-WR-CALDESC:Tapahtumat Kuopion museot
REFRESH-INTERVAL;VALUE=DURATION:PT1H
X-Robots-Tag:noindex
X-PUBLISHED-TTL:PT1H
BEGIN:VTIMEZONE
TZID:Europe/Helsinki
BEGIN:DAYLIGHT
TZOFFSETFROM:+0200
TZOFFSETTO:+0300
TZNAME:EEST
DTSTART:20240331T010000
END:DAYLIGHT
BEGIN:STANDARD
TZOFFSETFROM:+0300
TZOFFSETTO:+0200
TZNAME:EET
DTSTART:20241027T010000
END:STANDARD
BEGIN:DAYLIGHT
TZOFFSETFROM:+0200
TZOFFSETTO:+0300
TZNAME:EEST
DTSTART:20250330T010000
END:DAYLIGHT
BEGIN:STANDARD
TZOFFSETFROM:+0300
TZOFFSETTO:+0200
TZNAME:EET
DTSTART:20251026T010000
END:STANDARD
BEGIN:DAYLIGHT
TZOFFSETFROM:+0200
TZOFFSETTO:+0300
TZNAME:EEST
DTSTART:20260329T010000
END:DAYLIGHT
BEGIN:STANDARD
TZOFFSETFROM:+0300
TZOFFSETTO:+0200
TZNAME:EET
DTSTART:20261025T010000
END:STANDARD
END:VTIMEZONE
BEGIN:VEVENT
DTSTART;TZID=Europe/Helsinki:20251124T180000
DTEND;TZID=Europe/Helsinki:20251124T193000
DTSTAMP:20260423T093432
CREATED:20251031T122626Z
LAST-MODIFIED:20251105T152853Z
UID:10004028-1764007200-1764012600@kuopionmuseot.fi
SUMMARY:Seitikki\, hietalakki\, hiippo ja moni muu
DESCRIPTION:Tunnetko jo yleisimmät tatit\, rouskut ja vahverot mutta haluaisit kohentaa lajintunnistustaitojasi? Biologi ja tietokirjailija Jarkko Korhosen luennolla perehdytään hieman haastavampiin sienisukuihin ja -ryhmiin. Esimerkiksi seitikkien suvut komeilevat valtavalla lajimäärällään ja pienet hiipot jäävät metsässä herkästi huomaamatta – nahikkaista puhumattakaan. Myös vähemmän tunnetut sienet voivat valloittaa kauneudellaan tai erikoisuudellaan. Luento järjestetään yhteistyössä Savon sieniseuran kanssa. Luentoa voi myös seurata verkossa Kuopion museon Youtube-kanavalla.
URL:https://kuopionmuseot.fi/tapahtuma/seitikki-hietalakki-hiippo-ja-moni-muu/
LOCATION:Kuopion museo
ATTACH;FMTTYPE=image/jpeg:https://kuopionmuseot.fi/wp-content/uploads/2025/10/veriseitikki.jpg
END:VEVENT
BEGIN:VEVENT
DTSTART;TZID=Europe/Helsinki:20251126T170000
DTEND;TZID=Europe/Helsinki:20251126T180000
DTSTAMP:20260423T093432
CREATED:20250618T070305Z
LAST-MODIFIED:20250619T071444Z
UID:10003819-1764176400-1764180000@kuopionmuseot.fi
SUMMARY:Myyttiset-luento: Ihmisen ja luonnon voimat pohjoissavolaisessa loitsuperinteessä\, Siria Kohonen
DESCRIPTION:Myyttiset – metsän kätköissä -luentosarja:\n \nIhmisen ja luonnon voimat pohjoissavolaisessa loitsuperinteessä  \nLuento käsittelee 1800-luvulla ja 1900-luvun alussa Suomessa ja Karjalassa tunnettua kansanomaista loitsuperinnettä keskittyen erityisesti sen pohjoissavolaiseen variaatioon. Erityisesti tauteja parannettaessa oli tyypillistä\, että loitsija kokosi parannusrituaalissa sekä omaa voimaansa että ympäristön voimia ja käytti näitä loitsunsa tehona. Luennolla pohditaan sitä\, minkälaisessa vuorovaikutuksessa nämä voimat olivat keskenään. \nSiria Kohonen on folkloristi ja uskontotieteilijä\, joka toimii tutkijatohtorina Helsingin yliopistossa. Hänen keskeisiä tutkimuskohteitaan ovat historiallinen ja nykypäivän noituus\, kansanparannus ja näihin liittyvät luontosuhteet. \nKuvaaja: Anna Muotka\nLuentotilaisuus on monitoimitilassa katukerroksessa. Tila on esteetön.\nKeskiviikkoillan luennon tarjoaa yleisölle maksuttomana Kuopion Isänmaallinen Seura. \n  \nSyyskauden Myyttiset-luennot: \nLa 23.8. klo 15 Sonja Hukantaival: Sammakkoarkkuja ja värttinänkehriä – Taikaesineitä ja -perinteitä Pohjois-Savosta.  (Luento sisältyy museon pääsymaksuun 15/10 €\, alle 18-v maksutta.) \nLa 20.9.  klo 15 Ville Mantere: Hirven kansaa – Ihmisen ja hirven suhde kivikaudella. (Luento sisältyy museon pääsymaksuun 15/10 €\, alle 18-v maksutta.) \nKe 15.10. klo 17 Anna Fält: Laulava Luento –  Elias Lönnrot sekä Kalevalan laulut ja loitsut. (Vapaa pääsy.) \nLa 25.10. klo 15  Ilona Tuomi:  Vupes\, käärmeiden lumooja\, taikurien taikuri ja turjien turja. (Luento sisältyy museon pääsymaksuun 15/10 €\, alle 18-v maksutta.) \nKe 26.11. klo 17 Siria Kohonen: Ihmisen ja luonnon voimat pohjoissavolaisessa loitsuperinteessä. (Vapaa pääsy.) \n(Muutokset mahdollisia.)
URL:https://kuopionmuseot.fi/tapahtuma/myyttiset-luento-ihmisen-ja-luonnon-voimat/
LOCATION:Kuopion museo
ATTACH;FMTTYPE=image/jpeg:https://kuopionmuseot.fi/wp-content/uploads/2025/06/Myyttiset-luento-SiriaKohonen.jpg
END:VEVENT
BEGIN:VEVENT
DTSTART;TZID=Europe/Helsinki:20251126T170000
DTEND;TZID=Europe/Helsinki:20251126T180000
DTSTAMP:20260423T093432
CREATED:20250725T064726Z
LAST-MODIFIED:20250725T064726Z
UID:10003850-1764176400-1764180000@kuopionmuseot.fi
SUMMARY:Luontokirjalukupiiri
DESCRIPTION:Luontokirjalukupiiri kokoontuu kerran kuukaudessa keskiviikkoisin klo 17.00–18.00. Lukupiirissä tutustutaan ajankohtaisiin teoksiin ja keskustellaan niiden herättämistä ajatuksista. Kirjallisuus- tai ympäristöasiantuntemusta ei tarvita\, ja mukaan voi tulla yhdelle tai useammalle kerralle. Lukupiiri toimii hyvin myös kirjavinkkauksena – keskustelun kuunteleminen on mainio tapa löytää kiinnostavaa luettavaa! \n\nLukupiiri järjestetään verkossa Zoom-alustalla osoitteessa https://zoom.us/j/99576520794\n\nEnnakkoilmoittautumista ei tarvita. Lisätietoja saa osoitteesta aikuistenosasto.kirjasto@kuopio.fi \n\nKe 26.11.2025\nOhtonen\, Kimmo: Tunturikettu – Pohjolan naalin tarina
URL:https://kuopionmuseot.fi/tapahtuma/luontokirjalukupiiri-27/
LOCATION:Zoom
ATTACH;FMTTYPE=image/jpeg:https://kuopionmuseot.fi/wp-content/uploads/2025/07/Arctic_fox_6375712425.jpg
END:VEVENT
BEGIN:VEVENT
DTSTART;TZID=Europe/Helsinki:20251127T140000
DTEND;TZID=Europe/Helsinki:20251127T163000
DTSTAMP:20260423T093432
CREATED:20250912T053900Z
LAST-MODIFIED:20250912T055209Z
UID:10003994-1764252000-1764261000@kuopionmuseot.fi
SUMMARY:Avoin kuvapaja
DESCRIPTION:Kaikenikäisille aikuisille suunnatut avoimet kuvapajat\, jossa taiteen keinoin tapahtuvaan tekemiseen syvennytään eri teemojen kautta. Aiempaa kokemusta piirtämisestä tai maalaamisesta ei tarvita. \nEi ennakkoilmoittautumista\, mukaan voi tulla silloin kun itselle sopii. Pajatoiminta on maksutonta ja taidetarvikkeet löytyvät paikan päältä. Huom! Paikkoja oppimistilassa on rajoitettu määrä. \nTORSTAIN KUVAPAJA KLO 14‒16.30 Kuopion museon katukerroksen oppimistilassa seuraavina päivinä: 18.9. / 25.9. / 2.10. / 9.10. / SYYSTAUKO 2vkoa / 30.10. / 6.11. / 13.11. / 20.11. / 27.11. / 4.12. / 11.12. / 18.12. \nJärj. Kuopion kaupunki\, Kansalaistoiminnan palvelut. Yhteistyössä Kuopion museo.
URL:https://kuopionmuseot.fi/tapahtuma/avoinkuvapaja-2-2-2/2025-11-27/
LOCATION:Kuopion museo
ATTACH;FMTTYPE=image/jpeg:https://kuopionmuseot.fi/wp-content/uploads/2024/02/Kuvapaja1.jpg
END:VEVENT
BEGIN:VEVENT
DTSTART;TZID=Europe/Helsinki:20251129T130000
DTEND;TZID=Europe/Helsinki:20251129T140000
DTSTAMP:20260423T093432
CREATED:20250906T080723Z
LAST-MODIFIED:20250910T113954Z
UID:10003984-1764421200-1764424800@kuopionmuseot.fi
SUMMARY:Opastus: Talojen tarinoita
DESCRIPTION:Talojen tarinoita -näyttelyopastus esittelee jo lähes hävinnyttä puutalokaupunkia. Puu-Kuopio oli voimissaan 1900-luvun puoliväliin asti\, jolloin jälleenrakennuskausi ja kaupungistuminen muuttivat kaupunkikuvaa merkittävästi. Opastuksella muistellaan arkista elämää puutalokaupungissa siellä asuneiden silmin ja tutustutaan siihen valokuvien avulla. \nLauantaisin klo 13. Opastus sisältyy museon pääsymaksuun (8/5 €\, Museokortti\, Kaikukortti\, alle 18-vuotiaat maksutta). \nTalojen tarinoita -opastus on osa Kuopio250-juhlavuoden ohjelmaa. \nTalojen tarinoita – Puutalokaupungin jäljillä 25.4.2025-26.4.2026 \nNäyttelyssä valokuvat ja muistelmat nivoutuvat yhteen luoden eloisan kokonaisuuden\, joka kertoo kaupungin rakennushistoriasta sekä kaupunkikuvan muutoksesta. Näyttely esittelee Kuopion purettuja sekä edelleen olemassa olevia puutaloja piirtäen kuvaa vilkkaasta kaupungista\, jonka kaduilla ihmiset toimittivat arkisia askareitaan. Kuopiossa lapsuutensa ja nuoruutensa 1940–1960-luvuilla viettäneet ihmiset kertovat millaista oli elää puutalojen täyttämässä kaupungissa.
URL:https://kuopionmuseot.fi/tapahtuma/opastus-talojen-tarinoita-2/2025-11-29/
LOCATION:Korttelimuseo\, Kirkkokatu 22\, Kuopio\, 70100\, Suomi
ATTACH;FMTTYPE=image/png:https://kuopionmuseot.fi/wp-content/uploads/2025/04/Talojen_tarinoita_opastus.png
END:VEVENT
BEGIN:VEVENT
DTSTART;TZID=Europe/Helsinki:20251129T140000
DTEND;TZID=Europe/Helsinki:20251129T144500
DTSTAMP:20260423T093432
CREATED:20250107T091349Z
LAST-MODIFIED:20251211T134350Z
UID:10003895-1764424800-1764427500@kuopionmuseot.fi
SUMMARY:Opastus: Muuttuva luonto
DESCRIPTION:Muuttuva luonto -näyttelyssä matkustetaan itäsuomalaisen luonnon historiaan ja nykytilaan. Matka alkaa kaukaa menneisyyden mammuttiarolta\, kiertelee luonnonmetsän siimeksessä ja järvien syvänteissä ja päätyy lopulta ihmisen muokkaamaan maisemaan. Millainen mahtaa olla luontomme tulevaisuus? \nTule mukaan opastukselle tutustumaan itäsuomalaisen luonnon monivaiheiseen tarinaan! \nOpastus sisältyy pääsylipun hintaan\, alle 18-vuotiaat ilmaiseksi. Museokortti ja Kaikukortti käyvät. Opastus on kestoltaan noin 45 minuuttia.
URL:https://kuopionmuseot.fi/tapahtuma/opastus-muuttuva-luonto-2/2025-11-29/
LOCATION:Kuopion museo
ATTACH;FMTTYPE=image/jpeg:https://kuopionmuseot.fi/wp-content/uploads/2023/03/Muuttuvaluonto-opastus.jpg
ORGANIZER;CN="Kuopion museo":MAILTO:kuopionmuseo@kuopio.fi
END:VEVENT
BEGIN:VEVENT
DTSTART;TZID=Europe/Helsinki:20251130T103000
DTEND;TZID=Europe/Helsinki:20251130T104500
DTSTAMP:20260423T093432
CREATED:20251126T140205Z
LAST-MODIFIED:20251126T140326Z
UID:10004045-1764498600-1764499500@kuopionmuseot.fi
SUMMARY:Lasten opastus: Joulun taikaa
DESCRIPTION:Kuopion museon sunnuntaisilla lasten opastuksilla on mukana myös ripaus joulun taikaa: arvaatkos\, mitä muita tonttuja kuin joulutonttuja on liikkeellä\, mitä jännää tapahtuukaan ensilumen aikaan\, miten joulua vietettiin savutuvassa tai miksi Joulupukki haluaa vaihtaa Petteri Punakuonon Petraksi? \nJouluisia tarinoita vaihtelevin sisällöin sunnuntaisin 30.11.\, 7.12.\,14.12.\, ja 21.12.\, klo 10:30 ja klo 15. Osallistua voi vaikka joka sunnuntai! \nOpastuksen kesto on noin 15 minuuttia\, opastukselle sekä museoon pääsevät alle 18-v lapset aina ilmaiseksi\, aikuiset museon pääsylipulla (15/10 €\, Museokortti ja Kaikukortti käyvät).
URL:https://kuopionmuseot.fi/tapahtuma/joulun-taikaa/2025-11-30/1/
LOCATION:Kuopion museo
ATTACH;FMTTYPE=image/jpeg:https://kuopionmuseot.fi/wp-content/uploads/2025/11/Joulun-taikaa.jpg
END:VEVENT
BEGIN:VEVENT
DTSTART;TZID=Europe/Helsinki:20251130T140000
DTEND;TZID=Europe/Helsinki:20251130T150000
DTSTAMP:20260423T093432
CREATED:20251119T084542Z
LAST-MODIFIED:20251119T084542Z
UID:10004035-1764511200-1764514800@kuopionmuseot.fi
SUMMARY:Yleisöopastus Kummaan keitokseen
DESCRIPTION:Kumma keitos – tarinoita kokoelmista\nMitä yhteistä on Kevät-veistoksella\, salaperäisellä yöllä 18.6.1988 ja kauppaneuvos Oskar Huttusella? Entä mitä tapahtuu\, kun kokoelmaähky iskee? KUMMAn uusi kokoelmanäyttely Kumma keitos ei tyydy ainoastaan tarjoilemaan teoksia taiteennälkään – se kutsuu sinut lusikoimaan tarinoita\, jotka ovat yhtä outoja ja yllättäviä kuin itse museon kokoelmat. \nNäyttelyssä sukelletaan syvälle taiteenkeräilyn salaisuuksiin: miksi ihminen haluaa omistaa\, säilöä ja järjestää? Miten syntyy kokoelma\, ja mitä tapahtuu\, kun keräily menee vähän… överiksi? Mukana on myös taidekaupan kiemuroita\, väärennösten villi maailma ja pulmia\, jotka saavat sinut epäilemään kaikkea – jopa omia silmiäsi. \nJa sitten ne aarteet. Ne\, joita ei ole koskaan ennen nähty näyttelyssä\, koska eihän sellaisia aarteita uskalleta esille laittaa. Kyllä\, nyt niitä on esillä. Tule katsomaan\, mitä kaikkea museon kätköistä voi löytyä. \nKumma keitos on totaalinen taidekokemus\, mutta samalla se on myös seikkailu. Näyttelyssä voit tehdä katsauksen taidekauppiaan peräkonttiin\, jollaisesta joku kaupunginisä on aikoinaan ostanut perävalotakuulla teoksia. Astu kipsikaappiin\, jossa ajan hammas on jo nakertanut omansa. Murentuneet teokset ja pölyksi hajonneet muodot kertovat kuiskaten siitä\, mitä joskus oli – ja mitä ei enää ole. Pääset vaikuttamaan itse myös näkemiisi teoksiin: Mediataidetilassa valitset itse mitä katsot.  Ja kyllä\, näyttelyssä on voita. Miksi? Miten se liittyy kokoelmiin\, selviää näyttelyssä. \nKumma keitos kutsuu sinut myös aikamatkalle\, pelaamaan Kummapulma-taideväärennöspeliä ja ehkä – vain ehkä – ratkaisemaan mysteerin\, joka on odottanut ratkaisijaansa vuodesta 1988. \n  \nOpastus kuuluu sisäänpääsyn hintaan \, alle 18-vuotiaat ilmaiseksi ja Museokortti käy maksuvälineeksi tottakai.
URL:https://kuopionmuseot.fi/tapahtuma/yleisoopastus-kummaan-keitokseen/2025-11-30/
ATTACH;FMTTYPE=image/jpeg:https://kuopionmuseot.fi/wp-content/uploads/2025/11/kumma-keitos_hero-kuva_2025-10-06.jpg
END:VEVENT
BEGIN:VEVENT
DTSTART;TZID=Europe/Helsinki:20251130T150000
DTEND;TZID=Europe/Helsinki:20251130T151500
DTSTAMP:20260423T093432
CREATED:20251126T140205Z
LAST-MODIFIED:20251126T140326Z
UID:10004046-1764514800-1764515700@kuopionmuseot.fi
SUMMARY:Lasten opastus: Joulun taikaa
DESCRIPTION:Kuopion museon sunnuntaisilla lasten opastuksilla on mukana myös ripaus joulun taikaa: arvaatkos\, mitä muita tonttuja kuin joulutonttuja on liikkeellä\, mitä jännää tapahtuukaan ensilumen aikaan\, miten joulua vietettiin savutuvassa tai miksi Joulupukki haluaa vaihtaa Petteri Punakuonon Petraksi? \nJouluisia tarinoita vaihtelevin sisällöin sunnuntaisin 30.11.\, 7.12.\,14.12.\, ja 21.12.\, klo 10:30 ja klo 15. Osallistua voi vaikka joka sunnuntai! \nOpastuksen kesto on noin 15 minuuttia\, opastukselle sekä museoon pääsevät alle 18-v lapset aina ilmaiseksi\, aikuiset museon pääsylipulla (15/10 €\, Museokortti ja Kaikukortti käyvät).
URL:https://kuopionmuseot.fi/tapahtuma/joulun-taikaa/2025-11-30/2/
LOCATION:Kuopion museo
ATTACH;FMTTYPE=image/jpeg:https://kuopionmuseot.fi/wp-content/uploads/2025/11/Joulun-taikaa.jpg
END:VEVENT
END:VCALENDAR