BEGIN:VCALENDAR
VERSION:2.0
PRODID:-//Kuopion museot - ECPv6.15.20//NONSGML v1.0//EN
CALSCALE:GREGORIAN
METHOD:PUBLISH
X-WR-CALNAME:Kuopion museot
X-ORIGINAL-URL:https://kuopionmuseot.fi
X-WR-CALDESC:Tapahtumat Kuopion museot
REFRESH-INTERVAL;VALUE=DURATION:PT1H
X-Robots-Tag:noindex
X-PUBLISHED-TTL:PT1H
BEGIN:VTIMEZONE
TZID:Europe/Helsinki
BEGIN:DAYLIGHT
TZOFFSETFROM:+0200
TZOFFSETTO:+0300
TZNAME:EEST
DTSTART:20240331T010000
END:DAYLIGHT
BEGIN:STANDARD
TZOFFSETFROM:+0300
TZOFFSETTO:+0200
TZNAME:EET
DTSTART:20241027T010000
END:STANDARD
BEGIN:DAYLIGHT
TZOFFSETFROM:+0200
TZOFFSETTO:+0300
TZNAME:EEST
DTSTART:20250330T010000
END:DAYLIGHT
BEGIN:STANDARD
TZOFFSETFROM:+0300
TZOFFSETTO:+0200
TZNAME:EET
DTSTART:20251026T010000
END:STANDARD
BEGIN:DAYLIGHT
TZOFFSETFROM:+0200
TZOFFSETTO:+0300
TZNAME:EEST
DTSTART:20260329T010000
END:DAYLIGHT
BEGIN:STANDARD
TZOFFSETFROM:+0300
TZOFFSETTO:+0200
TZNAME:EET
DTSTART:20261025T010000
END:STANDARD
END:VTIMEZONE
BEGIN:VEVENT
DTSTART;TZID=Europe/Helsinki:20251119T100000
DTEND;TZID=Europe/Helsinki:20251119T103000
DTSTAMP:20260423T093431
CREATED:20251105T145416Z
LAST-MODIFIED:20251105T145416Z
UID:10004030-1763546400-1763548200@kuopionmuseot.fi
SUMMARY:Kuopion synttärisatutunti
DESCRIPTION:Tervetuloa juhlimaan 250-vuotiasta kaupunkiamme Kuopion pääkirjaston ja Kuopion museon yhteiselle satutunnille! Synttärisatutunnin aiheena on tietenkin Kuopion kiehtova historia ja siihen tutustutaan tutulla Kantti-reseptillä eli tietoa ja tarinoita yhdistelemällä. \nSatutunti järjestetään ke 19.11. klo 10  Kuopion museon monitoimitilassa ja se kestää noin puolituntia. Paikalle voi saapua klo 9.40 alkaen. Osallistuminen on maksutonta ja parhaiten sisällöt soveltuvat 3–7-vuotiaille.
URL:https://kuopionmuseot.fi/tapahtuma/kuopion-synttarisatutunti/
LOCATION:Kuopion museo
ATTACH;FMTTYPE=image/jpeg:https://kuopionmuseot.fi/wp-content/uploads/2025/11/Synttarisatutunti.jpg
END:VEVENT
BEGIN:VEVENT
DTSTART;TZID=Europe/Helsinki:20251119T170000
DTEND;TZID=Europe/Helsinki:20251119T180000
DTSTAMP:20260423T093431
CREATED:20251024T120236Z
LAST-MODIFIED:20251024T120948Z
UID:10004025-1763571600-1763575200@kuopionmuseot.fi
SUMMARY:Pääkalloja Pohjois-Savosta ja Pohjois-Karjalasta
DESCRIPTION:Luennoitsija FT\, Dosentti Ulla Nordfors \nElokuussa 2024 Ruotsista palautettiin Suomeen 82 pääkalloa\, jotka olivat päätyneet Karoliinisen instituutin anatomiseen kokoelmaan 1800-luvulla. Mukana oli myös yksilöitä Pielavedeltä\, Rautalammilta\, Kiuruvedeltä ja Enosta. Kaikista kalloista otettuja näytteitä tutkitaan parhaillaan Koneen säätiön rahoittamassa tutkimushankkeessa\, jossa selvitetään anatomisiin kokoelmiin päätyneiden ihmisten elämäntarinoita. Tervetuloa kuulemaan lisää itäsuomalaisten kallojen matkasta ja siitä\, mitä monitieteiset tutkimusmenetelmät voivat kertoa menneisyyden ihmisistä Pohjois-Savossa ja Pohjois-Karjalassa. \nUlla Nordfors on rautakauden\, keskiajan ja varhaismodernin ajan hautausten arkeologiaan erikoistunut arkeologi. Hän tutkii myös ihmisten elämänhistoriaa ja elintapoja sekä sairauksien historiaa monitieteisin menetelmin. \nLuento pidetään Kuopion museon monitoimitilassa\, joka on esteetön. Luentoa on mahdollista seurata myös striimattuna Kuopion museon Youtube-kanavalla. Striimausta ei tallenneta\, joten sitä ei voi katsoa jälkikäteen. \nTilaisuus järjestetään yhteistyössä Kuopion isänmaallisen seuran kanssa ja se on maksuton yleisölle.
URL:https://kuopionmuseot.fi/tapahtuma/paakalloja-pohjois-savosta-ja-pohjois-karjalasta/
ATTACH;FMTTYPE=image/jpeg:https://kuopionmuseot.fi/wp-content/uploads/2025/10/Pangansalo_kartta.jpg
END:VEVENT
BEGIN:VEVENT
DTSTART;TZID=Europe/Helsinki:20251119T170000
DTEND;TZID=Europe/Helsinki:20251119T190000
DTSTAMP:20260423T093431
CREATED:20250127T112140Z
LAST-MODIFIED:20260203T102719Z
UID:10003913-1763571600-1763578800@kuopionmuseot.fi
SUMMARY:Taidetyöpaja sukupuoli- ja seksuaalivähemmistöön kuuluville / Art Workshops for Queer People
DESCRIPTION:Drawing Out Loud – Taidetyöpaja sukupuoli- ja seksuaalivähemmistöön kuuluville \nKoetko kuuluvasi seksuaali- ja sukupuolivähemmistöön tai pohdit näitä asioita? Tervetuloa piirtämään\, tapaamaan ystäviä\, lepäämään\, kuuntelemaan\, olemaan\, unohtamaan\, tyhjentämään pääsi\, tekemään virheitä\, nauramaan ääneen\, jakamaan ajatuksia ja olemaan queer hyvässä ja luovassa seurassa! Tänä keväänä Drawing out loud -työpajassa luodaan uusia piirroksia sekä yksin että yhdessä. Tule mukaan kerran tai osallistu koko kevään ajan! \nKysymyksiä ja ilmoittautuminen mukaan: emmavilina@gmail.com \nTyöpajat ovat osallistujille maksuttomia. Aiempaa osaamista tai kokemusta taiteellisesta työskentelystä ei tarvita. Työpajojen ikäraja on 18 vuotta. \nDRAWING OUT LOUD: Taidetyöpajat seksuaali- ja sukupuolivähemmistöille \nMaksuton aikuisten ryhmä\, yli 18 – vuotiaat\nKeskiviikot  11.2. / 25.2 / 11.3 / 25.3 / 8.4 / 22.4. / 6.5. / 20.5. klo 16-18\nKuopion Museon oppimistilassa\nIlmoittautuminen & info: ohjaaja Emma Fält\, emmavilina@gmail.com / https://emmafalt.net/ \nYhteistyössä Kuopion Kaupunki ja Kuopion Museo \nYstävällisin terveisin\,\nOhjaaja\, Emma Fält (They / Them) \n**** \nIn English: \nDrawing Out Loud\nArt workshops for queer people \nIn the workshops aimed at adults\, we explore the world by drawing and through various listening and sensing exercises. We reflect on physicality\, diversity\, being in different spaces and how we perceive ourselves in them. This spring\, we will work on various listening exercises and think about interaction between human and non-human. Let’s start the year by going through together what kind of workshops are coming up. \nThe key to working is interaction and the opportunity to create a space where those who perceive themselves as queer* can express themselves and get to know each other through making\, as well as search and find suitable forms of artistic expression. Come along and bring your friends! \nThe workshops are free of charge for the participants. Previous knowledge or experience in artistic work\, neither tools are not required. The age limit for the workshops is 18 years. \nDRAWING OUT LOUD: Art workshops for sexual and  gender minorities\nFree adult group\, +18 years old\nWednesdays 11.2. / 25.2 / 11.3 / 25.3 / 8.4 / 22.4. / 6.5. / 20.5  16-18\nKuopio MUSEUM\, Pedagogical space\nSign up & info: Facilitator Emma Fält\, emmavilina@gmail.com / https://emmafalt.net/ \nTogether with Kuopio City and Kuopio Museum \nKind regards\, Artist and teacher\, Emma Fält (They / Them)
URL:https://kuopionmuseot.fi/tapahtuma/taidetyopaja-sukupuoli-ja-seksuaalivahemmistoon-kuuluville/2025-11-19/
LOCATION:Kuopion museo
ATTACH;FMTTYPE=image/jpeg:https://kuopionmuseot.fi/wp-content/uploads/2025/01/Queer-taidepaja-kuva.jpg
END:VEVENT
BEGIN:VEVENT
DTSTART;TZID=Europe/Helsinki:20251120T140000
DTEND;TZID=Europe/Helsinki:20251120T163000
DTSTAMP:20260423T093431
CREATED:20250912T053900Z
LAST-MODIFIED:20250912T055209Z
UID:10003993-1763647200-1763656200@kuopionmuseot.fi
SUMMARY:Avoin kuvapaja
DESCRIPTION:Kaikenikäisille aikuisille suunnatut avoimet kuvapajat\, jossa taiteen keinoin tapahtuvaan tekemiseen syvennytään eri teemojen kautta. Aiempaa kokemusta piirtämisestä tai maalaamisesta ei tarvita. \nEi ennakkoilmoittautumista\, mukaan voi tulla silloin kun itselle sopii. Pajatoiminta on maksutonta ja taidetarvikkeet löytyvät paikan päältä. Huom! Paikkoja oppimistilassa on rajoitettu määrä. \nTORSTAIN KUVAPAJA KLO 14‒16.30 Kuopion museon katukerroksen oppimistilassa seuraavina päivinä: 18.9. / 25.9. / 2.10. / 9.10. / SYYSTAUKO 2vkoa / 30.10. / 6.11. / 13.11. / 20.11. / 27.11. / 4.12. / 11.12. / 18.12. \nJärj. Kuopion kaupunki\, Kansalaistoiminnan palvelut. Yhteistyössä Kuopion museo.
URL:https://kuopionmuseot.fi/tapahtuma/avoinkuvapaja-2-2-2/2025-11-20/
LOCATION:Kuopion museo
ATTACH;FMTTYPE=image/jpeg:https://kuopionmuseot.fi/wp-content/uploads/2024/02/Kuvapaja1.jpg
END:VEVENT
BEGIN:VEVENT
DTSTART;TZID=Europe/Helsinki:20251120T150000
DTEND;TZID=Europe/Helsinki:20251120T153000
DTSTAMP:20260423T093431
CREATED:20250321T082307Z
LAST-MODIFIED:20250823T094640Z
UID:10003907-1763650800-1763652600@kuopionmuseot.fi
SUMMARY:Myyttinen vartti
DESCRIPTION:Myyttiset vartit tarjoavat lyhyehköjä ja ytimekkäitä tietoiskuja Myyttiset – metsän kätköissä -näyttelyn teemoihin liittyen. Varteilla tutustutaan esimerkiksi arkeologisiin löytöihin\, geologisiin ilmiöihin\, sekä kansanperinteen ja -uskon erityispiirteisiin ja ihmeellisyyksiin. \nTervetuloa kuulolle torstaisin klo 15! Vartille pääsee mukaan museon pääsylipulla. \nSYKSYN VARTIT (ohjelmamuutokset ja -täydennykset mahdollisia): \n4.9.2025 klo 15 Suo siellä\, vetelä täällä – suoluonnon monimuotoisuus ja merkitys kansanperinteessä\n25.9.2025 klo 15 Faustista Uhrijuhlaan – katsaus Myyttiset-näyttelyn teemoja sisältäviin elokuviin\n2.10.2025 klo 15 Paranvoi ja sudenmaito\n30.10.2025 klo 15 Maitoa maahan maahisille\n20.11.2025 klo 15 Ankat Sampojahdissa (ja muita suomalaisia myyttejä populaarikulttuurissa)  \n  \nJO TOTEUTUT VARTIT: \n27.3.2025 klo 15 Salamaniskuja ja tulipaloja vastaan – kivikautisen esineiden käyttö taikuudessa ja lääkinnässä \nMikä kiviesine on? Ja miksi sillä katsottiin olevan parantavia ominaisuuksia? Kivikautisiin esineisiin on liitetty erilaisia uskomuksia ja tarinoita\, joilla kiviesineiden synty ja olemassaolo haluttiin selittää. Kiviesineisiin liitettiin myös uskomuksia niiden parantavista ja suojaavista ominaisuuksista. \n3.4.2025 klo 15 Pirunpelloista hiidenkirnuihin\nGeologisen luonnonperinnön myyttisyys: millaisia syntytarinoita kansanperinteessä on keksitty eri geologisille muodostumille ja piirteille\, ja mikä on totuus myyttien taustalla? \n10.4.2025 klo 15 Varhaisimmat muistiin kirjoitetut loitsut Pohjois-Savosta\nItäsuomalainen loitsuperinne säilytti pitkään elinvoimansa. Sitä tallentui erilaisiin lähdeaineistoihin satojen vuosien ajan. Tule tutustumaan kaikkein vanhimpiin pohjoissavolaisiin loitsuihin! \n17.4.2025 klo 15 Metsän väki\nKarhun hampaat ja kynnet\, metsälähteet\, uhrilehdot\, käärmeet… Muun muassa näitä asioita ja paikkoja on pidetty kansanperinteessä väkevinä. Mutta mitä kansanuskon väki ylipäätänsä on\, mistä kaikkialta sitä löytyy\, ja mihin sitä tarvitaan? \n24.4.2025 klo 15 Käärmeiden käräjäkivet ja uhrikupit – kivet ja kalliot suomalaisessa kansanuskossa\nMitä mineraaleja ja kivilajeja väekkäiksi koetuista kivistä ja kallioista löytyy\, ja miten ne ovat syntyneet? Ovatko uhrikuppeina käytetyt painaumat kivissä ja kallioissa syntyneet luonnollisesti vai ovatko ne ihmiskätten töitä? \n8.5.2025 klo 15 Kristillisyyden varhainen vaikutus Pohjois-Savon kansanuskoon\nKansanuskoon liittyvät tiedot ja tavat siirtyivät sukupolvelta toiselle. Jokainen aika lisäsi niihin omat kerroksensa. Millaisen jäljen maailmankuvan mullistanut kristinusko jätti paikalliseen perinteeseen? \n15.5.2025 klo 15 Kansanuskon kauheudet \nKuka on syypää tauteihin\, kuka houkuttelee äkkinäiset järven syövereihin hukuksiin\, millaista porukkaa kalmanväki oikein on? Tämänkertaisella vartilla perehdytään muutamiin kansanuskon ikävämpiin hahmoihin. \n22.5.2025 klo 15 Myyttien viestit menneisyydestä\nVälittyvätkö muinaiset luonnonkatastrofit meillä ja maailmalla myyttisissä tarinoissa? Onko Väinämöisen polvenhaavasta kertovassa kansanrunossa yhteys vedenpaisumusmyytteihin ja edelleen todellisiin tapahtumiin\, esimerkiksi Vuoksen puhkeamiseen noin 6000 vuotta sitten?
URL:https://kuopionmuseot.fi/tapahtuma/myyttinen-vartti/2025-11-20/
LOCATION:Kuopion museo
ATTACH;FMTTYPE=image/jpeg:https://kuopionmuseot.fi/wp-content/uploads/2025/03/Myyttinen-vartti_kansikuva.jpg
ORGANIZER;CN="Kuopion museo":MAILTO:kuopionmuseo@kuopio.fi
END:VEVENT
BEGIN:VEVENT
DTSTART;TZID=Europe/Helsinki:20251122T103000
DTEND;TZID=Europe/Helsinki:20251122T110000
DTSTAMP:20260423T093431
CREATED:20250815T045953Z
LAST-MODIFIED:20251211T133050Z
UID:10003884-1763807400-1763809200@kuopionmuseot.fi
SUMMARY:Myyttiset-näyttelyopastus lapsille
DESCRIPTION:Lapsille suunnattu Myyttiset-näyttelyopastus kuljettaa oppaan johdolla pienet kulkijat halki entisaikojen metsän. Matkalla kuullaan esimerkiksi esivanhempiemme elämään kuuluneista uskomuksista\, tutustutaan monenlaisiin metsän eläimiin ja olentoihin sekä ihmetellään yhdessä niihin liittyviä tarinoita.  \nKierros kestää noin 30 minuuttia ja se on parittomien viikkojen lauantaisin (13.9.\, 27.9.\, 11.10.\, 25.10.\, 8.11.\, 22.11.\, 20.12.\, 3.1.2026\, 17.1.2026 sekä näyttelyn viimeisenä viikonloppuna la 24.1.2026) klo 10.30. Lähtö lipunmyynnin läheisyydestä. \nOpastus sisältyy museon pääsymaksuun (15/10 €\, alle 18-v maksutta)\, Museokortti ja Kaikukortti käyvät. \n  \nKuopion museon näyttely Myyttiset – metsän kätköissä sekä sen oheistapahtumat ovat osa Kuopio250-juhlavuotta.
URL:https://kuopionmuseot.fi/tapahtuma/myyttiset-nayttelyopastus-lapsille/2025-11-22/
LOCATION:Kuopion museo
ATTACH;FMTTYPE=image/jpeg:https://kuopionmuseot.fi/wp-content/uploads/2025/08/Myyttiset-LASTEN-OPASTUS.jpg
END:VEVENT
BEGIN:VEVENT
DTSTART;TZID=Europe/Helsinki:20251122T110000
DTEND;TZID=Europe/Helsinki:20251122T123000
DTSTAMP:20260423T093431
CREATED:20250618T095815Z
LAST-MODIFIED:20260206T080922Z
UID:10003824-1763809200-1763814600@kuopionmuseot.fi
SUMMARY:Tanssitupa
DESCRIPTION:Tanssituvissa opetellaan kansanomaisia pari- ja ryhmätansseja sekä improvisoidaan matalalla kynnyksellä\, livemusiikin tahtiin. Vetäjinä tanssitaiteilija Outi Markkula ja muusikko Jenni Venäläinen. \nKevätkauden Tanssituvat:\n21.3. valssi ja sottiisi\n18.4. polska\n16.5. masurkka ja polkka\n13.6. karjalaiset tanssit \nAiempaa kokemusta tai omaa tanssiparia ei tarvitse olla. Vapaa pääsy. \n \n 
URL:https://kuopionmuseot.fi/tapahtuma/tanssitupa/2025-11-22/
LOCATION:Kuopion museo
ATTACH;FMTTYPE=image/jpeg:https://kuopionmuseot.fi/wp-content/uploads/2025/06/Tanssitupa-kuva-Outi-Markkula_netti.jpg
END:VEVENT
BEGIN:VEVENT
DTSTART;TZID=Europe/Helsinki:20251122T130000
DTEND;TZID=Europe/Helsinki:20251122T140000
DTSTAMP:20260423T093431
CREATED:20250906T080723Z
LAST-MODIFIED:20250910T113954Z
UID:10003926-1763816400-1763820000@kuopionmuseot.fi
SUMMARY:Opastus: Talojen tarinoita
DESCRIPTION:Talojen tarinoita -näyttelyopastus esittelee jo lähes hävinnyttä puutalokaupunkia. Puu-Kuopio oli voimissaan 1900-luvun puoliväliin asti\, jolloin jälleenrakennuskausi ja kaupungistuminen muuttivat kaupunkikuvaa merkittävästi. Opastuksella muistellaan arkista elämää puutalokaupungissa siellä asuneiden silmin ja tutustutaan siihen valokuvien avulla. \nLauantaisin klo 13. Opastus sisältyy museon pääsymaksuun (8/5 €\, Museokortti\, Kaikukortti\, alle 18-vuotiaat maksutta). \nTalojen tarinoita -opastus on osa Kuopio250-juhlavuoden ohjelmaa. \nTalojen tarinoita – Puutalokaupungin jäljillä 25.4.2025-26.4.2026 \nNäyttelyssä valokuvat ja muistelmat nivoutuvat yhteen luoden eloisan kokonaisuuden\, joka kertoo kaupungin rakennushistoriasta sekä kaupunkikuvan muutoksesta. Näyttely esittelee Kuopion purettuja sekä edelleen olemassa olevia puutaloja piirtäen kuvaa vilkkaasta kaupungista\, jonka kaduilla ihmiset toimittivat arkisia askareitaan. Kuopiossa lapsuutensa ja nuoruutensa 1940–1960-luvuilla viettäneet ihmiset kertovat millaista oli elää puutalojen täyttämässä kaupungissa.
URL:https://kuopionmuseot.fi/tapahtuma/opastus-talojen-tarinoita-2/2025-11-22/
LOCATION:Korttelimuseo\, Kirkkokatu 22\, Kuopio\, 70100\, Suomi
ATTACH;FMTTYPE=image/png:https://kuopionmuseot.fi/wp-content/uploads/2025/04/Talojen_tarinoita_opastus.png
END:VEVENT
BEGIN:VEVENT
DTSTART;TZID=Europe/Helsinki:20251122T150000
DTEND;TZID=Europe/Helsinki:20251122T160000
DTSTAMP:20260423T093431
CREATED:20250909T073603Z
LAST-MODIFIED:20251103T102029Z
UID:10003980-1763823600-1763827200@kuopionmuseot.fi
SUMMARY:LUENTO: Perinteen tuho ja hyvinvoinnin perintö 
DESCRIPTION:Perinteen tuho ja hyvinvoinnin perintö\nLuennoitsija Panu Savolainen (Luentomaksu 10 €) \nMonet Euroopan ja Suomen kaupunkikeskustat kokivat suuria muutoksia 1960–1970-luvuilla\, kun historiallista rakennuskantaa purettiin modernien uudistusten tieltä. Luennolla tarkastellaan puukaupunkinostalgian erilaisia ulottuvuuksia sekä sitä\, miten pitäisi suhtautua kiisteltyyn massatuotettuun asuntokantaan\, joka on tällä hetkellä samanlaisella vedenjakajalla kuin aikanaan kulahtaneina pidetyt ja inhotut puukaupungit. \nApulaisprofessori\, dosentti Panu Savolainen on arkkitehtuurin historian ja rakennusperinnön asiantuntija\, joka on perehtynyt erityisesti kaupunkikuvan muutoksiin ja rakennusperinnön yhteiskunnallisiin ulottuvuuksiin. Hänen tutkimuksensa käsittelevät muun muassa sitä\, miten rakennettu ympäristö heijastaa hyvinvointivaltion kehitystä ja miten menneisyyden purkaminen ja säilyttäminen kietoutuvat toisiinsa. \nVoit osallistua luennolle myös verkossa. Etäluennon liput (5 €) ovat myynnissä Kuopion kaupungin verkkokaupassa: verkkokauppa.kuopio.fi. Etäluennon lippu ei sisällä sisäänpääsyä Kuopion korttelimuseoon. \nTalojen tarinoita – luennot\nTalojen tarinoita -näyttelyn luennoilla kolme alansa asiantuntijaa lähestyy rakennetun ympäristön murrosta omasta näkökulmastaan. Luentojen aiheet ulottuvat perinnerakentamisesta kirjallisuuden keinoihin ja kaupunkikuvan muutoksiin. \nLuennot järjestetään Kuopion museolla (Museokatu 1). Luentomaksu 10 e sisältää sisäänpääsyn Kuopion korttelimuseoon (Kirkkokatu 22). \nTalojen tarinoita -näyttely avoinna Kuopion korttelimuseolla 26.4.2026 saakka. Luennot ovat osa Euroopan kulttuuriympäristöpäiviä. \nLisätietoja näyttelystä: kuopionkorttelimuseo.fi/nayttelyt  \nLuentotila sijaitsee katukerroksessa. Tila on esteetön.
URL:https://kuopionmuseot.fi/tapahtuma/luento-perinteen-tuho-ja-hyvinvoinnin-perinto/
LOCATION:Kuopion museo
ATTACH;FMTTYPE=image/jpeg:https://kuopionmuseot.fi/wp-content/uploads/2025/09/Talojen-tarinoita-vaaka_luento-22_11-1920x1080-kopio.jpg
END:VEVENT
BEGIN:VEVENT
DTSTART;TZID=Europe/Helsinki:20251123T130000
DTEND;TZID=Europe/Helsinki:20251123T144500
DTSTAMP:20260423T093431
CREATED:20250518T125920Z
LAST-MODIFIED:20251211T133351Z
UID:10003867-1763902800-1763909100@kuopionmuseot.fi
SUMMARY:Myyttiset-näyttelyopastus
DESCRIPTION:Myyttiset-näyttelyopastus kuljettaa kulkijan halki entisaikojen metsän. Metsäretkellä tutustutaan esivanhempiemme elämää rytmittäneeseen kansanuskoon. Matkan varrelta löytyy niin myyteistä tuttuja olentoja ja luontotietoa kuin vanhin tunnettu pohjoissavolainen loitsukin. \nTiedontäyteinen kierros sopii parhaiten aikuisille ja nuorille ja on kestoltaan noin 45 minuuttia.  Opastus lähtee kesäkaudella 7.6.–30.8.2025 lipunmyynnin läheisyydestä lauantaisin ja keskiviikkoisin klo 14. Syyskuusta alkaen näyttelyn päättymiseen saakka opastus on parittomien viikkojen sunnuntaisin sekä viimeisenä näyttelyn aukiolopäivänä su 25.1. klo 13 \nOpastus sisältyy museon pääsymaksuun (15/10 €\, alle 18-v maksutta)\, Museokortti ja Kaikukortti käyvät. \n***\nKuopion museon Myyttiset – metsän kätköissä -näyttely vie menneisyyden aarniometsään keskelle kansanuskon maailmaa. Se on tehty monilla aisteilla koettavaksi\, elämykselliseksi ihmettelyn paikaksi\, jossa riittää tutkittavaa kaikenikäisille. \nKuopion luonnontieteellisen museon ja Kuopion kulttuurihistoriallisen museon yhteistyönä tuottamassa näyttelyssä on esillä erityistä voimaa omaavia taikaesineitä sekä kiehtovia eläimiä. Tarinat\, uskomukset ja todelliset luonnonilmiöt punoutuvat yhteen ainutlaatuisella tavalla. Kulje entisajan metsässä\, tutustu myyttisiin hahmoihin\, joudu metsänpeittoon ja loitsi itsesi vapaaksi! \nMyyttiset-näyttely ja siihen liittyvät tapahtumat ovat osa Kuopio250-juhlavuoden ohjelmistoa.
URL:https://kuopionmuseot.fi/tapahtuma/myyttiset-nayttelyopastus-2/2025-11-23/
LOCATION:Kuopion museo
ATTACH;FMTTYPE=image/jpeg:https://kuopionmuseot.fi/wp-content/uploads/2025/02/Myyttiset-nayttelyopastus.jpg
ORGANIZER;CN="Kuopion museo":MAILTO:kuopionmuseo@kuopio.fi
END:VEVENT
BEGIN:VEVENT
DTSTART;TZID=Europe/Helsinki:20251123T140000
DTEND;TZID=Europe/Helsinki:20251123T150000
DTSTAMP:20260423T093431
CREATED:20251119T083425Z
LAST-MODIFIED:20251119T083425Z
UID:10004031-1763906400-1763910000@kuopionmuseot.fi
SUMMARY:Yleisöopastus M_itä? Nykytaiteen biennaaliin
DESCRIPTION:Kuopion biennaalissa mikään ei ole tavallista. \nTeokset eivät ainoastaan näyttäydy\, vaan ne kutsuvat astumaan sisään\, istumaan ja aistimaan. Ne rakentavat tiloja\, joihin voi kadota. Tule kokemaan\, miten teoksen voi kohdata tai tuntea. M_itä? Nykytaiteen biennaali esittää itäsuomalaisen taiteen skenen juuri sellaisena kuin se tällä hetkellä on parhaimmillaan. \nOpastus kuuluu sisäänpääsyn hintaan\, alle 18-vuotiaat ilmaiseksi ja Museokortti käy maksuvälineeksi tottakai.
URL:https://kuopionmuseot.fi/tapahtuma/yleisoopastus-m_ita-nykytaiteen-biennaaliin-2/2025-11-23/
LOCATION:KUMMA\, Kauppakatu 35\, Kuopio\, 70100
ATTACH;FMTTYPE=image/jpeg:https://kuopionmuseot.fi/wp-content/uploads/2025/10/mita_hero-kuva_2025-09-08.jpg
END:VEVENT
END:VCALENDAR