BEGIN:VCALENDAR
VERSION:2.0
PRODID:-//Kuopion museot - ECPv6.15.20//NONSGML v1.0//EN
CALSCALE:GREGORIAN
METHOD:PUBLISH
X-ORIGINAL-URL:https://kuopionmuseot.fi
X-WR-CALDESC:Tapahtumat Kuopion museot
REFRESH-INTERVAL;VALUE=DURATION:PT1H
X-Robots-Tag:noindex
X-PUBLISHED-TTL:PT1H
BEGIN:VTIMEZONE
TZID:Europe/Helsinki
BEGIN:DAYLIGHT
TZOFFSETFROM:+0200
TZOFFSETTO:+0300
TZNAME:EEST
DTSTART:20240331T010000
END:DAYLIGHT
BEGIN:STANDARD
TZOFFSETFROM:+0300
TZOFFSETTO:+0200
TZNAME:EET
DTSTART:20241027T010000
END:STANDARD
BEGIN:DAYLIGHT
TZOFFSETFROM:+0200
TZOFFSETTO:+0300
TZNAME:EEST
DTSTART:20250330T010000
END:DAYLIGHT
BEGIN:STANDARD
TZOFFSETFROM:+0300
TZOFFSETTO:+0200
TZNAME:EET
DTSTART:20251026T010000
END:STANDARD
BEGIN:DAYLIGHT
TZOFFSETFROM:+0200
TZOFFSETTO:+0300
TZNAME:EEST
DTSTART:20260329T010000
END:DAYLIGHT
BEGIN:STANDARD
TZOFFSETFROM:+0300
TZOFFSETTO:+0200
TZNAME:EET
DTSTART:20261025T010000
END:STANDARD
END:VTIMEZONE
BEGIN:VEVENT
DTSTART;TZID=Europe/Helsinki:20250924T170000
DTEND;TZID=Europe/Helsinki:20250924T180000
DTSTAMP:20260423T113419
CREATED:20250725T062923Z
LAST-MODIFIED:20250729T112513Z
UID:10003848-1758733200-1758736800@kuopionmuseot.fi
SUMMARY:Luontokirjalukupiiri
DESCRIPTION:Luontokirjalukupiiri kokoontuu kerran kuukaudessa keskiviikkoisin klo 17.00–18.00. Lukupiirissä tutustutaan ajankohtaisiin teoksiin ja keskustellaan niiden herättämistä ajatuksista. Kirjallisuus- tai ympäristöasiantuntemusta ei tarvita\, ja mukaan voi tulla yhdelle tai useammalle kerralle. Lukupiiri toimii hyvin myös kirjavinkkauksena – keskustelun kuunteleminen on mainio tapa löytää kiinnostavaa luettavaa! \n\nLukupiiri järjestetään verkossa Zoom-alustalla osoitteessa https://zoom.us/j/99576520794\n\nEnnakkoilmoittautumista ei tarvita. Lisätietoja saa osoitteesta aikuistenosasto.kirjasto@kuopio.fi \nKe 24.9.2025\nKamula\, Mikko: Ikimetsien sydänmailla\n\nKe 22.10.2025\nAdams\, Richard: Ruohometsän kansa\n\n\nKe 26.11.2025\nOhtonen\, Kimmo: Tunturikettu – Pohjolan naalin tarina
URL:https://kuopionmuseot.fi/tapahtuma/luontokirjalukupiiri-25/
LOCATION:Zoom
ATTACH;FMTTYPE=image/jpeg:https://kuopionmuseot.fi/wp-content/uploads/2025/07/Laura-Haapamaki_pieni.jpg
END:VEVENT
BEGIN:VEVENT
DTSTART;TZID=Europe/Helsinki:20250924T170000
DTEND;TZID=Europe/Helsinki:20250924T190000
DTSTAMP:20260423T113419
CREATED:20250127T112140Z
LAST-MODIFIED:20260203T102719Z
UID:10003909-1758733200-1758740400@kuopionmuseot.fi
SUMMARY:Taidetyöpaja sukupuoli- ja seksuaalivähemmistöön kuuluville / Art Workshops for Queer People
DESCRIPTION:Drawing Out Loud – Taidetyöpaja sukupuoli- ja seksuaalivähemmistöön kuuluville \nKoetko kuuluvasi seksuaali- ja sukupuolivähemmistöön tai pohdit näitä asioita? Tervetuloa piirtämään\, tapaamaan ystäviä\, lepäämään\, kuuntelemaan\, olemaan\, unohtamaan\, tyhjentämään pääsi\, tekemään virheitä\, nauramaan ääneen\, jakamaan ajatuksia ja olemaan queer hyvässä ja luovassa seurassa! Tänä keväänä Drawing out loud -työpajassa luodaan uusia piirroksia sekä yksin että yhdessä. Tule mukaan kerran tai osallistu koko kevään ajan! \nKysymyksiä ja ilmoittautuminen mukaan: emmavilina@gmail.com \nTyöpajat ovat osallistujille maksuttomia. Aiempaa osaamista tai kokemusta taiteellisesta työskentelystä ei tarvita. Työpajojen ikäraja on 18 vuotta. \nDRAWING OUT LOUD: Taidetyöpajat seksuaali- ja sukupuolivähemmistöille \nMaksuton aikuisten ryhmä\, yli 18 – vuotiaat\nKeskiviikot  11.2. / 25.2 / 11.3 / 25.3 / 8.4 / 22.4. / 6.5. / 20.5. klo 16-18\nKuopion Museon oppimistilassa\nIlmoittautuminen & info: ohjaaja Emma Fält\, emmavilina@gmail.com / https://emmafalt.net/ \nYhteistyössä Kuopion Kaupunki ja Kuopion Museo \nYstävällisin terveisin\,\nOhjaaja\, Emma Fält (They / Them) \n**** \nIn English: \nDrawing Out Loud\nArt workshops for queer people \nIn the workshops aimed at adults\, we explore the world by drawing and through various listening and sensing exercises. We reflect on physicality\, diversity\, being in different spaces and how we perceive ourselves in them. This spring\, we will work on various listening exercises and think about interaction between human and non-human. Let’s start the year by going through together what kind of workshops are coming up. \nThe key to working is interaction and the opportunity to create a space where those who perceive themselves as queer* can express themselves and get to know each other through making\, as well as search and find suitable forms of artistic expression. Come along and bring your friends! \nThe workshops are free of charge for the participants. Previous knowledge or experience in artistic work\, neither tools are not required. The age limit for the workshops is 18 years. \nDRAWING OUT LOUD: Art workshops for sexual and  gender minorities\nFree adult group\, +18 years old\nWednesdays 11.2. / 25.2 / 11.3 / 25.3 / 8.4 / 22.4. / 6.5. / 20.5  16-18\nKuopio MUSEUM\, Pedagogical space\nSign up & info: Facilitator Emma Fält\, emmavilina@gmail.com / https://emmafalt.net/ \nTogether with Kuopio City and Kuopio Museum \nKind regards\, Artist and teacher\, Emma Fält (They / Them)
URL:https://kuopionmuseot.fi/tapahtuma/taidetyopaja-sukupuoli-ja-seksuaalivahemmistoon-kuuluville/2025-09-24/
LOCATION:Kuopion museo
ATTACH;FMTTYPE=image/jpeg:https://kuopionmuseot.fi/wp-content/uploads/2025/01/Queer-taidepaja-kuva.jpg
END:VEVENT
BEGIN:VEVENT
DTSTART;TZID=Europe/Helsinki:20250924T170000
DTEND;TZID=Europe/Helsinki:20250924T190000
DTSTAMP:20260423T113419
CREATED:20250829T092551Z
LAST-MODIFIED:20250829T092551Z
UID:10003916-1758733200-1758740400@kuopionmuseot.fi
SUMMARY:ALIEN – Kuopio -tanssiesitys Kuopion museossa
DESCRIPTION:ALIEN – Kuopio on Taneli Törmän koreografioima pop-up tanssiesitys. Vuodesta 2019 lähtien teosta on luotu viidessä eri maassa yhdessä paikallisten tanssijoiden kanssa\, jolloin jokainen uusi teos saa inspiraatiota sitä edeltäneistä. Tuorein versio luodaan Kuopiossa Tanssiteatteri Minimin tanssijoille\, ketkä esittävät teosta ympäri Kuopiota syksyllä 2025. ALIEN – Kuopio on osa KUMMA / M_itä? Nykytaiteen biennaalia ja Kuopio250-juhlavuoden ohjelmistoa\, sekä teos saanut tukea juhlavuoden rahastolta. \nALIEN – Kuopio on oodi tanssille ja uskallukselle tanssia julkisissa tiloissa. Mitä eri liikkeet – liike yksin tai yhdessä\, samaan tai eri tahtii – herättää meissä yksilöinä ja ryhmänä? Kuinka ohikulkijat reagoivat julkisella paikalla tanssimiseen? Onko se todella outoa\, jos tanssimme julkisella paikalla? \nALIEN – Kuopio esitystä ajavat nämä kysymykset\, ja sen takia koreografia on saanut vaikutteita erilaisista yhteisöllisistä tansseista\, kuten klubi tanssista ja ympyrässä tanssituista kansantansseista. Molemmissa on jotain epäspektaakkelimaista ja yhteistä: molemmat tanssit tanssitaan omaksi iloksi\, eikä tanssia ole tarkoitettu esitettäväksi yleisölle. Kokea ja tehdä liike itselleen tai yhdessä muiden kanssa. \nTanssitpa itsellesi (esim klubeilla) tai olet yksi osa piiritanssia\, olet osa jaettua isoa liike aaltoa – ketjua. ‘’ALIEN – Kuopio’’ on inspiroitunut tästä\, on se omanlaista tai unisono liikkeettä\, se haluaa vahvistaa yhteisöä ja yhteisöllistä kokemusta. Näin julkisesta tilassa tanssitusta hetkestä tulee liikkuva ja elinvoimainen taideteos – abstrakti ja rituaalinen teko ihmisille\, joiden kanssa jaamme hetken ja julkisen tilan. \nALIEN konsepti kehitettiin osana Big Pulse Dance Alliancen yhteistuotantoa\, jonka tuottivat liettualainen New Baltic Dance ja irlantilainen Dublin Dance Festival ja jota yhteisrahoitti Euroopan unionin Luova Eurooppa -ohjelma. Teos saa ensi-iltansa KUMMA / Mi_tä? Biennaalin avajaisissa! Avajaiskutsun voi tilata itselleen sähköpostiin uutiskirjeen kaltaisesti täältä: taidemuseo-uutiskirje.kuopio.fi. \nLIPUT:\nEsitykset ovat maksuttomia!\nALIEN pop-up esityksiä voi tulla seuraamaan omien aikataulujen mukaan\, myös kesken esityksen. Kokonaiskesto on noin 40 minuuttia\, jota saatetaan tehdä useamman kerran yhdessä esityksessä. \nKuopion museon esitys on Monitoimitilassa katukerroksessa. Tila on esteetön. Invapysäköintipaikkoja on Museokadulla. \nTYÖRYHMÄ:\n• Koreografia: Taneli Törmä\n• Tanssijat: Virva Torkko-Muñoz\, Katja Mustonen\, Mimmi Herd ja Taneli Törmä (varalla)\n• Äänisuunnittelija: Esa Mattila\n• Tuotanto: Tanssiteatteri Minimi\n• Kuvat: Petra Kuha\n• Rahoittajat: Kuopio250-juhlavuosi\, KUMMA / Mi_tä? Nykytaiteen biennaali\n• Entinen rahoittaja: Big Pulse Dance Alliance\n• Esitykset järjestetään yhteistyössä: KUMMA / Mi_tä? Nykytaiteen biennaalin\, Kahvila-Ravintola Salacavalan\, Original Sokos Hotelli Puijonsarven\, Kuopion Museon\, Kuopion korttelimuseon\, Tahko – Luontofestin\, Palad Showroomin\, Muuruveden kirkon ja Karttulan kirjaston kanssa \nKAIKKI ESITYKSET:\n• Ensi-ilta 19.9.2025 klo 18.30-19.10 KUMMA / Mi_tä? Biennaalin avajaiset\n• 23.9. klo 11-13 SalaCavala / Kuopion tori\n• 23.9. klo 17-19 Original Sokos Hotelli Puijonsarvi\n• 24.9. klo 17-19 Kuopion Museo\n• 27.9. klo 11.15-12.45 Amfiteatteri (Kuopion kaupunginteatteri)\n• 28.9. klo 13-15 Kuopion korttelimuseo\n• 3.10. klo 17.15-18.45 Amfiteatteri (Kuopion kaupunginteatteri)\n• 4.10. klo 15.15-15.55 Tahko – Luontofest\n• 18.10. klo 12.30-14.30 KUMMA / Mi_tä? Nykytaiteen biennaali\n• 27.10. klo 11-12.20 Palad Showroom\n• 30.10. klo 18-18.40 Muuruveden kirkko\n• 31.10. klo 13-15 Karttulan kirjasto\n• 16.11. klo 15-17 KUMMA / Mi_tä? Nykytaiteen biennaali \n 
URL:https://kuopionmuseot.fi/tapahtuma/alien-kuopio-tanssiesitys-kuopion-museossa/
LOCATION:Kuopion museo
ATTACH;FMTTYPE=image/png:https://kuopionmuseot.fi/wp-content/uploads/2025/06/ALIEN.png
END:VEVENT
BEGIN:VEVENT
DTSTART;TZID=Europe/Helsinki:20250925T140000
DTEND;TZID=Europe/Helsinki:20250925T163000
DTSTAMP:20260423T113419
CREATED:20250912T053900Z
LAST-MODIFIED:20250912T055209Z
UID:10003987-1758808800-1758817800@kuopionmuseot.fi
SUMMARY:Avoin kuvapaja
DESCRIPTION:Kaikenikäisille aikuisille suunnatut avoimet kuvapajat\, jossa taiteen keinoin tapahtuvaan tekemiseen syvennytään eri teemojen kautta. Aiempaa kokemusta piirtämisestä tai maalaamisesta ei tarvita. \nEi ennakkoilmoittautumista\, mukaan voi tulla silloin kun itselle sopii. Pajatoiminta on maksutonta ja taidetarvikkeet löytyvät paikan päältä. Huom! Paikkoja oppimistilassa on rajoitettu määrä. \nTORSTAIN KUVAPAJA KLO 14‒16.30 Kuopion museon katukerroksen oppimistilassa seuraavina päivinä: 18.9. / 25.9. / 2.10. / 9.10. / SYYSTAUKO 2vkoa / 30.10. / 6.11. / 13.11. / 20.11. / 27.11. / 4.12. / 11.12. / 18.12. \nJärj. Kuopion kaupunki\, Kansalaistoiminnan palvelut. Yhteistyössä Kuopion museo.
URL:https://kuopionmuseot.fi/tapahtuma/avoinkuvapaja-2-2-2/2025-09-25/
LOCATION:Kuopion museo
ATTACH;FMTTYPE=image/jpeg:https://kuopionmuseot.fi/wp-content/uploads/2024/02/Kuvapaja1.jpg
END:VEVENT
BEGIN:VEVENT
DTSTART;TZID=Europe/Helsinki:20250925T150000
DTEND;TZID=Europe/Helsinki:20250925T153000
DTSTAMP:20260423T113419
CREATED:20250321T082307Z
LAST-MODIFIED:20250823T094640Z
UID:10003904-1758812400-1758814200@kuopionmuseot.fi
SUMMARY:Myyttinen vartti
DESCRIPTION:Myyttiset vartit tarjoavat lyhyehköjä ja ytimekkäitä tietoiskuja Myyttiset – metsän kätköissä -näyttelyn teemoihin liittyen. Varteilla tutustutaan esimerkiksi arkeologisiin löytöihin\, geologisiin ilmiöihin\, sekä kansanperinteen ja -uskon erityispiirteisiin ja ihmeellisyyksiin. \nTervetuloa kuulolle torstaisin klo 15! Vartille pääsee mukaan museon pääsylipulla. \nSYKSYN VARTIT (ohjelmamuutokset ja -täydennykset mahdollisia): \n4.9.2025 klo 15 Suo siellä\, vetelä täällä – suoluonnon monimuotoisuus ja merkitys kansanperinteessä\n25.9.2025 klo 15 Faustista Uhrijuhlaan – katsaus Myyttiset-näyttelyn teemoja sisältäviin elokuviin\n2.10.2025 klo 15 Paranvoi ja sudenmaito\n30.10.2025 klo 15 Maitoa maahan maahisille\n20.11.2025 klo 15 Ankat Sampojahdissa (ja muita suomalaisia myyttejä populaarikulttuurissa)  \n  \nJO TOTEUTUT VARTIT: \n27.3.2025 klo 15 Salamaniskuja ja tulipaloja vastaan – kivikautisen esineiden käyttö taikuudessa ja lääkinnässä \nMikä kiviesine on? Ja miksi sillä katsottiin olevan parantavia ominaisuuksia? Kivikautisiin esineisiin on liitetty erilaisia uskomuksia ja tarinoita\, joilla kiviesineiden synty ja olemassaolo haluttiin selittää. Kiviesineisiin liitettiin myös uskomuksia niiden parantavista ja suojaavista ominaisuuksista. \n3.4.2025 klo 15 Pirunpelloista hiidenkirnuihin\nGeologisen luonnonperinnön myyttisyys: millaisia syntytarinoita kansanperinteessä on keksitty eri geologisille muodostumille ja piirteille\, ja mikä on totuus myyttien taustalla? \n10.4.2025 klo 15 Varhaisimmat muistiin kirjoitetut loitsut Pohjois-Savosta\nItäsuomalainen loitsuperinne säilytti pitkään elinvoimansa. Sitä tallentui erilaisiin lähdeaineistoihin satojen vuosien ajan. Tule tutustumaan kaikkein vanhimpiin pohjoissavolaisiin loitsuihin! \n17.4.2025 klo 15 Metsän väki\nKarhun hampaat ja kynnet\, metsälähteet\, uhrilehdot\, käärmeet… Muun muassa näitä asioita ja paikkoja on pidetty kansanperinteessä väkevinä. Mutta mitä kansanuskon väki ylipäätänsä on\, mistä kaikkialta sitä löytyy\, ja mihin sitä tarvitaan? \n24.4.2025 klo 15 Käärmeiden käräjäkivet ja uhrikupit – kivet ja kalliot suomalaisessa kansanuskossa\nMitä mineraaleja ja kivilajeja väekkäiksi koetuista kivistä ja kallioista löytyy\, ja miten ne ovat syntyneet? Ovatko uhrikuppeina käytetyt painaumat kivissä ja kallioissa syntyneet luonnollisesti vai ovatko ne ihmiskätten töitä? \n8.5.2025 klo 15 Kristillisyyden varhainen vaikutus Pohjois-Savon kansanuskoon\nKansanuskoon liittyvät tiedot ja tavat siirtyivät sukupolvelta toiselle. Jokainen aika lisäsi niihin omat kerroksensa. Millaisen jäljen maailmankuvan mullistanut kristinusko jätti paikalliseen perinteeseen? \n15.5.2025 klo 15 Kansanuskon kauheudet \nKuka on syypää tauteihin\, kuka houkuttelee äkkinäiset järven syövereihin hukuksiin\, millaista porukkaa kalmanväki oikein on? Tämänkertaisella vartilla perehdytään muutamiin kansanuskon ikävämpiin hahmoihin. \n22.5.2025 klo 15 Myyttien viestit menneisyydestä\nVälittyvätkö muinaiset luonnonkatastrofit meillä ja maailmalla myyttisissä tarinoissa? Onko Väinämöisen polvenhaavasta kertovassa kansanrunossa yhteys vedenpaisumusmyytteihin ja edelleen todellisiin tapahtumiin\, esimerkiksi Vuoksen puhkeamiseen noin 6000 vuotta sitten?
URL:https://kuopionmuseot.fi/tapahtuma/myyttinen-vartti/2025-09-25/
LOCATION:Kuopion museo
ATTACH;FMTTYPE=image/jpeg:https://kuopionmuseot.fi/wp-content/uploads/2025/03/Myyttinen-vartti_kansikuva.jpg
ORGANIZER;CN="Kuopion museo":MAILTO:kuopionmuseo@kuopio.fi
END:VEVENT
BEGIN:VEVENT
DTSTART;TZID=Europe/Helsinki:20250926T130000
DTEND;TZID=Europe/Helsinki:20250926T133500
DTSTAMP:20260423T113419
CREATED:20250917T120419Z
LAST-MODIFIED:20250917T120419Z
UID:10004003-1758891600-1758893700@kuopionmuseot.fi
SUMMARY:Eilan tarina
DESCRIPTION:Eilan tarina on elämänkerrallinen muistojen matka vuosien 1955–1995 välillä. Eila on elänyt elämänsä maaseudulla maatalon emäntänä ja muistoissa nousee esille useita tuolle aikakaudelle tuttuja asioita. Esitys on kunnianosoitus emännille ja heidän suurelle työlleen maaseudun sekä yhteisöjen hyväksi\, isäntien työpanosta unohtamatta. \nEsityksen kesto n. 35 minuuttia.\nEsiintyjä: Kati Ahmaharju \n  \npe 26.9. klo 13 Kuopion museon monitoimitila\, Museokatu 1. Tapahtuma on maksuton ja esteetön. \nTapahtumat järjestää Kuopion kaupungin kansalaistoiminnan palvelut yhteistyössä Kuopion museon kanssa \n 
URL:https://kuopionmuseot.fi/tapahtuma/eilan-tarina/
LOCATION:Kuopion museo
ATTACH;FMTTYPE=image/jpeg:https://kuopionmuseot.fi/wp-content/uploads/2025/09/eilan-tarina.jpg
END:VEVENT
BEGIN:VEVENT
DTSTART;TZID=Europe/Helsinki:20250927T103000
DTEND;TZID=Europe/Helsinki:20250927T110000
DTSTAMP:20260423T113419
CREATED:20250815T045953Z
LAST-MODIFIED:20251211T133050Z
UID:10003880-1758969000-1758970800@kuopionmuseot.fi
SUMMARY:Myyttiset-näyttelyopastus lapsille
DESCRIPTION:Lapsille suunnattu Myyttiset-näyttelyopastus kuljettaa oppaan johdolla pienet kulkijat halki entisaikojen metsän. Matkalla kuullaan esimerkiksi esivanhempiemme elämään kuuluneista uskomuksista\, tutustutaan monenlaisiin metsän eläimiin ja olentoihin sekä ihmetellään yhdessä niihin liittyviä tarinoita.  \nKierros kestää noin 30 minuuttia ja se on parittomien viikkojen lauantaisin (13.9.\, 27.9.\, 11.10.\, 25.10.\, 8.11.\, 22.11.\, 20.12.\, 3.1.2026\, 17.1.2026 sekä näyttelyn viimeisenä viikonloppuna la 24.1.2026) klo 10.30. Lähtö lipunmyynnin läheisyydestä. \nOpastus sisältyy museon pääsymaksuun (15/10 €\, alle 18-v maksutta)\, Museokortti ja Kaikukortti käyvät. \n  \nKuopion museon näyttely Myyttiset – metsän kätköissä sekä sen oheistapahtumat ovat osa Kuopio250-juhlavuotta.
URL:https://kuopionmuseot.fi/tapahtuma/myyttiset-nayttelyopastus-lapsille/2025-09-27/
LOCATION:Kuopion museo
ATTACH;FMTTYPE=image/jpeg:https://kuopionmuseot.fi/wp-content/uploads/2025/08/Myyttiset-LASTEN-OPASTUS.jpg
END:VEVENT
BEGIN:VEVENT
DTSTART;TZID=Europe/Helsinki:20250927T130000
DTEND;TZID=Europe/Helsinki:20250927T140000
DTSTAMP:20260423T113419
CREATED:20250906T080723Z
LAST-MODIFIED:20250910T113954Z
UID:10003918-1758978000-1758981600@kuopionmuseot.fi
SUMMARY:Opastus: Talojen tarinoita
DESCRIPTION:Talojen tarinoita -näyttelyopastus esittelee jo lähes hävinnyttä puutalokaupunkia. Puu-Kuopio oli voimissaan 1900-luvun puoliväliin asti\, jolloin jälleenrakennuskausi ja kaupungistuminen muuttivat kaupunkikuvaa merkittävästi. Opastuksella muistellaan arkista elämää puutalokaupungissa siellä asuneiden silmin ja tutustutaan siihen valokuvien avulla. \nLauantaisin klo 13. Opastus sisältyy museon pääsymaksuun (8/5 €\, Museokortti\, Kaikukortti\, alle 18-vuotiaat maksutta). \nTalojen tarinoita -opastus on osa Kuopio250-juhlavuoden ohjelmaa. \nTalojen tarinoita – Puutalokaupungin jäljillä 25.4.2025-26.4.2026 \nNäyttelyssä valokuvat ja muistelmat nivoutuvat yhteen luoden eloisan kokonaisuuden\, joka kertoo kaupungin rakennushistoriasta sekä kaupunkikuvan muutoksesta. Näyttely esittelee Kuopion purettuja sekä edelleen olemassa olevia puutaloja piirtäen kuvaa vilkkaasta kaupungista\, jonka kaduilla ihmiset toimittivat arkisia askareitaan. Kuopiossa lapsuutensa ja nuoruutensa 1940–1960-luvuilla viettäneet ihmiset kertovat millaista oli elää puutalojen täyttämässä kaupungissa.
URL:https://kuopionmuseot.fi/tapahtuma/opastus-talojen-tarinoita-2/2025-09-27/
LOCATION:Korttelimuseo\, Kirkkokatu 22\, Kuopio\, 70100\, Suomi
ATTACH;FMTTYPE=image/png:https://kuopionmuseot.fi/wp-content/uploads/2025/04/Talojen_tarinoita_opastus.png
END:VEVENT
BEGIN:VEVENT
DTSTART;TZID=Europe/Helsinki:20250928T130000
DTEND;TZID=Europe/Helsinki:20250928T144500
DTSTAMP:20260423T113419
CREATED:20250518T125920Z
LAST-MODIFIED:20251211T133351Z
UID:10003863-1759064400-1759070700@kuopionmuseot.fi
SUMMARY:Myyttiset-näyttelyopastus
DESCRIPTION:Myyttiset-näyttelyopastus kuljettaa kulkijan halki entisaikojen metsän. Metsäretkellä tutustutaan esivanhempiemme elämää rytmittäneeseen kansanuskoon. Matkan varrelta löytyy niin myyteistä tuttuja olentoja ja luontotietoa kuin vanhin tunnettu pohjoissavolainen loitsukin. \nTiedontäyteinen kierros sopii parhaiten aikuisille ja nuorille ja on kestoltaan noin 45 minuuttia.  Opastus lähtee kesäkaudella 7.6.–30.8.2025 lipunmyynnin läheisyydestä lauantaisin ja keskiviikkoisin klo 14. Syyskuusta alkaen näyttelyn päättymiseen saakka opastus on parittomien viikkojen sunnuntaisin sekä viimeisenä näyttelyn aukiolopäivänä su 25.1. klo 13 \nOpastus sisältyy museon pääsymaksuun (15/10 €\, alle 18-v maksutta)\, Museokortti ja Kaikukortti käyvät. \n***\nKuopion museon Myyttiset – metsän kätköissä -näyttely vie menneisyyden aarniometsään keskelle kansanuskon maailmaa. Se on tehty monilla aisteilla koettavaksi\, elämykselliseksi ihmettelyn paikaksi\, jossa riittää tutkittavaa kaikenikäisille. \nKuopion luonnontieteellisen museon ja Kuopion kulttuurihistoriallisen museon yhteistyönä tuottamassa näyttelyssä on esillä erityistä voimaa omaavia taikaesineitä sekä kiehtovia eläimiä. Tarinat\, uskomukset ja todelliset luonnonilmiöt punoutuvat yhteen ainutlaatuisella tavalla. Kulje entisajan metsässä\, tutustu myyttisiin hahmoihin\, joudu metsänpeittoon ja loitsi itsesi vapaaksi! \nMyyttiset-näyttely ja siihen liittyvät tapahtumat ovat osa Kuopio250-juhlavuoden ohjelmistoa.
URL:https://kuopionmuseot.fi/tapahtuma/myyttiset-nayttelyopastus-2/2025-09-28/
LOCATION:Kuopion museo
ATTACH;FMTTYPE=image/jpeg:https://kuopionmuseot.fi/wp-content/uploads/2025/02/Myyttiset-nayttelyopastus.jpg
ORGANIZER;CN="Kuopion museo":MAILTO:kuopionmuseo@kuopio.fi
END:VEVENT
BEGIN:VEVENT
DTSTART;TZID=Europe/Helsinki:20250928T130000
DTEND;TZID=Europe/Helsinki:20250928T150000
DTSTAMP:20260423T113419
CREATED:20250601T103108Z
LAST-MODIFIED:20250601T103108Z
UID:10003718-1759064400-1759071600@kuopionmuseot.fi
SUMMARY:ALIEN – Kuopio -tanssiesitys
DESCRIPTION:ALIEN – Kuopio on Taneli Törmän koreografioima pop-up tanssiesitys. Vuodesta 2019 lähtien teosta on luotu viidessä eri maassa yhdessä paikallisten tanssijoiden kanssa\, jolloin jokainen uusi teos saa inspiraatiota sitä edeltäneistä. Tuorein versio luodaan Kuopiossa Tanssiteatteri Minimin tanssijoille\, ketkä esittävät teosta ympäri Kuopiota syksyllä 2025. ALIEN – Kuopio on osa KUMMA / M_itä? Nykytaiteen biennaalia ja Kuopio250-juhlavuoden ohjelmistoa\, sekä teos saanut tukea juhlavuoden rahastolta. \nALIEN – Kuopio on oodi tanssille ja uskallukselle tanssia julkisissa tiloissa. Mitä eri liikkeet – liike yksin tai yhdessä\, samaan tai eri tahtii – herättää meissä yksilöinä ja ryhmänä? Kuinka ohikulkijat reagoivat julkisella paikalla tanssimiseen? Onko se todella outoa\, jos tanssimme julkisella paikalla? \nALIEN – Kuopio esitystä ajavat nämä kysymykset\, ja sen takia koreografia on saanut vaikutteita erilaisista yhteisöllisistä tansseista\, kuten klubi tanssista ja ympyrässä tanssituista kansantansseista. Molemmissa on jotain epäspektaakkelimaista ja yhteistä: molemmat tanssit tanssitaan omaksi iloksi\, eikä tanssia ole tarkoitettu esitettäväksi yleisölle. Kokea ja tehdä liike itselleen tai yhdessä muiden kanssa. \nTanssitpa itsellesi (esim klubeilla) tai olet yksi osa piiritanssia\, olet osa jaettua isoa liike aaltoa – ketjua. ‘’ALIEN – Kuopio’’ on inspiroitunut tästä\, on se omanlaista tai unisono liikkeettä\, se haluaa vahvistaa yhteisöä ja yhteisöllistä kokemusta. Näin julkisesta tilassa tanssitusta hetkestä tulee liikkuva ja elinvoimainen taideteos – abstrakti ja rituaalinen teko ihmisille\, joiden kanssa jaamme hetken ja julkisen tilan. \nALIEN konsepti kehitettiin osana Big Pulse Dance Alliancen yhteistuotantoa\, jonka tuottivat liettualainen New Baltic Dance ja irlantilainen Dublin Dance Festival ja jota yhteisrahoitti Euroopan unionin Luova Eurooppa -ohjelma. Teos saa ensi-iltansa KUMMA / Mi_tä? Biennaalin avajaisissa! Avajaiskutsun voi tilata itselleen sähköpostiin uutiskirjeen kaltaisesti täältä: taidemuseo-uutiskirje.kuopio.fi. \nLIPUT:\nEsitykset ovat maksuttomia!\nALIEN pop-up esityksiä voi tulla seuraamaan omien aikataulujen mukaan\, myös kesken esityksen. Kokonaiskesto on noin 40 minuuttia\, jota saatetaan tehdä useamman kerran yhdessä esityksessä.\n#tanssiteatteriminimi #kuopio250 \nTYÖRYHMÄ:\n• Koreografia: Taneli Törmä\n• Tanssijat: Virva Torkko-Muñoz\, Katja Mustonen\, Mimmi Herd ja Taneli Törmä (varalla)\n• Äänisuunnittelija: Esa Mattila\n• Tuotanto: Tanssiteatteri Minimi\n• Kuvat: Petra Kuha\n• Rahoittajat: Kuopio250-juhlavuosi\, KUMMA / Mi_tä? Nykytaiteen biennaali\n• Entinen rahoittaja: Big Pulse Dance Alliance\n• Esitykset järjestetään yhteistyössä: KUMMA / Mi_tä? Nykytaiteen biennaalin\, Kahvila-Ravintola Salacavalan\, Original Sokos Hotelli Puijonsarven\, Kuopion Museon\, Kuopion korttelimuseon\, Tahko – Luontofestin\, Palad Showroomin\, Muuruveden kirkon ja Karttulan kirjaston kanssa \nKAIKKI ESITYKSET:\n• Ensi-ilta 19.9.2025 klo 18.30-19.10 KUMMA / Mi_tä? Biennaalin avajaiset\n• 23.9. klo 11-13 SalaCavala / Kuopion tori\n• 23.9. klo 17-19 Original Sokos Hotelli Puijonsarvi\n• 24.9. klo 17-19 Kuopion Museo\n• 27.9. klo 11.15-12.45 Amfiteatteri (Kuopion kaupunginteatteri)\n• 28.9. klo 13-15 Kuopion korttelimuseo\n• 3.10. klo 17.15-18.45 Amfiteatteri (Kuopion kaupunginteatteri)\n• 4.10. klo 15.15-15.55 Tahko – Luontofest\n• 18.10. klo 12.30-14.30 KUMMA / Mi_tä? Nykytaiteen biennaali\n• 27.10. klo 11-12.20 Palad Showroom\n• 30.10. klo 18-18.40 Muuruveden kirkko\n• 31.10. klo 13-15 Karttulan kirjasto\n• 16.11. klo 15-17 KUMMA / Mi_tä? Nykytaiteen biennaali \n 
URL:https://kuopionmuseot.fi/tapahtuma/alien-kuopio-tanssiesitys/
LOCATION:Korttelimuseo\, Kirkkokatu 22\, Kuopio\, 70100\, Suomi
ATTACH;FMTTYPE=image/png:https://kuopionmuseot.fi/wp-content/uploads/2025/06/ALIEN.png
END:VEVENT
BEGIN:VEVENT
DTSTART;TZID=Europe/Helsinki:20250928T150000
DTEND;TZID=Europe/Helsinki:20250928T160000
DTSTAMP:20260423T113419
CREATED:20250909T075426Z
LAST-MODIFIED:20250919T095722Z
UID:10003981-1759071600-1759075200@kuopionmuseot.fi
SUMMARY:LUENTO: Perinnetalon salat kivijalasta savupiippuun
DESCRIPTION:Perinnetalon salat kivijalasta savupiippuun\nLuennoitsija Hannu Rinne (Luentomaksu 10 €) \nPerinnetalossa kaiken perusta on hengittävä rakenne\, jonka ansiosta se kestää satoja vuosia. Luennolla käydään läpi perinnetalon rakenne kivijalasta savupiippuun: mikä siinä on hyvää ja kuinka talo korjataan oikein. Lopuksi pohditaan vanhan talon haasteita ja mahdollisuuksia nykyajassa. \nHannu Rinne on perinnerakentamisen asiantuntija ja humanisti\, joka tarttui vasaraan. Hän on kunnostanut yli 20 vuotta omaa vanhaa taloaan\, Kiviniemen kartanoa Pyhtäällä. Perinnemestari-projekti sai alkunsa halusta jakaa kokemuksia\, joissa yhdistyvät kirjatieto\, kansanviisaus ja käytännön tekeminen. Hänen motiivinaan on kauneus: kuinka vanhan rakennuksen tunnelma säilyy kunnostettaessa. \nTalojen tarinoita – luennot\nTalojen tarinoita -näyttelyn luennoilla kolme alansa asiantuntijaa lähestyy rakennetun ympäristön murrosta omasta näkökulmastaan. Luentojen aiheet ulottuvat perinnerakentamisesta kirjallisuuden keinoihin ja kaupunkikuvan muutoksiin. \nLuennot järjestetään Kuopion museolla (Museokatu 1). Luentomaksu 10 e sisältää sisäänpääsyn Kuopion korttelimuseoon (Kirkkokatu 22). \nTalojen tarinoita -näyttely avoinna Kuopion korttelimuseolla 26.4.2026 saakka. Luennot ovat osa Euroopan kulttuuriympäristöpäiviä. \nLisätietoja näyttelystä: kuopionkorttelimuseo.fi/nayttelyt  \nLuentotila sijaitsee katukerroksessa. Tila on esteetön.
URL:https://kuopionmuseot.fi/tapahtuma/luento-perinnetalon-salat-kivijalasta-savupiippuun/
LOCATION:Kuopion museo
ATTACH;FMTTYPE=image/jpeg:https://kuopionmuseot.fi/wp-content/uploads/2025/09/Talojen-tarinoita-vaaka_luennot_28_9-1920x1080-kopio.jpg
END:VEVENT
END:VCALENDAR