BEGIN:VCALENDAR
VERSION:2.0
PRODID:-//Kuopion museot - ECPv6.15.20//NONSGML v1.0//EN
CALSCALE:GREGORIAN
METHOD:PUBLISH
X-WR-CALNAME:Kuopion museot
X-ORIGINAL-URL:https://kuopionmuseot.fi
X-WR-CALDESC:Tapahtumat Kuopion museot
REFRESH-INTERVAL;VALUE=DURATION:PT1H
X-Robots-Tag:noindex
X-PUBLISHED-TTL:PT1H
BEGIN:VTIMEZONE
TZID:Europe/Helsinki
BEGIN:DAYLIGHT
TZOFFSETFROM:+0200
TZOFFSETTO:+0300
TZNAME:EEST
DTSTART:20240331T010000
END:DAYLIGHT
BEGIN:STANDARD
TZOFFSETFROM:+0300
TZOFFSETTO:+0200
TZNAME:EET
DTSTART:20241027T010000
END:STANDARD
BEGIN:DAYLIGHT
TZOFFSETFROM:+0200
TZOFFSETTO:+0300
TZNAME:EEST
DTSTART:20250330T010000
END:DAYLIGHT
BEGIN:STANDARD
TZOFFSETFROM:+0300
TZOFFSETTO:+0200
TZNAME:EET
DTSTART:20251026T010000
END:STANDARD
BEGIN:DAYLIGHT
TZOFFSETFROM:+0200
TZOFFSETTO:+0300
TZNAME:EEST
DTSTART:20260329T010000
END:DAYLIGHT
BEGIN:STANDARD
TZOFFSETFROM:+0300
TZOFFSETTO:+0200
TZNAME:EET
DTSTART:20261025T010000
END:STANDARD
END:VTIMEZONE
BEGIN:VEVENT
DTSTART;TZID=Europe/Helsinki:20250528T180000
DTEND;TZID=Europe/Helsinki:20250528T193000
DTSTAMP:20260423T235940
CREATED:20250506T075425Z
LAST-MODIFIED:20250506T075629Z
UID:10003502-1748455200-1748460600@kuopionmuseot.fi
SUMMARY:Kiehtovat kyyt
DESCRIPTION:Kysy käärmeasiantuntijalta -keskustelutilaisuus verkossa! \nMonelle kyyt ja muut luikertelijat jäävät tuntemattomiksi\, ja niitä jopa pelätään. Nyt on mitä parhain tilaisuus kysellä käärmeistä asiantuntijalta! Miten kyy havaitsee meidät? Millaisissa paikoissa ne viihtyvät? Miten kyyn puremilta olisi parasta välttyä? Entä mitä ihmettä rantakäärme tekee heittäytyessään selälleen? \nKuopion luonnontieteellisen museon verkkotapahtumassa käärmeasiantuntijana vierailee Toni Beckman. Tapahtumaan ei tarvitse ilmoittautua\, ja voit lähettää kysymyksiä etukäteen (mari.wikholm (at) kuopio.fi) tai esittää kysymykset tapahtuman aikana. \nLiity keskustelutilaisuuteen tästä linkistä. \n  \nLisätietoja:\nMari Wikholm\nKuopion luonnontieteellinen museo\nmari.wikholm (at) kuopio.fi\np. 044 718 1543
URL:https://kuopionmuseot.fi/tapahtuma/kiehtovat-kyyt/
ATTACH;FMTTYPE=image/png:https://kuopionmuseot.fi/wp-content/uploads/2025/05/Tino-Anttila.png
LOCATION:https://kuopionmuseot.fi/tapahtuma/kiehtovat-kyyt/
END:VEVENT
BEGIN:VEVENT
DTSTART;TZID=Europe/Helsinki:20250531T130000
DTEND;TZID=Europe/Helsinki:20250531T140000
DTSTAMP:20260423T235940
CREATED:20250420T080135Z
LAST-MODIFIED:20250420T080436Z
UID:10003486-1748696400-1748700000@kuopionmuseot.fi
SUMMARY:Opastus: Talojen tarinoita
DESCRIPTION:Talojen tarinoita -näyttelyopastus esittelee jo lähes hävinnyttä puutalokaupunkia. Puu-Kuopio oli voimissaan 1900-luvun puoliväliin asti\, jolloin jälleenrakennuskausi ja kaupungistuminen muuttivat kaupunkikuvaa merkittävästi. Opastuksella muistellaan arkista elämää puutalokaupungissa siellä asuneiden silmin ja tutustutaan siihen valokuvien avulla. \nLauantaisin klo 13. Opastus sisältyy museon pääsymaksuun (8/5 €\, Museokortti\, Kaikukortti\, alle 18-vuotiaat maksutta). \nTalojen tarinoita -opastus on osa Kuopio250-juhlavuoden ohjelmaa. \nTalojen tarinoita – Puutalokaupungin jäljillä 25.4.2025-26.4.2026 \nNäyttelyssä valokuvat ja muistelmat nivoutuvat yhteen luoden eloisan kokonaisuuden\, joka kertoo kaupungin rakennushistoriasta sekä kaupunkikuvan muutoksesta. Näyttely esittelee Kuopion purettuja sekä edelleen olemassa olevia puutaloja piirtäen kuvaa vilkkaasta kaupungista\, jonka kaduilla ihmiset toimittivat arkisia askareitaan. Kuopiossa lapsuutensa ja nuoruutensa 1940–1960-luvuilla viettäneet ihmiset kertovat millaista oli elää puutalojen täyttämässä kaupungissa.
URL:https://kuopionmuseot.fi/tapahtuma/opastus-talojen-tarinoita/2025-05-31/
LOCATION:Korttelimuseo\, Kirkkokatu 22\, Kuopio\, 70100\, Suomi
ATTACH;FMTTYPE=image/png:https://kuopionmuseot.fi/wp-content/uploads/2025/04/Talojen_tarinoita_opastus.png
END:VEVENT
BEGIN:VEVENT
DTSTART;TZID=Europe/Helsinki:20250531T140000
DTEND;TZID=Europe/Helsinki:20250531T144500
DTSTAMP:20260423T235940
CREATED:20250107T091349Z
LAST-MODIFIED:20251211T134350Z
UID:10003331-1748700000-1748702700@kuopionmuseot.fi
SUMMARY:Opastus: Muuttuva luonto
DESCRIPTION:Muuttuva luonto -näyttelyssä matkustetaan itäsuomalaisen luonnon historiaan ja nykytilaan. Matka alkaa kaukaa menneisyyden mammuttiarolta\, kiertelee luonnonmetsän siimeksessä ja järvien syvänteissä ja päätyy lopulta ihmisen muokkaamaan maisemaan. Millainen mahtaa olla luontomme tulevaisuus? \nTule mukaan opastukselle tutustumaan itäsuomalaisen luonnon monivaiheiseen tarinaan! \nOpastus sisältyy pääsylipun hintaan\, alle 18-vuotiaat ilmaiseksi. Museokortti ja Kaikukortti käyvät. Opastus on kestoltaan noin 45 minuuttia.
URL:https://kuopionmuseot.fi/tapahtuma/opastus-muuttuva-luonto-2/2025-05-31/
LOCATION:Kuopion museo
ATTACH;FMTTYPE=image/jpeg:https://kuopionmuseot.fi/wp-content/uploads/2023/03/Muuttuvaluonto-opastus.jpg
ORGANIZER;CN="Kuopion museo":MAILTO:kuopionmuseo@kuopio.fi
END:VEVENT
BEGIN:VEVENT
DTSTART;TZID=Europe/Helsinki:20250601T140000
DTEND;TZID=Europe/Helsinki:20250601T150000
DTSTAMP:20260423T235940
CREATED:20250513T102238Z
LAST-MODIFIED:20250513T102238Z
UID:10003575-1748786400-1748790000@kuopionmuseot.fi
SUMMARY:Opastus Maaginen -näyttelyyn
DESCRIPTION:Tule mukaan kokemaan taiteen taika avoimelle opastukselle Maaginen -näyttelyyn! Ensimmäinen opastus järjestetään näyttelyn avajaisviikolla\, sunnuntaina 18.5. klo 14. Tämän jälkeen opastuksia järjestetään 1.6. alkaen joka sunnuntai klo 14 näyttelyn loppuun saakka. Opastukseen voi osallistua KUMMAn pääsymaksulla 10/5 €\, alle 18-vuotiaat ilmaiseksi. Museokortti käy maksuvälineeksi. \nMaaginen on KUMMAn tulkinta maagisesta realismista\, jossa ihme ja kumma\, mittasuhteiden leikki\, satu ja mystiikka kohtaavat todellisuuden. Näyttely leikittelee koolla\, yllätyksellisyydellä\, sekä satumaisilla tunnelmilla ja tummilla metsän maailmoilla. Näyttely tarjoaa kummallisen mahdollisuuden uppoutua ihmettelyyn\, rinnakkaisiin todellisuuksiin sekä antaa mielikuvituksen virrata.
URL:https://kuopionmuseot.fi/tapahtuma/opastus-maaginen-nayttelyyn-2/2025-06-01/
LOCATION:KUMMA\, Kauppakatu 35\, Kuopio\, 70100
ATTACH;FMTTYPE=image/jpeg:https://kuopionmuseot.fi/wp-content/uploads/2025/05/opastus-1920-x-1080-01.jpg
END:VEVENT
END:VCALENDAR