BEGIN:VCALENDAR
VERSION:2.0
PRODID:-//Kuopion museot - ECPv6.15.20//NONSGML v1.0//EN
CALSCALE:GREGORIAN
METHOD:PUBLISH
X-ORIGINAL-URL:https://kuopionmuseot.fi
X-WR-CALDESC:Tapahtumat Kuopion museot
REFRESH-INTERVAL;VALUE=DURATION:PT1H
X-Robots-Tag:noindex
X-PUBLISHED-TTL:PT1H
BEGIN:VTIMEZONE
TZID:Europe/Helsinki
BEGIN:DAYLIGHT
TZOFFSETFROM:+0200
TZOFFSETTO:+0300
TZNAME:EEST
DTSTART:20240331T010000
END:DAYLIGHT
BEGIN:STANDARD
TZOFFSETFROM:+0300
TZOFFSETTO:+0200
TZNAME:EET
DTSTART:20241027T010000
END:STANDARD
BEGIN:DAYLIGHT
TZOFFSETFROM:+0200
TZOFFSETTO:+0300
TZNAME:EEST
DTSTART:20250330T010000
END:DAYLIGHT
BEGIN:STANDARD
TZOFFSETFROM:+0300
TZOFFSETTO:+0200
TZNAME:EET
DTSTART:20251026T010000
END:STANDARD
BEGIN:DAYLIGHT
TZOFFSETFROM:+0200
TZOFFSETTO:+0300
TZNAME:EEST
DTSTART:20260329T010000
END:DAYLIGHT
BEGIN:STANDARD
TZOFFSETFROM:+0300
TZOFFSETTO:+0200
TZNAME:EET
DTSTART:20261025T010000
END:STANDARD
END:VTIMEZONE
BEGIN:VEVENT
DTSTART;TZID=Europe/Helsinki:20250422T090000
DTEND;TZID=Europe/Helsinki:20250422T095000
DTSTAMP:20260423T161217
CREATED:20250206T081217Z
LAST-MODIFIED:20250206T081217Z
UID:10003356-1745312400-1745315400@kuopionmuseot.fi
SUMMARY:Rentoudu taiteen keskellä
DESCRIPTION:Taidemuseon rentoutushetkissä virittäydytään kevään tuloon kehoa avaavien\, lempeiden liikkeiden ja hermostoa tasapainottavan hengityksen avulla. Meditatiivinen hetki kutsuu palautumaan ja antaa tilaa luovuudelle. Pukeudu mukavasti ja ota mukaasi vesipullo. \nTaidemuseolta löytyy joogamattoja ja vilttejä\, mutta halutessasi voit ottaa omat mukaan. \nRentoutuksen pääsymaksu 9 €. Lisäksi Kuopion taidemuseon pääsymaksu 10/5 €\, alle 18-vuotiaat ilmaiseksi. Museokortti käy maksuvälineeksi. Varaa paikkasi rentoutukseen Kuopion kaupungin verkkokaupasta Pääsyliput ja opastukset – Kuopion verkkokauppa
URL:https://kuopionmuseot.fi/tapahtuma/rentoudu-taiteen-keskella/2025-04-22/
LOCATION:KUMMA\, Kauppakatu 35\, Kuopio\, 70100
ATTACH;FMTTYPE=image/png:https://kuopionmuseot.fi/wp-content/uploads/2025/02/1920-1080-px-01.png
END:VEVENT
BEGIN:VEVENT
DTSTART;TZID=Europe/Helsinki:20250423T130000
DTEND;TZID=Europe/Helsinki:20250423T131500
DTSTAMP:20260423T161217
CREATED:20250217T090051Z
LAST-MODIFIED:20250217T090051Z
UID:10003430-1745413200-1745414100@kuopionmuseot.fi
SUMMARY:Taidevartti
DESCRIPTION:Tervetuloa taidevartille mukaan uppoutumaan Koloristi kylässä -näyttelyn teoksiin! Taidevarteilla kohdennetaan katse neljännestunniksi yhteen Martti Airion taidekokoelman teokseen ja kuunnellaan museoammattilaisen ajatuksia. Taidevartilla voit nauttia taiteesta omalla tavallasi – voit joko vain kuunnella ja keskittyä teoksen maailmaan tai osallistua aktiivisesti kysellen ja kommentoiden. \nTaidevartti sisältyy Kuopion taidemuseon pääsymaksuun 5/10 €\, alle 18-vuotiaat ilmaiseksi ja Museokortti käy maksuvälineeksi.
URL:https://kuopionmuseot.fi/tapahtuma/taidevartti-2/2025-04-23/
LOCATION:KUMMA\, Kauppakatu 35\, Kuopio\, 70100
ATTACH;FMTTYPE=image/png:https://kuopionmuseot.fi/wp-content/uploads/2025/02/Taidevartti-Koloristi-1920-1080-px-01.png
END:VEVENT
BEGIN:VEVENT
DTSTART;TZID=Europe/Helsinki:20250423T170000
DTEND;TZID=Europe/Helsinki:20250423T180000
DTSTAMP:20260423T161217
CREATED:20250129T111738Z
LAST-MODIFIED:20250129T111738Z
UID:10003348-1745427600-1745431200@kuopionmuseot.fi
SUMMARY:Luontokirjalukupiiri
DESCRIPTION:Luontokirjalukupiiri kokoontuu kerran kuukaudessa keskiviikkoisin klo 17.00–18.00. Lukupiirissä tutustutaan kiehtovan ajankohtaisiin teoksiin ja keskustellaan niiden herättämistä ajatuksista. Kirjallisuus- tai ympäristöasiantuntemusta ei tarvita\, ja mukaan voi tulla yhdelle tai useammalle kerralle. Lukupiiri toimii hyvin myös kirjavinkkauksena – keskustelun kuunteleminen on mainio tapa löytää kiinnostavaa luettavaa! \nLukupiiri järjestetään verkossa Zoom-alustalla osoitteessa: https://zoom.us/j/99576520794 \nEnnakkoilmoittautumista ei tarvita. Lisätietoja saa osoitteesta aikuistenosasto.kirjasto@kuopio.fi \nke 23.4. Karin Erlandsson: Helmenkalastaja
URL:https://kuopionmuseot.fi/tapahtuma/luontokirjalukupiiri-24/
LOCATION:Zoom
ATTACH;FMTTYPE=image/jpeg:https://kuopionmuseot.fi/wp-content/uploads/2024/02/wave_atlantic_pacific_ocean_huge_large_blue_dark_blue-1162238.jpg
END:VEVENT
BEGIN:VEVENT
DTSTART;TZID=Europe/Helsinki:20250423T170000
DTEND;TZID=Europe/Helsinki:20250423T180000
DTSTAMP:20260423T161217
CREATED:20250416T070326Z
LAST-MODIFIED:20250416T091015Z
UID:10003482-1745427600-1745431200@kuopionmuseot.fi
SUMMARY:VARK-kohteet Pohjois-Savossa- esittely
DESCRIPTION:Rajakiviä\, pyyntikuoppia\, hautapaikkoja\, asuinpaikkoja. Mitä muuta? \nTule kuulemaan\, millaisia kohteita maakunnastamme valittiin valtakunnallisesti merkittävien arkeologisten kohteiden joukkoon. Mikä tekee niistä merkittäviä? Millaisia ne ovat? Missä ne sijaitsevat? \nTapahtuma-paikka: Kuopion museon monitoimitila \nAika: ke 23.4. klo 17-18 (esittely noin 17-17.30 ja sen jälkeen aikaa keskustelulle ja kysymyksille) \nVapaa pääsy.
URL:https://kuopionmuseot.fi/tapahtuma/vark-kohteet-pohjois-savossa-esittely/
LOCATION:Kuopion museo
ATTACH;FMTTYPE=image/jpeg:https://kuopionmuseot.fi/wp-content/uploads/2025/04/Rautavaara-Tiilikan-rajakivi.jpg
END:VEVENT
BEGIN:VEVENT
DTSTART;TZID=Europe/Helsinki:20250424T150000
DTEND;TZID=Europe/Helsinki:20250424T153000
DTSTAMP:20260423T161217
CREATED:20250321T082307Z
LAST-MODIFIED:20250823T094640Z
UID:10003469-1745506800-1745508600@kuopionmuseot.fi
SUMMARY:Myyttinen vartti
DESCRIPTION:Myyttiset vartit tarjoavat lyhyehköjä ja ytimekkäitä tietoiskuja Myyttiset – metsän kätköissä -näyttelyn teemoihin liittyen. Varteilla tutustutaan esimerkiksi arkeologisiin löytöihin\, geologisiin ilmiöihin\, sekä kansanperinteen ja -uskon erityispiirteisiin ja ihmeellisyyksiin. \nTervetuloa kuulolle torstaisin klo 15! Vartille pääsee mukaan museon pääsylipulla. \nSYKSYN VARTIT (ohjelmamuutokset ja -täydennykset mahdollisia): \n4.9.2025 klo 15 Suo siellä\, vetelä täällä – suoluonnon monimuotoisuus ja merkitys kansanperinteessä\n25.9.2025 klo 15 Faustista Uhrijuhlaan – katsaus Myyttiset-näyttelyn teemoja sisältäviin elokuviin\n2.10.2025 klo 15 Paranvoi ja sudenmaito\n30.10.2025 klo 15 Maitoa maahan maahisille\n20.11.2025 klo 15 Ankat Sampojahdissa (ja muita suomalaisia myyttejä populaarikulttuurissa)  \n  \nJO TOTEUTUT VARTIT: \n27.3.2025 klo 15 Salamaniskuja ja tulipaloja vastaan – kivikautisen esineiden käyttö taikuudessa ja lääkinnässä \nMikä kiviesine on? Ja miksi sillä katsottiin olevan parantavia ominaisuuksia? Kivikautisiin esineisiin on liitetty erilaisia uskomuksia ja tarinoita\, joilla kiviesineiden synty ja olemassaolo haluttiin selittää. Kiviesineisiin liitettiin myös uskomuksia niiden parantavista ja suojaavista ominaisuuksista. \n3.4.2025 klo 15 Pirunpelloista hiidenkirnuihin\nGeologisen luonnonperinnön myyttisyys: millaisia syntytarinoita kansanperinteessä on keksitty eri geologisille muodostumille ja piirteille\, ja mikä on totuus myyttien taustalla? \n10.4.2025 klo 15 Varhaisimmat muistiin kirjoitetut loitsut Pohjois-Savosta\nItäsuomalainen loitsuperinne säilytti pitkään elinvoimansa. Sitä tallentui erilaisiin lähdeaineistoihin satojen vuosien ajan. Tule tutustumaan kaikkein vanhimpiin pohjoissavolaisiin loitsuihin! \n17.4.2025 klo 15 Metsän väki\nKarhun hampaat ja kynnet\, metsälähteet\, uhrilehdot\, käärmeet… Muun muassa näitä asioita ja paikkoja on pidetty kansanperinteessä väkevinä. Mutta mitä kansanuskon väki ylipäätänsä on\, mistä kaikkialta sitä löytyy\, ja mihin sitä tarvitaan? \n24.4.2025 klo 15 Käärmeiden käräjäkivet ja uhrikupit – kivet ja kalliot suomalaisessa kansanuskossa\nMitä mineraaleja ja kivilajeja väekkäiksi koetuista kivistä ja kallioista löytyy\, ja miten ne ovat syntyneet? Ovatko uhrikuppeina käytetyt painaumat kivissä ja kallioissa syntyneet luonnollisesti vai ovatko ne ihmiskätten töitä? \n8.5.2025 klo 15 Kristillisyyden varhainen vaikutus Pohjois-Savon kansanuskoon\nKansanuskoon liittyvät tiedot ja tavat siirtyivät sukupolvelta toiselle. Jokainen aika lisäsi niihin omat kerroksensa. Millaisen jäljen maailmankuvan mullistanut kristinusko jätti paikalliseen perinteeseen? \n15.5.2025 klo 15 Kansanuskon kauheudet \nKuka on syypää tauteihin\, kuka houkuttelee äkkinäiset järven syövereihin hukuksiin\, millaista porukkaa kalmanväki oikein on? Tämänkertaisella vartilla perehdytään muutamiin kansanuskon ikävämpiin hahmoihin. \n22.5.2025 klo 15 Myyttien viestit menneisyydestä\nVälittyvätkö muinaiset luonnonkatastrofit meillä ja maailmalla myyttisissä tarinoissa? Onko Väinämöisen polvenhaavasta kertovassa kansanrunossa yhteys vedenpaisumusmyytteihin ja edelleen todellisiin tapahtumiin\, esimerkiksi Vuoksen puhkeamiseen noin 6000 vuotta sitten?
URL:https://kuopionmuseot.fi/tapahtuma/myyttinen-vartti/2025-04-24/
LOCATION:Kuopion museo
ATTACH;FMTTYPE=image/jpeg:https://kuopionmuseot.fi/wp-content/uploads/2025/03/Myyttinen-vartti_kansikuva.jpg
ORGANIZER;CN="Kuopion museo":MAILTO:kuopionmuseo@kuopio.fi
END:VEVENT
BEGIN:VEVENT
DTSTART;TZID=Europe/Helsinki:20250426T100000
DTEND;TZID=Europe/Helsinki:20250426T190000
DTSTAMP:20260423T161217
CREATED:20250410T112824Z
LAST-MODIFIED:20250410T112824Z
UID:10003481-1745661600-1745694000@kuopionmuseot.fi
SUMMARY:Taidemuseon synttärit
DESCRIPTION:Nyt juhlitaan\, sillä Kuopion taidemuseo täyttää lauantaina 26.huhtikuuta 45 vuotta! Meillä juhlitaan synttäreitä klo 10–19 ilmaisella sisäänpääsyllä ja kummallisella ohjelmalla. \nTule mukaan viettämään hauskaa päivää täynnä taidetta\, musiikkia\, yhdessäoloa ja yllätyksiä. Aamupäivällä tekemistä erityisesti lapsille ja lapsiperheille. Upea Koloristi kylässä -näyttely on esillä toiseksi viimeistä päivää. \nIlmainen sisäänpääsy koko päivän ajan. Tervetuloa! \nTapahtuma on osa Kuopio 250 -juhlavuoden ohjelmistoa. \n  \nSynttäriohjelma:\nKasvomaalausta 10:00–12:00 \nOnginta 10:00–12:00 \nDJ Riku R:n lasten DJ-työpaja 10:30–12:30 \nOnnenpyörä 11:00 \nSyntymäpäiväpuhe 12:30 \nTaiteilija tavattavissa: Riikka Viinikanoja taidelainaamolla12:00–15:00 \nOnnenpyörä 13:00 \nKumma-vartti 13:15 \nKurkistus Olotilaan 14:00* VARAA PAIKKASI \nKalakukko-kvintetti 14:00 \nOnnenpyörä 15:00 \nKumma-vartti 15:15 \nKurkistus tulevaan perusnäyttelyyn 16:00* VARAA PAIKKASI \nKasvomaalausta 16:00–19:00 \nUrakkanuppi 16:30 \nMari Halosen Kuvitettu muisto -työpaja 16:00–18:00 \nOnnenpyörä 17:00 \nKumma-vartti 17:15 \nKurkistus kissaportaikkoon 18:00* VARAA PAIKKASI \nYhteiskunnan pienet porsaat 18:00 \n  \n*Ennakkoilmoittautuminen (0€) Kuopion kaupungin verkkokaupan kautta
URL:https://kuopionmuseot.fi/tapahtuma/taidemuseon-synttarit/
LOCATION:KUMMA\, Kauppakatu 35\, Kuopio\, 70100
ATTACH;FMTTYPE=image/jpeg:https://kuopionmuseot.fi/wp-content/uploads/2025/04/synttarit-fullhd.jpg
END:VEVENT
BEGIN:VEVENT
DTSTART;TZID=Europe/Helsinki:20250426T110000
DTEND;TZID=Europe/Helsinki:20250426T113000
DTSTAMP:20260423T161217
CREATED:20250221T111214Z
LAST-MODIFIED:20250227T072356Z
UID:10003439-1745665200-1745667000@kuopionmuseot.fi
SUMMARY:Jäniksen jäljillä -opastus
DESCRIPTION:Myyttiset – metsän kätköissä -näyttelyn lastenopastuksella lähdetään jäniksen jäljille. Millaisten ihmeiden äärelle pupujussi mahtaa meidät johdattaa?   \nOpastus lähtee museon lipunmyynnin läheisyydestä lauantaisin klo 11  seuraavina päivinä: 8.3.\, 15.3.\, 29.3.\, 12.4.\, 26.4.\, 10.5. sekä 24.5. \nOpastuksen kesto on noin 30 minuuttia ja se sisältyy museon pääsymaksuun (15/10 €\, alle 18-v maksutta)\, Museokortti ja Kaikukortti käyvät. \n***\nKuopion museon Myyttiset – metsän kätköissä -näyttely vie menneisyyden aarniometsään keskelle kansanuskon maailmaa. Se on tehty monilla aisteilla koettavaksi\, elämykselliseksi ihmettelyn paikaksi\, jossa riittää tutkittavaa kaikenikäisille.\n\nKuopion luonnontieteellisen museon ja Kuopion kulttuurihistoriallisen museon yhteistyönä tuottamassa näyttelyssä on esillä erityistä voimaa omaavia taikaesineitä sekä kiehtovia eläimiä. Tarinat\, uskomukset ja todelliset luonnonilmiöt punoutuvat yhteen ainutlaatuisella tavalla. Kulje entisajan metsässä\, tutustu myyttisiin hahmoihin\, joudu metsänpeittoon ja loitsi itsesi vapaaksi!\n\nMyyttiset-näyttely ja siihen liittyvät tapahtumat ovat osa Kuopio250-juhlavuoden ohjelmistoa.
URL:https://kuopionmuseot.fi/tapahtuma/janiksen-jaljilla-opastus/2025-04-26/
LOCATION:Kuopion museo
ATTACH;FMTTYPE=image/jpeg:https://kuopionmuseot.fi/wp-content/uploads/2025/02/Myyttiset-JaniksenJaljillaOPASTUS.jpg
END:VEVENT
BEGIN:VEVENT
DTSTART;TZID=Europe/Helsinki:20250427T130000
DTEND;TZID=Europe/Helsinki:20250427T134500
DTSTAMP:20260423T161217
CREATED:20250221T120300Z
LAST-MODIFIED:20250221T125120Z
UID:10003446-1745758800-1745761500@kuopionmuseot.fi
SUMMARY:Myyttiset-näyttelyopastus
DESCRIPTION:Myyttiset-näyttelyopastus kuljettaa kulkijan halki entisaikojen metsän. Metsäretkellä tutustutaan esivanhempiemme elämää rytmittäneeseen kansanuskoon. Matkan varrelta löytyy niin myyteistä tuttuja olentoja ja luontotietoa kuin vanhin tunnettu pohjoissavolainen loitsukin. \nTiedontäyteinen kierros sopii parhaiten aikuisille ja nuorille ja on kestoltaan noin 45 minuuttia.  Opastus lähtee lipunmyynnin läheisyydestä sunnuntaisin klo 13  seuraavina päivinä: 9.3.\, 16.3.\, 30.3.\, 13.4.\, 27.4.\, 11.5. sekä 25.5. \nOpastus sisältyy museon pääsymaksuun (15/10 €\, alle 18-v maksutta)\, Museokortti ja Kaikukortti käyvät. \n***\nKuopion museon Myyttiset – metsän kätköissä -näyttely vie menneisyyden aarniometsään keskelle kansanuskon maailmaa. Se on tehty monilla aisteilla koettavaksi\, elämykselliseksi ihmettelyn paikaksi\, jossa riittää tutkittavaa kaikenikäisille. \nKuopion luonnontieteellisen museon ja Kuopion kulttuurihistoriallisen museon yhteistyönä tuottamassa näyttelyssä on esillä erityistä voimaa omaavia taikaesineitä sekä kiehtovia eläimiä. Tarinat\, uskomukset ja todelliset luonnonilmiöt punoutuvat yhteen ainutlaatuisella tavalla. Kulje entisajan metsässä\, tutustu myyttisiin hahmoihin\, joudu metsänpeittoon ja loitsi itsesi vapaaksi! \nMyyttiset-näyttely ja siihen liittyvät tapahtumat ovat osa Kuopio250-juhlavuoden ohjelmistoa.
URL:https://kuopionmuseot.fi/tapahtuma/myyttiset-nayttelyopastus/2025-04-27/
LOCATION:Kuopion museo
ATTACH;FMTTYPE=image/jpeg:https://kuopionmuseot.fi/wp-content/uploads/2025/02/Myyttiset-nayttelyopastus.jpg
END:VEVENT
END:VCALENDAR