BEGIN:VCALENDAR
VERSION:2.0
PRODID:-//Kuopion museot - ECPv6.15.20//NONSGML v1.0//EN
CALSCALE:GREGORIAN
METHOD:PUBLISH
X-ORIGINAL-URL:https://kuopionmuseot.fi
X-WR-CALDESC:Tapahtumat Kuopion museot
REFRESH-INTERVAL;VALUE=DURATION:PT1H
X-Robots-Tag:noindex
X-PUBLISHED-TTL:PT1H
BEGIN:VTIMEZONE
TZID:Europe/Helsinki
BEGIN:DAYLIGHT
TZOFFSETFROM:+0200
TZOFFSETTO:+0300
TZNAME:EEST
DTSTART:20240331T010000
END:DAYLIGHT
BEGIN:STANDARD
TZOFFSETFROM:+0300
TZOFFSETTO:+0200
TZNAME:EET
DTSTART:20241027T010000
END:STANDARD
BEGIN:DAYLIGHT
TZOFFSETFROM:+0200
TZOFFSETTO:+0300
TZNAME:EEST
DTSTART:20250330T010000
END:DAYLIGHT
BEGIN:STANDARD
TZOFFSETFROM:+0300
TZOFFSETTO:+0200
TZNAME:EET
DTSTART:20251026T010000
END:STANDARD
BEGIN:DAYLIGHT
TZOFFSETFROM:+0200
TZOFFSETTO:+0300
TZNAME:EEST
DTSTART:20260329T010000
END:DAYLIGHT
BEGIN:STANDARD
TZOFFSETFROM:+0300
TZOFFSETTO:+0200
TZNAME:EET
DTSTART:20261025T010000
END:STANDARD
END:VTIMEZONE
BEGIN:VEVENT
DTSTART;TZID=Europe/Helsinki:20250409T130000
DTEND;TZID=Europe/Helsinki:20250409T131500
DTSTAMP:20260423T174116
CREATED:20250217T090051Z
LAST-MODIFIED:20250217T090051Z
UID:10003428-1744203600-1744204500@kuopionmuseot.fi
SUMMARY:Taidevartti
DESCRIPTION:Tervetuloa taidevartille mukaan uppoutumaan Koloristi kylässä -näyttelyn teoksiin! Taidevarteilla kohdennetaan katse neljännestunniksi yhteen Martti Airion taidekokoelman teokseen ja kuunnellaan museoammattilaisen ajatuksia. Taidevartilla voit nauttia taiteesta omalla tavallasi – voit joko vain kuunnella ja keskittyä teoksen maailmaan tai osallistua aktiivisesti kysellen ja kommentoiden. \nTaidevartti sisältyy Kuopion taidemuseon pääsymaksuun 5/10 €\, alle 18-vuotiaat ilmaiseksi ja Museokortti käy maksuvälineeksi.
URL:https://kuopionmuseot.fi/tapahtuma/taidevartti-2/2025-04-09/
LOCATION:KUMMA\, Kauppakatu 35\, Kuopio\, 70100
ATTACH;FMTTYPE=image/png:https://kuopionmuseot.fi/wp-content/uploads/2025/02/Taidevartti-Koloristi-1920-1080-px-01.png
END:VEVENT
BEGIN:VEVENT
DTSTART;TZID=Europe/Helsinki:20250409T140000
DTEND;TZID=Europe/Helsinki:20250409T183000
DTSTAMP:20260423T174116
CREATED:20250203T062312Z
LAST-MODIFIED:20250326T060929Z
UID:10003349-1744207200-1744223400@kuopionmuseot.fi
SUMMARY:OMPELUSEURAT: Vetoketjupaja & kanteletaidetta
DESCRIPTION:Kuopion museon monitoimitila\, vapaa pääsy \n  \nVetoketju on usein vaatteen heikoin osa\, mutta korjaus ja vaihto voi onnistua melko helpostikin ilman kaikkien ompeleiden avaamista. Tule vetoketjupulmiesi kanssa hakemaan neuvoja korjauspajasta! Teemasta riippumatta voit tulla kaikenlaisten korjaustöiden kanssa. Korjausaktiivit neuvovat korjaamisen alkuun. \nPajaan saa tulla ilman ennakkoilmoittautumista oman aikataulun mukaan. Paikan päältä löytyy ompelukoneita ja korjaamiseen paikkakankaita\, lankoja ja hyvässä lykyssä kierrätetty vetoketju.  Voit tuoda käyttöön ja kiertoon myös omia materiaaleja. \nIllan esiintyjä on karjalaiseen kanteleperinteeseen syventynyt kanteletaiteilija Jenni Venäläinen. Keikalla kuultavat omat sävellykset ja improvisaatiot pohjautuvat tuon perinteen vähäeleiseen\, rytmiseen ja improvisatoriseen maailmaan. Erityisesti Jenniä kiehtoo perinne\, jossa kanteleilla imitoitiin kirkonkelloja. Esitysaika klo 17.30. \nKorjataan se\, mitä pystytään. Korjataan tämä! \nKorjataan tämä elämä kestäväksi elämäksi. \n  \nKorjaaminen on arjen juhlaa!  Tapahtuma osa Kuopio250-ohjelmistoa ja saanut juhlavuoden tuotantotukea. Yhteistyössä Kuopion museo\, Jätekukko\, Kantti\, Elävä säätiö ja ITAK \nOhjelmamuutokset ja täydennykset mahdollisia. OMPELUSEURAT Instagramista.\n \n*** \nOMPELUSEURAT KORJAUSPAJOJEN  KEVÄTKAUSI 2025 \nKorjauspaja avoinna klo 14-18.30\, esitysaika pääsääntöisesti klo 17.30 \nPaikka: Kuopion museon monitoimitila (Museokatu 1). Osallistuminen on maksutonta. \n  \nKe 15.1. klo 14-19 OMPELUSEURAT: Lastenvaatteiden korjaus & Kasvu – saksofoni Anna Voutilainen-Veijonen \nKe 12.2. klo 14-19 OMPELUSEURAT: Parsintapaja & Osallisuudesta -esitys Lasse Forsgren \nKe 12.3. klo 14-18.30 Farkkujen paikkaus & Syntyä/Syvyydestä – tanssi Outi Markkula ja viulu Emilia Lajunen \nKe 9.4. klo 14-18.30 OMPELUSEURAT: Vetoketjupaja – korjaus ja vaihto & Jenni Venäläisen kanteletaidetta \nKe 7.5. klo 14-18.30 OMPELUSEURAT: Kangaskenkien ja laukkujen korjaus & Volttilähtö -kuvaelma Lasse Forsgren
URL:https://kuopionmuseot.fi/tapahtuma/ompeluseurat-korjausompelupajat/
LOCATION:Kuopion museo
ATTACH;FMTTYPE=image/jpeg:https://kuopionmuseot.fi/wp-content/uploads/2025/02/Korjataan-tämä_vaaka.jpeg
END:VEVENT
BEGIN:VEVENT
DTSTART;TZID=Europe/Helsinki:20250410T140000
DTEND;TZID=Europe/Helsinki:20250410T163000
DTSTAMP:20260423T174116
CREATED:20250107T081323Z
LAST-MODIFIED:20250127T073850Z
UID:10003158-1744293600-1744302600@kuopionmuseot.fi
SUMMARY:Avoin kuvapaja
DESCRIPTION:Kaikenikäisille aikuisille suunnatut avoimet kuvapajat\, jossa taiteen keinoin tapahtuvaan tekemiseen syvennytään eri teemojen kautta. Aiempaa kokemusta piirtämisestä tai maalaamisesta ei tarvita. \nEi ennakkoilmoittautumista\, mukaan voi tulla silloin kun itselle sopii. Pajatoiminta on maksutonta ja taidetarvikkeet löytyvät paikan päältä. Huom! Paikkoja oppimistilassa on rajoitettu määrä. \nTORSTAIN KUVAPAJA KLO 14‒16.30 Kuopion museon katukerroksen oppimistilassa seuraavina päivinä: 23.1. / 30.1. / 6.2. / 13.2. / 20.2. / 27.2. / TALVITAUKO / 20.3. / 27.3. / 3.4. / 10.4. / 17.4. / 24.4. \nJärj. Kuopion kaupunki\, Kansalaistoiminnan palvelut. Yhteistyössä Kuopion museo.
URL:https://kuopionmuseot.fi/tapahtuma/avoinkuvapaja-2-2/2025-04-10/
LOCATION:Kuopion museo
ATTACH;FMTTYPE=image/jpeg:https://kuopionmuseot.fi/wp-content/uploads/2024/02/Kuvapaja1.jpg
END:VEVENT
BEGIN:VEVENT
DTSTART;TZID=Europe/Helsinki:20250410T150000
DTEND;TZID=Europe/Helsinki:20250410T153000
DTSTAMP:20260423T174116
CREATED:20250321T082307Z
LAST-MODIFIED:20250823T094640Z
UID:10003467-1744297200-1744299000@kuopionmuseot.fi
SUMMARY:Myyttinen vartti
DESCRIPTION:Myyttiset vartit tarjoavat lyhyehköjä ja ytimekkäitä tietoiskuja Myyttiset – metsän kätköissä -näyttelyn teemoihin liittyen. Varteilla tutustutaan esimerkiksi arkeologisiin löytöihin\, geologisiin ilmiöihin\, sekä kansanperinteen ja -uskon erityispiirteisiin ja ihmeellisyyksiin. \nTervetuloa kuulolle torstaisin klo 15! Vartille pääsee mukaan museon pääsylipulla. \nSYKSYN VARTIT (ohjelmamuutokset ja -täydennykset mahdollisia): \n4.9.2025 klo 15 Suo siellä\, vetelä täällä – suoluonnon monimuotoisuus ja merkitys kansanperinteessä\n25.9.2025 klo 15 Faustista Uhrijuhlaan – katsaus Myyttiset-näyttelyn teemoja sisältäviin elokuviin\n2.10.2025 klo 15 Paranvoi ja sudenmaito\n30.10.2025 klo 15 Maitoa maahan maahisille\n20.11.2025 klo 15 Ankat Sampojahdissa (ja muita suomalaisia myyttejä populaarikulttuurissa)  \n  \nJO TOTEUTUT VARTIT: \n27.3.2025 klo 15 Salamaniskuja ja tulipaloja vastaan – kivikautisen esineiden käyttö taikuudessa ja lääkinnässä \nMikä kiviesine on? Ja miksi sillä katsottiin olevan parantavia ominaisuuksia? Kivikautisiin esineisiin on liitetty erilaisia uskomuksia ja tarinoita\, joilla kiviesineiden synty ja olemassaolo haluttiin selittää. Kiviesineisiin liitettiin myös uskomuksia niiden parantavista ja suojaavista ominaisuuksista. \n3.4.2025 klo 15 Pirunpelloista hiidenkirnuihin\nGeologisen luonnonperinnön myyttisyys: millaisia syntytarinoita kansanperinteessä on keksitty eri geologisille muodostumille ja piirteille\, ja mikä on totuus myyttien taustalla? \n10.4.2025 klo 15 Varhaisimmat muistiin kirjoitetut loitsut Pohjois-Savosta\nItäsuomalainen loitsuperinne säilytti pitkään elinvoimansa. Sitä tallentui erilaisiin lähdeaineistoihin satojen vuosien ajan. Tule tutustumaan kaikkein vanhimpiin pohjoissavolaisiin loitsuihin! \n17.4.2025 klo 15 Metsän väki\nKarhun hampaat ja kynnet\, metsälähteet\, uhrilehdot\, käärmeet… Muun muassa näitä asioita ja paikkoja on pidetty kansanperinteessä väkevinä. Mutta mitä kansanuskon väki ylipäätänsä on\, mistä kaikkialta sitä löytyy\, ja mihin sitä tarvitaan? \n24.4.2025 klo 15 Käärmeiden käräjäkivet ja uhrikupit – kivet ja kalliot suomalaisessa kansanuskossa\nMitä mineraaleja ja kivilajeja väekkäiksi koetuista kivistä ja kallioista löytyy\, ja miten ne ovat syntyneet? Ovatko uhrikuppeina käytetyt painaumat kivissä ja kallioissa syntyneet luonnollisesti vai ovatko ne ihmiskätten töitä? \n8.5.2025 klo 15 Kristillisyyden varhainen vaikutus Pohjois-Savon kansanuskoon\nKansanuskoon liittyvät tiedot ja tavat siirtyivät sukupolvelta toiselle. Jokainen aika lisäsi niihin omat kerroksensa. Millaisen jäljen maailmankuvan mullistanut kristinusko jätti paikalliseen perinteeseen? \n15.5.2025 klo 15 Kansanuskon kauheudet \nKuka on syypää tauteihin\, kuka houkuttelee äkkinäiset järven syövereihin hukuksiin\, millaista porukkaa kalmanväki oikein on? Tämänkertaisella vartilla perehdytään muutamiin kansanuskon ikävämpiin hahmoihin. \n22.5.2025 klo 15 Myyttien viestit menneisyydestä\nVälittyvätkö muinaiset luonnonkatastrofit meillä ja maailmalla myyttisissä tarinoissa? Onko Väinämöisen polvenhaavasta kertovassa kansanrunossa yhteys vedenpaisumusmyytteihin ja edelleen todellisiin tapahtumiin\, esimerkiksi Vuoksen puhkeamiseen noin 6000 vuotta sitten?
URL:https://kuopionmuseot.fi/tapahtuma/myyttinen-vartti/2025-04-10/
LOCATION:Kuopion museo
ATTACH;FMTTYPE=image/jpeg:https://kuopionmuseot.fi/wp-content/uploads/2025/03/Myyttinen-vartti_kansikuva.jpg
ORGANIZER;CN="Kuopion museo":MAILTO:kuopionmuseo@kuopio.fi
END:VEVENT
BEGIN:VEVENT
DTSTART;TZID=Europe/Helsinki:20250412T110000
DTEND;TZID=Europe/Helsinki:20250412T113000
DTSTAMP:20260423T174116
CREATED:20250221T111214Z
LAST-MODIFIED:20250227T072356Z
UID:10003438-1744455600-1744457400@kuopionmuseot.fi
SUMMARY:Jäniksen jäljillä -opastus
DESCRIPTION:Myyttiset – metsän kätköissä -näyttelyn lastenopastuksella lähdetään jäniksen jäljille. Millaisten ihmeiden äärelle pupujussi mahtaa meidät johdattaa?   \nOpastus lähtee museon lipunmyynnin läheisyydestä lauantaisin klo 11  seuraavina päivinä: 8.3.\, 15.3.\, 29.3.\, 12.4.\, 26.4.\, 10.5. sekä 24.5. \nOpastuksen kesto on noin 30 minuuttia ja se sisältyy museon pääsymaksuun (15/10 €\, alle 18-v maksutta)\, Museokortti ja Kaikukortti käyvät. \n***\nKuopion museon Myyttiset – metsän kätköissä -näyttely vie menneisyyden aarniometsään keskelle kansanuskon maailmaa. Se on tehty monilla aisteilla koettavaksi\, elämykselliseksi ihmettelyn paikaksi\, jossa riittää tutkittavaa kaikenikäisille.\n\nKuopion luonnontieteellisen museon ja Kuopion kulttuurihistoriallisen museon yhteistyönä tuottamassa näyttelyssä on esillä erityistä voimaa omaavia taikaesineitä sekä kiehtovia eläimiä. Tarinat\, uskomukset ja todelliset luonnonilmiöt punoutuvat yhteen ainutlaatuisella tavalla. Kulje entisajan metsässä\, tutustu myyttisiin hahmoihin\, joudu metsänpeittoon ja loitsi itsesi vapaaksi!\n\nMyyttiset-näyttely ja siihen liittyvät tapahtumat ovat osa Kuopio250-juhlavuoden ohjelmistoa.
URL:https://kuopionmuseot.fi/tapahtuma/janiksen-jaljilla-opastus/2025-04-12/
LOCATION:Kuopion museo
ATTACH;FMTTYPE=image/jpeg:https://kuopionmuseot.fi/wp-content/uploads/2025/02/Myyttiset-JaniksenJaljillaOPASTUS.jpg
END:VEVENT
BEGIN:VEVENT
DTSTART;TZID=Europe/Helsinki:20250413T130000
DTEND;TZID=Europe/Helsinki:20250413T134500
DTSTAMP:20260423T174116
CREATED:20250221T120300Z
LAST-MODIFIED:20250221T125120Z
UID:10003445-1744549200-1744551900@kuopionmuseot.fi
SUMMARY:Myyttiset-näyttelyopastus
DESCRIPTION:Myyttiset-näyttelyopastus kuljettaa kulkijan halki entisaikojen metsän. Metsäretkellä tutustutaan esivanhempiemme elämää rytmittäneeseen kansanuskoon. Matkan varrelta löytyy niin myyteistä tuttuja olentoja ja luontotietoa kuin vanhin tunnettu pohjoissavolainen loitsukin. \nTiedontäyteinen kierros sopii parhaiten aikuisille ja nuorille ja on kestoltaan noin 45 minuuttia.  Opastus lähtee lipunmyynnin läheisyydestä sunnuntaisin klo 13  seuraavina päivinä: 9.3.\, 16.3.\, 30.3.\, 13.4.\, 27.4.\, 11.5. sekä 25.5. \nOpastus sisältyy museon pääsymaksuun (15/10 €\, alle 18-v maksutta)\, Museokortti ja Kaikukortti käyvät. \n***\nKuopion museon Myyttiset – metsän kätköissä -näyttely vie menneisyyden aarniometsään keskelle kansanuskon maailmaa. Se on tehty monilla aisteilla koettavaksi\, elämykselliseksi ihmettelyn paikaksi\, jossa riittää tutkittavaa kaikenikäisille. \nKuopion luonnontieteellisen museon ja Kuopion kulttuurihistoriallisen museon yhteistyönä tuottamassa näyttelyssä on esillä erityistä voimaa omaavia taikaesineitä sekä kiehtovia eläimiä. Tarinat\, uskomukset ja todelliset luonnonilmiöt punoutuvat yhteen ainutlaatuisella tavalla. Kulje entisajan metsässä\, tutustu myyttisiin hahmoihin\, joudu metsänpeittoon ja loitsi itsesi vapaaksi! \nMyyttiset-näyttely ja siihen liittyvät tapahtumat ovat osa Kuopio250-juhlavuoden ohjelmistoa.
URL:https://kuopionmuseot.fi/tapahtuma/myyttiset-nayttelyopastus/2025-04-13/
LOCATION:Kuopion museo
ATTACH;FMTTYPE=image/jpeg:https://kuopionmuseot.fi/wp-content/uploads/2025/02/Myyttiset-nayttelyopastus.jpg
END:VEVENT
END:VCALENDAR