BEGIN:VCALENDAR
VERSION:2.0
PRODID:-//Kuopion museot - ECPv6.15.20//NONSGML v1.0//EN
CALSCALE:GREGORIAN
METHOD:PUBLISH
X-WR-CALNAME:Kuopion museot
X-ORIGINAL-URL:https://kuopionmuseot.fi
X-WR-CALDESC:Tapahtumat Kuopion museot
REFRESH-INTERVAL;VALUE=DURATION:PT1H
X-Robots-Tag:noindex
X-PUBLISHED-TTL:PT1H
BEGIN:VTIMEZONE
TZID:Europe/Helsinki
BEGIN:DAYLIGHT
TZOFFSETFROM:+0200
TZOFFSETTO:+0300
TZNAME:EEST
DTSTART:20240331T010000
END:DAYLIGHT
BEGIN:STANDARD
TZOFFSETFROM:+0300
TZOFFSETTO:+0200
TZNAME:EET
DTSTART:20241027T010000
END:STANDARD
BEGIN:DAYLIGHT
TZOFFSETFROM:+0200
TZOFFSETTO:+0300
TZNAME:EEST
DTSTART:20250330T010000
END:DAYLIGHT
BEGIN:STANDARD
TZOFFSETFROM:+0300
TZOFFSETTO:+0200
TZNAME:EET
DTSTART:20251026T010000
END:STANDARD
BEGIN:DAYLIGHT
TZOFFSETFROM:+0200
TZOFFSETTO:+0300
TZNAME:EEST
DTSTART:20260329T010000
END:DAYLIGHT
BEGIN:STANDARD
TZOFFSETFROM:+0300
TZOFFSETTO:+0200
TZNAME:EET
DTSTART:20261025T010000
END:STANDARD
END:VTIMEZONE
BEGIN:VEVENT
DTSTART;TZID=Europe/Helsinki:20250325T150000
DTEND;TZID=Europe/Helsinki:20250325T170000
DTSTAMP:20260423T173949
CREATED:20250324T121737Z
LAST-MODIFIED:20250324T121737Z
UID:10003473-1742914800-1742922000@kuopionmuseot.fi
SUMMARY:Taidetyöpaja sukupuoli- ja seksuaali-vähemmistöön kuuluville\, nuoret alle 18-v / Art Workshops for Queer People\, under 18
DESCRIPTION:DRAWING OUT LOUD \nTaidetyöpajat seksuaali- ja sukupuolivähemmistöille. Maksuton nuorten ryhmä\, alle 18 – vuotiaat \nArt workshops for sexual and gender minorities. Free youth group\, for under 18 years old \n  \nKuopion Museon oppimistilassa / \nKuopio MUSEUM\, Pedagogical space \n  \n25.3. / 11.4. / 15.4. / 23.4. / 29.4. / 6.5. / 7.5.   klo 15-17 \nIlmoittautuminen / Sign up & info:   emmavilina@gmail.com \nTogether with artist Emma Fält \nYhteistyössä / together with : Kuopion kaupunki ja Kuopion Museo \nNuorille suunnatuissa työpajoissa tutkimme maailmaa piirtäen\, aistien ja keskustellen. Pohdimme kehollisuutta\, monimuotoisuutta\, erilaisissa tiloissa olemista ja sitä\, miten koemme itsemme niissä. Tänä keväänä työskennellään erilaisten kuunteluharjoitusten parissa ja pohditaan vuorovaikutusta. Keskeistä työskentelyssä on vuorovaikutteisuus ja mahdollisuus luoda tila\, jossa queeriksi* itsensä kokevat ja identiteettiään pohtivat voivat ilmaista itseään ja tutustua toisiinsa tekemisen kautta\, sekä etsiä ja löytää itselle sopivia ilmaisun muotoja. Tule mukaan ja tuo ystäväsi! \nTyöpajat ovat osallistujille maksuttomia. Aiempaa osaamista tai kokemusta taiteellisesta työskentelystä ei tarvita. \n\nQueer – kattokäsite\, jolla kuvaillaan sekä seksuaali- että sukupuolivähemmistöjä. Queer on alkuperäisesti ollut sateenkaarivähemmistöjä halveksuva ja loukkaava sana\, mutta se on vuosien saatossa omittu sateenkaariyhteisöjen käyttöön. Lähde: https://kehraaja.com/opas-sateenkaarisanastoon/
URL:https://kuopionmuseot.fi/tapahtuma/taidetyopaja-sukupuoli-ja-seksuaali-vahemmistoon-kuuluville-nuoret-alle-18-v-art-workshops-for-queer-people-under-18/
LOCATION:Kuopion museo
ATTACH;FMTTYPE=image/jpeg:https://kuopionmuseot.fi/wp-content/uploads/2025/01/Queer-taidepaja-kuva.jpg
END:VEVENT
BEGIN:VEVENT
DTSTART;TZID=Europe/Helsinki:20250325T153000
DTEND;TZID=Europe/Helsinki:20250325T163000
DTSTAMP:20260423T173949
CREATED:20250211T104544Z
LAST-MODIFIED:20250311T120153Z
UID:10003341-1742916600-1742920200@kuopionmuseot.fi
SUMMARY:Luentosarja: Perinnekäsitöistä ideoita oman tyylin tuunaukseen
DESCRIPTION:Yhteistyössä Kuopion käsityöyhdistys Käsillä ry\, Kuopion museo ja Kuopion korttelimuseo tarjoavat kaikille avoimen luentosarjan\, jonka tavoitteena on elävöittää perinnekäsitöiden tuntemusta ja säilyttämistä. \nPääsemme kurkistamaan museoiden tekstiiliaarteisiin ja tutustumaan erilaisiin työmenetelmiin. Jalkaudumme Kuopion museon monitoimitilasta myös Korttelimuseoon ja Käsillä ry:n kutomoon.  Kunkin luentokerran paikka on tarkistettavissa ohjelmatiedoissa. \nLuentokokonaisuus antaa ideoita tekstiilien kierrätykseen\, perinteen tuomiseen osaksi nykyaikaa ja oman tyylin tuunaukseen. \nLuentosarja on osa Kuopio250-juhlavuoden ohjelmistoa sekä OLVI-säätiön rahoittamaa hanketta\, jossa nuoret osallistuvat luentosarjaan ja lisäksi toteuttavat perinteestä kumpuavia kudonnaisia. \nMaksuttoman luentosarjan aikataulu\, paikat ja sisällöt:\n4.2. klo 15 Kansan- ja kansallispuvut\, Seppo Latvala.\nPaikka: Kuopion museon monitoimitila\, Museokatu 1.\nKuvaus: Harrastajatutkija Seppo Latvala kertoo kansallispukujen ja kansanpukujen historiasta.\nHuom. poikkeava aloitusaika!\n4.2. luennon striimilinkki: https://www.youtube.com/watch?v=d9yq-tFYFwc (Suosittelemme saapumista paikan päälle.)\n \n11.2. klo 15 Korut kansallispuvuissa ja helavyöt\, Seppo Latvala.\nPaikka: Kuopion museon monitoimitila.\nKuvaus: Harrastajatutkija Seppo Latvala kertoo kansallispukujen koruista ja helavöistä.\nHuom. poikkeava aloitusaika!\n11.2. luentokerta tallennetaan ja julkaistaan videon editoinnin jälkeen Kuopion museon Youtube-kanavalla myöhemmin.\n \n18.2. klo 15.30 Kaunista ja kestävää käsityötä\, Sanna Reinikainen.\nPaikka: Kuopion korttelimuseo\, Kirkkokatu 22. \n25.2. klo 15.30 Vaatteita vanhoista kankaista ja lankaa luonnonvaraisesta nokkosesta\, Mirka Tuovinen. Tilaisuutta ei striimata.\nPaikka: Kuopion museon monitoimitila.\nKuvaus: Mirka Tuovinen on tekstiilikierrätyksen edelläkävijänä suunnitellut ja valmistanut vaatteita kierrätys- ja poistotekstiileistä jo 25 vuotta. Materiaalien arvostus ja emotionaalinen muotoilu ovat ekologisen pukeutumisen lähtökohtia ja Mirka Pukine Oy:n toimintaperiaatteita. Luento avaa näkymiä kierrätysmateriaalien hyödyntämiseen ja tulevaisuuden ekologisiin kuituihin.\n \n11.3. klo 15.30 Kansanomaiset tekstiilit Kuopion kulttuurihistoriallisen museon kokoelmissa\, Anu Reijonen.\nPaikka: Kuopion museon monitoimitila.\n11.3. luennon striimilinkki https://www.youtube.com/live/yNW73fecR_c?si=nOUCp2IjVIdQMlG7 (Suosittelemme saapumista paikan päälle.) \n18.3 klo 15.30 Käsityölaukku perinteen siirtäjänä\, Sanna Reinikainen.\nPaikka: Kuopion museon monitoimitila. \n25.3. klo 15.30 Kudontaperinteen jatkuminen\,  Kati Jauhiainen.\nPaikka: Käsillä ry\, Vuorikatu 9 c.\nKuvaus: Esitellään Käsillä ry:n toimintaa ja perehdytään kudonnan alkeisiin. Kati Jauhiainen\, muotoilija AMK. Kati on tehnyt opinnäytetyönsä aiheesta “Räsymatto: kokeilevaa kudontaa poistotekstiileistä”. \n1.4. klo 15.30 Historiasta inspiroituminen osana muotoilua ja käsitöitä\, Tytti Vuorikari.\nPaikka: Kuopion museon monitoimitila.\nKuvaus: Toimin Savonia ammattikorkeakoulussa opettajana Palvelumuotoilun ja muotoilun historian opintojaksoilla. Tein maisteriopinnot ja aloitin jatko-opinnot Lapin yliopistossa\, jossa opetin myös palvelumuotoilun maisteriohjelmassa ennen Savoniaan siirtymistä. Väitöskirjani koskee arkistojen käyttöä muotoilun tutkimuksessa ja niiden merkitystä. Väitöskirjassani tutustuin Designarkistoon talletettuihin arkistoihin ja haastattelin arkistonluovuttajia. \nHistoriasta voi ammentaa paljon tietoa ja inspiraatiota. Koen että historia ei ole muuttumaton\, vaan sitä kirjoitettaan uudelleen ja uudelleen uusista näkökulmista. Arkistot\, erityisesti muotoilualan\, miellän omanlaisiksi aarrekammioiksi\, joista voin löytää niintä erityisempiä\, harvinaisempia ja ”kadonneita aarteita”\, jotka tuovat lisää uusia ääniä avaamaan historiaamme esineiden ja palveluiden muotoilun näkökulmasta.\n \n  \nLuennoille on vapaa pääsy. Lämpimästi tervetuloa!
URL:https://kuopionmuseot.fi/tapahtuma/luentosarja-perinnekasitoista-ideoita-oman-tyylin-tuunaukseen-2/2025-03-25/
ATTACH;FMTTYPE=image/jpeg:https://kuopionmuseot.fi/wp-content/uploads/2025/01/Luentosarja-Perinnekasitoista-ideoita-oman-tyylin-tuunaukseen-vaaka.jpg
END:VEVENT
BEGIN:VEVENT
DTSTART;TZID=Europe/Helsinki:20250326T100000
DTEND;TZID=Europe/Helsinki:20250326T103000
DTSTAMP:20260423T173949
CREATED:20250320T080454Z
LAST-MODIFIED:20250324T114340Z
UID:10003463-1742983200-1742985000@kuopionmuseot.fi
SUMMARY:Myyttinen satutunti
DESCRIPTION:Kuopion pääkirjaston satutunti tulee Maailman metsäpäivän kunniaksi ke 26.3. klo 10 vieraisille Kuopion museon monitoimitilaan. Satutuntilla kerrotaan lumoavia metsätarinoita ja tutustutaan niin entisaikojen myytteihin kuin oikeisiinkin metsän asukkaisiin museon Myyttiset-näyttelyn hengessä. \nSatutunti kestää noin puoli tuntia ja sopii parhaiten 3–7-vuotiaille. Tapahtuma on kaikille avoin ja maksuton. \nTervetuloa!
URL:https://kuopionmuseot.fi/tapahtuma/myyttinen-satutunti/
LOCATION:Kuopion museo
ATTACH;FMTTYPE=image/jpeg:https://kuopionmuseot.fi/wp-content/uploads/2024/08/Satutunnit-someen.jpg
END:VEVENT
BEGIN:VEVENT
DTSTART;TZID=Europe/Helsinki:20250326T130000
DTEND;TZID=Europe/Helsinki:20250326T131500
DTSTAMP:20260423T173949
CREATED:20250217T090051Z
LAST-MODIFIED:20250217T090051Z
UID:10003426-1742994000-1742994900@kuopionmuseot.fi
SUMMARY:Taidevartti
DESCRIPTION:Tervetuloa taidevartille mukaan uppoutumaan Koloristi kylässä -näyttelyn teoksiin! Taidevarteilla kohdennetaan katse neljännestunniksi yhteen Martti Airion taidekokoelman teokseen ja kuunnellaan museoammattilaisen ajatuksia. Taidevartilla voit nauttia taiteesta omalla tavallasi – voit joko vain kuunnella ja keskittyä teoksen maailmaan tai osallistua aktiivisesti kysellen ja kommentoiden. \nTaidevartti sisältyy Kuopion taidemuseon pääsymaksuun 5/10 €\, alle 18-vuotiaat ilmaiseksi ja Museokortti käy maksuvälineeksi.
URL:https://kuopionmuseot.fi/tapahtuma/taidevartti-2/2025-03-26/
LOCATION:KUMMA\, Kauppakatu 35\, Kuopio\, 70100
ATTACH;FMTTYPE=image/png:https://kuopionmuseot.fi/wp-content/uploads/2025/02/Taidevartti-Koloristi-1920-1080-px-01.png
END:VEVENT
BEGIN:VEVENT
DTSTART;TZID=Europe/Helsinki:20250327T140000
DTEND;TZID=Europe/Helsinki:20250327T163000
DTSTAMP:20260423T173949
CREATED:20250107T081323Z
LAST-MODIFIED:20250127T073850Z
UID:10003156-1743084000-1743093000@kuopionmuseot.fi
SUMMARY:Avoin kuvapaja
DESCRIPTION:Kaikenikäisille aikuisille suunnatut avoimet kuvapajat\, jossa taiteen keinoin tapahtuvaan tekemiseen syvennytään eri teemojen kautta. Aiempaa kokemusta piirtämisestä tai maalaamisesta ei tarvita. \nEi ennakkoilmoittautumista\, mukaan voi tulla silloin kun itselle sopii. Pajatoiminta on maksutonta ja taidetarvikkeet löytyvät paikan päältä. Huom! Paikkoja oppimistilassa on rajoitettu määrä. \nTORSTAIN KUVAPAJA KLO 14‒16.30 Kuopion museon katukerroksen oppimistilassa seuraavina päivinä: 23.1. / 30.1. / 6.2. / 13.2. / 20.2. / 27.2. / TALVITAUKO / 20.3. / 27.3. / 3.4. / 10.4. / 17.4. / 24.4. \nJärj. Kuopion kaupunki\, Kansalaistoiminnan palvelut. Yhteistyössä Kuopion museo.
URL:https://kuopionmuseot.fi/tapahtuma/avoinkuvapaja-2-2/2025-03-27/
LOCATION:Kuopion museo
ATTACH;FMTTYPE=image/jpeg:https://kuopionmuseot.fi/wp-content/uploads/2024/02/Kuvapaja1.jpg
END:VEVENT
BEGIN:VEVENT
DTSTART;TZID=Europe/Helsinki:20250327T150000
DTEND;TZID=Europe/Helsinki:20250327T153000
DTSTAMP:20260423T173949
CREATED:20250321T082307Z
LAST-MODIFIED:20250823T094640Z
UID:10003465-1743087600-1743089400@kuopionmuseot.fi
SUMMARY:Myyttinen vartti
DESCRIPTION:Myyttiset vartit tarjoavat lyhyehköjä ja ytimekkäitä tietoiskuja Myyttiset – metsän kätköissä -näyttelyn teemoihin liittyen. Varteilla tutustutaan esimerkiksi arkeologisiin löytöihin\, geologisiin ilmiöihin\, sekä kansanperinteen ja -uskon erityispiirteisiin ja ihmeellisyyksiin. \nTervetuloa kuulolle torstaisin klo 15! Vartille pääsee mukaan museon pääsylipulla. \nSYKSYN VARTIT (ohjelmamuutokset ja -täydennykset mahdollisia): \n4.9.2025 klo 15 Suo siellä\, vetelä täällä – suoluonnon monimuotoisuus ja merkitys kansanperinteessä\n25.9.2025 klo 15 Faustista Uhrijuhlaan – katsaus Myyttiset-näyttelyn teemoja sisältäviin elokuviin\n2.10.2025 klo 15 Paranvoi ja sudenmaito\n30.10.2025 klo 15 Maitoa maahan maahisille\n20.11.2025 klo 15 Ankat Sampojahdissa (ja muita suomalaisia myyttejä populaarikulttuurissa)  \n  \nJO TOTEUTUT VARTIT: \n27.3.2025 klo 15 Salamaniskuja ja tulipaloja vastaan – kivikautisen esineiden käyttö taikuudessa ja lääkinnässä \nMikä kiviesine on? Ja miksi sillä katsottiin olevan parantavia ominaisuuksia? Kivikautisiin esineisiin on liitetty erilaisia uskomuksia ja tarinoita\, joilla kiviesineiden synty ja olemassaolo haluttiin selittää. Kiviesineisiin liitettiin myös uskomuksia niiden parantavista ja suojaavista ominaisuuksista. \n3.4.2025 klo 15 Pirunpelloista hiidenkirnuihin\nGeologisen luonnonperinnön myyttisyys: millaisia syntytarinoita kansanperinteessä on keksitty eri geologisille muodostumille ja piirteille\, ja mikä on totuus myyttien taustalla? \n10.4.2025 klo 15 Varhaisimmat muistiin kirjoitetut loitsut Pohjois-Savosta\nItäsuomalainen loitsuperinne säilytti pitkään elinvoimansa. Sitä tallentui erilaisiin lähdeaineistoihin satojen vuosien ajan. Tule tutustumaan kaikkein vanhimpiin pohjoissavolaisiin loitsuihin! \n17.4.2025 klo 15 Metsän väki\nKarhun hampaat ja kynnet\, metsälähteet\, uhrilehdot\, käärmeet… Muun muassa näitä asioita ja paikkoja on pidetty kansanperinteessä väkevinä. Mutta mitä kansanuskon väki ylipäätänsä on\, mistä kaikkialta sitä löytyy\, ja mihin sitä tarvitaan? \n24.4.2025 klo 15 Käärmeiden käräjäkivet ja uhrikupit – kivet ja kalliot suomalaisessa kansanuskossa\nMitä mineraaleja ja kivilajeja väekkäiksi koetuista kivistä ja kallioista löytyy\, ja miten ne ovat syntyneet? Ovatko uhrikuppeina käytetyt painaumat kivissä ja kallioissa syntyneet luonnollisesti vai ovatko ne ihmiskätten töitä? \n8.5.2025 klo 15 Kristillisyyden varhainen vaikutus Pohjois-Savon kansanuskoon\nKansanuskoon liittyvät tiedot ja tavat siirtyivät sukupolvelta toiselle. Jokainen aika lisäsi niihin omat kerroksensa. Millaisen jäljen maailmankuvan mullistanut kristinusko jätti paikalliseen perinteeseen? \n15.5.2025 klo 15 Kansanuskon kauheudet \nKuka on syypää tauteihin\, kuka houkuttelee äkkinäiset järven syövereihin hukuksiin\, millaista porukkaa kalmanväki oikein on? Tämänkertaisella vartilla perehdytään muutamiin kansanuskon ikävämpiin hahmoihin. \n22.5.2025 klo 15 Myyttien viestit menneisyydestä\nVälittyvätkö muinaiset luonnonkatastrofit meillä ja maailmalla myyttisissä tarinoissa? Onko Väinämöisen polvenhaavasta kertovassa kansanrunossa yhteys vedenpaisumusmyytteihin ja edelleen todellisiin tapahtumiin\, esimerkiksi Vuoksen puhkeamiseen noin 6000 vuotta sitten?
URL:https://kuopionmuseot.fi/tapahtuma/myyttinen-vartti/2025-03-27/
LOCATION:Kuopion museo
ATTACH;FMTTYPE=image/jpeg:https://kuopionmuseot.fi/wp-content/uploads/2025/03/Myyttinen-vartti_kansikuva.jpg
ORGANIZER;CN="Kuopion museo":MAILTO:kuopionmuseo@kuopio.fi
END:VEVENT
BEGIN:VEVENT
DTSTART;TZID=Europe/Helsinki:20250328T150000
DTEND;TZID=Europe/Helsinki:20250328T163000
DTSTAMP:20260423T173949
CREATED:20250310T092810Z
LAST-MODIFIED:20250319T072918Z
UID:10003454-1743174000-1743179400@kuopionmuseot.fi
SUMMARY:Vaalipaneeli: Luontokato lähtee kunnista – vai lähteekö?
DESCRIPTION:Tervetuloa ForTranin ja Boostin metsäaiheiseen kunnallisvaalipaneeliin \nOhjelma sisältää alustukset ja vaalipaneelin: \nKestävyysmurros ja kuntapäätöksenteko\, Professori Mikko Mönkkönen Jyväskylän yliopisto \nKuntien sitoutuminen luontokadon pysäyttämiseen ja luonnon monimuotoisuuden vahvistamiseen  \nKaupungin maankäytön rooli luontohaittojen hallinnassa\, Yliopistonlehtori Panu Halme\, Jyväskylän yliopisto \n\n\n\n\n\n\n\n\n\n\n\n\n\n\n\nPaneeli \nOsallistujat \nJarmo Auvinen (ps.) \nTeemu Backnäs (sd.) \nSaara Karkulahti (kesk.) \nPetri Nieminen (vihr./sit.) \nJukka Savolainen (kok.) \nPaneelin juontaa Sini Suomalainen ForTran-hankkeesta \n\n  \nKuopion museon monitoimitilassa\, vapaa pääsy.
URL:https://kuopionmuseot.fi/tapahtuma/vaalipaneeli-luontokato-lahtee-kunnista-vai-lahteeko/
LOCATION:Kuopion museo
ATTACH;FMTTYPE=image/jpeg:https://kuopionmuseot.fi/wp-content/uploads/2025/03/vaalipaneelimetsa.jpg
END:VEVENT
BEGIN:VEVENT
DTSTART;TZID=Europe/Helsinki:20250329T110000
DTEND;TZID=Europe/Helsinki:20250329T113000
DTSTAMP:20260423T173949
CREATED:20250221T111214Z
LAST-MODIFIED:20250227T072356Z
UID:10003437-1743246000-1743247800@kuopionmuseot.fi
SUMMARY:Jäniksen jäljillä -opastus
DESCRIPTION:Myyttiset – metsän kätköissä -näyttelyn lastenopastuksella lähdetään jäniksen jäljille. Millaisten ihmeiden äärelle pupujussi mahtaa meidät johdattaa?   \nOpastus lähtee museon lipunmyynnin läheisyydestä lauantaisin klo 11  seuraavina päivinä: 8.3.\, 15.3.\, 29.3.\, 12.4.\, 26.4.\, 10.5. sekä 24.5. \nOpastuksen kesto on noin 30 minuuttia ja se sisältyy museon pääsymaksuun (15/10 €\, alle 18-v maksutta)\, Museokortti ja Kaikukortti käyvät. \n***\nKuopion museon Myyttiset – metsän kätköissä -näyttely vie menneisyyden aarniometsään keskelle kansanuskon maailmaa. Se on tehty monilla aisteilla koettavaksi\, elämykselliseksi ihmettelyn paikaksi\, jossa riittää tutkittavaa kaikenikäisille.\n\nKuopion luonnontieteellisen museon ja Kuopion kulttuurihistoriallisen museon yhteistyönä tuottamassa näyttelyssä on esillä erityistä voimaa omaavia taikaesineitä sekä kiehtovia eläimiä. Tarinat\, uskomukset ja todelliset luonnonilmiöt punoutuvat yhteen ainutlaatuisella tavalla. Kulje entisajan metsässä\, tutustu myyttisiin hahmoihin\, joudu metsänpeittoon ja loitsi itsesi vapaaksi!\n\nMyyttiset-näyttely ja siihen liittyvät tapahtumat ovat osa Kuopio250-juhlavuoden ohjelmistoa.
URL:https://kuopionmuseot.fi/tapahtuma/janiksen-jaljilla-opastus/2025-03-29/
LOCATION:Kuopion museo
ATTACH;FMTTYPE=image/jpeg:https://kuopionmuseot.fi/wp-content/uploads/2025/02/Myyttiset-JaniksenJaljillaOPASTUS.jpg
END:VEVENT
BEGIN:VEVENT
DTSTART;TZID=Europe/Helsinki:20250329T150000
DTEND;TZID=Europe/Helsinki:20250329T160000
DTSTAMP:20260423T173949
CREATED:20250312T120706Z
LAST-MODIFIED:20250312T120706Z
UID:10003460-1743260400-1743264000@kuopionmuseot.fi
SUMMARY:Kuopio: The Original Soundtrack – Part One
DESCRIPTION:Jos Kuopio olisi elokuva\, millainen musiikki siinä olisi? \n“Kuopio: The Original Soundtrack – Part One” on ensimmäinen osa Kuopion omasta soundtrackistä. Albumilla on musiikkiteoksia kymmenestä Kuopion kaupunginosasta. Teosten pohjana on vuonna 2022 tehty kysely\, jossa selvitettiin kuopiolaisilta\, miltä eri kaupunginosat heidän mielestään kuulostavat ja mitä tunnelmia ja muistoja niihin liittyy. \nTeosten julkaisu tapahtuu Kuopion museon monitoimitilassa 29.3. klo 15. \nTeosten säveltäjä\, Antti Elias Huuskonen\, on julkaisutilaisuudessa mukana kertomassa teoksista ja niiden tekemisestä kappaleiden kuuntelun lomassa. \nTule paikalle kuulemaan ensiesitystä miltä Linnanpellon vanhat kadut kuulostavat tai minkälaisen musiikin Saaristokaupungin vilkas elämä siivittää. Teokset julkaistaan samana päivänä myös netin striimauspalveluissa. \nVapaa pääsy. Sävellykset ja tapahtuma ovat osa Kuopio250-juhlavuotta.
URL:https://kuopionmuseot.fi/tapahtuma/kuopio-the-original-soundtrack-part-one/
LOCATION:Kuopion museo
ATTACH;FMTTYPE=image/jpeg:https://kuopionmuseot.fi/wp-content/uploads/2025/03/KUOPIO-OST-Logoilla.jpg
END:VEVENT
BEGIN:VEVENT
DTSTART;TZID=Europe/Helsinki:20250330T130000
DTEND;TZID=Europe/Helsinki:20250330T134500
DTSTAMP:20260423T173949
CREATED:20250221T120300Z
LAST-MODIFIED:20250221T125120Z
UID:10003444-1743339600-1743342300@kuopionmuseot.fi
SUMMARY:Myyttiset-näyttelyopastus
DESCRIPTION:Myyttiset-näyttelyopastus kuljettaa kulkijan halki entisaikojen metsän. Metsäretkellä tutustutaan esivanhempiemme elämää rytmittäneeseen kansanuskoon. Matkan varrelta löytyy niin myyteistä tuttuja olentoja ja luontotietoa kuin vanhin tunnettu pohjoissavolainen loitsukin. \nTiedontäyteinen kierros sopii parhaiten aikuisille ja nuorille ja on kestoltaan noin 45 minuuttia.  Opastus lähtee lipunmyynnin läheisyydestä sunnuntaisin klo 13  seuraavina päivinä: 9.3.\, 16.3.\, 30.3.\, 13.4.\, 27.4.\, 11.5. sekä 25.5. \nOpastus sisältyy museon pääsymaksuun (15/10 €\, alle 18-v maksutta)\, Museokortti ja Kaikukortti käyvät. \n***\nKuopion museon Myyttiset – metsän kätköissä -näyttely vie menneisyyden aarniometsään keskelle kansanuskon maailmaa. Se on tehty monilla aisteilla koettavaksi\, elämykselliseksi ihmettelyn paikaksi\, jossa riittää tutkittavaa kaikenikäisille. \nKuopion luonnontieteellisen museon ja Kuopion kulttuurihistoriallisen museon yhteistyönä tuottamassa näyttelyssä on esillä erityistä voimaa omaavia taikaesineitä sekä kiehtovia eläimiä. Tarinat\, uskomukset ja todelliset luonnonilmiöt punoutuvat yhteen ainutlaatuisella tavalla. Kulje entisajan metsässä\, tutustu myyttisiin hahmoihin\, joudu metsänpeittoon ja loitsi itsesi vapaaksi! \nMyyttiset-näyttely ja siihen liittyvät tapahtumat ovat osa Kuopio250-juhlavuoden ohjelmistoa.
URL:https://kuopionmuseot.fi/tapahtuma/myyttiset-nayttelyopastus/2025-03-30/
LOCATION:Kuopion museo
ATTACH;FMTTYPE=image/jpeg:https://kuopionmuseot.fi/wp-content/uploads/2025/02/Myyttiset-nayttelyopastus.jpg
END:VEVENT
END:VCALENDAR