BEGIN:VCALENDAR
VERSION:2.0
PRODID:-//Kuopion museot - ECPv6.15.20//NONSGML v1.0//EN
CALSCALE:GREGORIAN
METHOD:PUBLISH
X-WR-CALNAME:Kuopion museot
X-ORIGINAL-URL:https://kuopionmuseot.fi
X-WR-CALDESC:Tapahtumat Kuopion museot
REFRESH-INTERVAL;VALUE=DURATION:PT1H
X-Robots-Tag:noindex
X-PUBLISHED-TTL:PT1H
BEGIN:VTIMEZONE
TZID:Europe/Helsinki
BEGIN:DAYLIGHT
TZOFFSETFROM:+0200
TZOFFSETTO:+0300
TZNAME:EEST
DTSTART:20230326T010000
END:DAYLIGHT
BEGIN:STANDARD
TZOFFSETFROM:+0300
TZOFFSETTO:+0200
TZNAME:EET
DTSTART:20231029T010000
END:STANDARD
BEGIN:DAYLIGHT
TZOFFSETFROM:+0200
TZOFFSETTO:+0300
TZNAME:EEST
DTSTART:20240331T010000
END:DAYLIGHT
BEGIN:STANDARD
TZOFFSETFROM:+0300
TZOFFSETTO:+0200
TZNAME:EET
DTSTART:20241027T010000
END:STANDARD
BEGIN:DAYLIGHT
TZOFFSETFROM:+0200
TZOFFSETTO:+0300
TZNAME:EEST
DTSTART:20250330T010000
END:DAYLIGHT
BEGIN:STANDARD
TZOFFSETFROM:+0300
TZOFFSETTO:+0200
TZNAME:EET
DTSTART:20251026T010000
END:STANDARD
END:VTIMEZONE
BEGIN:VEVENT
DTSTART;TZID=Europe/Helsinki:20240504T140000
DTEND;TZID=Europe/Helsinki:20240504T144500
DTSTAMP:20260425T162414
CREATED:20230331T122037Z
LAST-MODIFIED:20250107T091312Z
UID:10002877-1714831200-1714833900@kuopionmuseot.fi
SUMMARY:Opastus: Muuttuva luonto
DESCRIPTION:Muuttuva luonto -näyttelyssä matkustetaan itäsuomalaisen luonnon historiaan ja nykytilaan. Matka alkaa kaukaa menneisyyden mammuttiarolta\, kiertelee luonnonmetsän siimeksessä ja järvien syvänteissä ja päätyy lopulta ihmisen muokkaamaan maisemaan. Millainen mahtaa olla luontomme tulevaisuus? \nTule mukaan opastukselle tutustumaan itäsuomalaisen luonnon monivaiheiseen tarinaan! \nOpastus sisältyy pääsylipun hintaan\, alle 18-vuotiaat ilmaiseksi. Museokortti käy. Opastus on kestoltaan noin 45 minuuttia.
URL:https://kuopionmuseot.fi/tapahtuma/opastus-muuttuva-luonto/2024-05-04/
LOCATION:Kuopion museo
ATTACH;FMTTYPE=image/jpeg:https://kuopionmuseot.fi/wp-content/uploads/2023/03/Muuttuvaluonto-opastus.jpg
ORGANIZER;CN="Kuopion museo":MAILTO:kuopionmuseo@kuopio.fi
END:VEVENT
BEGIN:VEVENT
DTSTART;TZID=Europe/Helsinki:20240505T140000
DTEND;TZID=Europe/Helsinki:20240505T150000
DTSTAMP:20260425T162414
CREATED:20240227T082028Z
LAST-MODIFIED:20240227T082028Z
UID:10002744-1714917600-1714921200@kuopionmuseot.fi
SUMMARY:Opastus Überhund – taiteen kiehtovat koirat -näyttelyyn
DESCRIPTION:Kuopion taidemuseolla järjestetään avoimia opastuksia näyttelyihin joka sunnuntai klo 14 perehtyen vuoroviikoin taidemuseon eri näyttelyihin. \nSuomea valloittanut ja ihastuttanut Überhund-näyttely on saapunut uusin murkinoin Kuopion taidemuseoon. Näyttelyn perusluut on kuratoinut Salon taidemuseon johtaja Susanna Luojus ja oman lisänsä mixiin tuo Kuopion taidemuseon omat kokoelmat. \nKoiran ja ihmisen ainutlaatuinen suhde on kuvataiteen keskeisimpiä eläinaiheita. Vaikka koiria on kuvattu kuvataiteessa hämmästyttävän paljon\, ovat ne kuitenkin hahmoina usein niin arkisia ja tavallisia\, että saattavat jäädä huomaamatta. Überhund nostaa koirat katseen kohteeksi ja pääosaan. Näyttely kertoo myös lajiemme pitkästä yhteisestä historiasta ja suhteemme ainutlaatuisuudesta. \nOpastukseen voi osallistua taidemuseon pääsymaksulla 10/5 €\, alle 18-vuotiaat ilmaiseksi ja Museokortti käy maksuvälineeksi.
URL:https://kuopionmuseot.fi/tapahtuma/opastus-uberhund-taiteen-kiehtovat-koirat-nayttelyyn/2024-05-05/
LOCATION:KUMMA\, Kauppakatu 35\, Kuopio\, 70100
ATTACH;FMTTYPE=image/png:https://kuopionmuseot.fi/wp-content/uploads/2024/02/1920-1080-px-01-8.png
END:VEVENT
BEGIN:VEVENT
DTSTART;TZID=Europe/Helsinki:20240505T150000
DTEND;TZID=Europe/Helsinki:20240505T160000
DTSTAMP:20260425T162414
CREATED:20240425T131212Z
LAST-MODIFIED:20240425T131212Z
UID:10002904-1714921200-1714924800@kuopionmuseot.fi
SUMMARY:Team Alegria: Have To Go Out\, Rain Or Shine
DESCRIPTION:Ulos täytyy mennä\, satoi tai paistoi \nKoira\, ihmisen paras ystävä. Ulos täytyy mennä\, satoi tai paistoi. Koirista tai koirien omistajista kirjoitetaan kaikenlaisia asioita somealustoilla\, varsinkin keväällä\, kun lumet alkavat sulaa. Näistä kirjoitteluista koreografia on saanut ideansa. Koiranomistajat ovat usein monin eri tavoin vähän hassuja. Teos on voittanut useita palkintoja erilaisissa tapahtumissa ja kilpailuissa ympäri Suomen.  \nTeam Alegria JuJu Dance Puijola. Ryhmä koostuu yhdeksästä upeasta 12–17-vuotiaasta tanssijasta. Tärkeintä ryhmälle on tanssiystävyys ja ryhmällä onkin aina mukavaa yhdessä ja parasta on se\, että saa kertoa tarinoita tanssin avulla. Ryhmä on tehnyt show-tanssiteoksia yhdessä jo usean vuoden ajan.  \nKoreografia: Johis Luomala @artjohis\, Peppi Timoskainen ja Viivi Pieviläinen \nPuvustus: Taina Natunen \nMusiikki: Diego Schissi Quinteto; Tanguera \nEsitykseen voi osallistua Kuopion taidemuseon pääsymaksulla 10/5 €\, alle 18-vuotiaat ilmaiseksi ja Museokortti käy maksuvälineeksi.
URL:https://kuopionmuseot.fi/tapahtuma/team-alegria-have-to-go-out-rain-or-shine/
LOCATION:KUMMA\, Kauppakatu 35\, Kuopio\, 70100
ATTACH;FMTTYPE=image/jpeg:https://kuopionmuseot.fi/wp-content/uploads/2024/04/mofc2-scaled.jpg
END:VEVENT
END:VCALENDAR