BEGIN:VCALENDAR
VERSION:2.0
PRODID:-//Kuopion museot - ECPv6.15.20//NONSGML v1.0//EN
CALSCALE:GREGORIAN
METHOD:PUBLISH
X-ORIGINAL-URL:https://kuopionmuseot.fi
X-WR-CALDESC:Tapahtumat Kuopion museot
REFRESH-INTERVAL;VALUE=DURATION:PT1H
X-Robots-Tag:noindex
X-PUBLISHED-TTL:PT1H
BEGIN:VTIMEZONE
TZID:Europe/Helsinki
BEGIN:DAYLIGHT
TZOFFSETFROM:+0200
TZOFFSETTO:+0300
TZNAME:EEST
DTSTART:20230326T010000
END:DAYLIGHT
BEGIN:STANDARD
TZOFFSETFROM:+0300
TZOFFSETTO:+0200
TZNAME:EET
DTSTART:20231029T010000
END:STANDARD
BEGIN:DAYLIGHT
TZOFFSETFROM:+0200
TZOFFSETTO:+0300
TZNAME:EEST
DTSTART:20240331T010000
END:DAYLIGHT
BEGIN:STANDARD
TZOFFSETFROM:+0300
TZOFFSETTO:+0200
TZNAME:EET
DTSTART:20241027T010000
END:STANDARD
BEGIN:DAYLIGHT
TZOFFSETFROM:+0200
TZOFFSETTO:+0300
TZNAME:EEST
DTSTART:20250330T010000
END:DAYLIGHT
BEGIN:STANDARD
TZOFFSETFROM:+0300
TZOFFSETTO:+0200
TZNAME:EET
DTSTART:20251026T010000
END:STANDARD
END:VTIMEZONE
BEGIN:VEVENT
DTSTART;TZID=Europe/Helsinki:20240319T100000
DTEND;TZID=Europe/Helsinki:20240319T170000
DTSTAMP:20260421T132247
CREATED:20240306T143024Z
LAST-MODIFIED:20240306T143024Z
UID:10002777-1710842400-1710867600@kuopionmuseot.fi
SUMMARY:Minna Canthin päivä Kuopion korttelimuseossa
DESCRIPTION:Tiistaina 19.03.2024 tulee kuluneeksi 180 vuotta Minna Canthin syntymästä. Tule juhlistamaan tätä aikansa merkittävän kulttuurivaikuttajan syntymäpäivää Minnan salonkiin Kuopion korttelimuseolle! Museoon on merkkipäivän kunniaksi vapaa pääsy ja tarjolla on mielenkiintoisia opastuksia\, sekä kurkistus Minnan kirjakaapin sisälle. Opastukset järjestetään Korttelimuseossa kello 13:00 ja 15:30 alkaen. \nMikäli et pääse paikanpäälle opastusta seuraamaan\, pääset mukaan tunnelmaan verkko-opastuksen välityksellä Kuopion museon YouTube-kanavalla kello 10:15. https://www.youtube.com/@Kuopion_Museo\n. Striimitallenne on katsottavissa kanavalla myös opastuksen jälkeen. \nKorttelimuseo on auki Minna Canthin päivänä poikkeuksellisesti kello 10:00-17:00
URL:https://kuopionmuseot.fi/tapahtuma/minna-canthin-paiva-kuopion-korttelimuseossa/
LOCATION:Korttelimuseo\, Kirkkokatu 22\, Kuopio\, 70100\, Suomi
ATTACH;FMTTYPE=image/jpeg:https://kuopionmuseot.fi/wp-content/uploads/2023/03/Minna-Canth-vaaka.jpg
END:VEVENT
BEGIN:VEVENT
DTSTART;TZID=Europe/Helsinki:20240320T130000
DTEND;TZID=Europe/Helsinki:20240320T131500
DTSTAMP:20260421T132247
CREATED:20240314T114116Z
LAST-MODIFIED:20240314T114116Z
UID:10002797-1710939600-1710940500@kuopionmuseot.fi
SUMMARY:Taidevartti: Juho Rissanen Pietarissa
DESCRIPTION:Tällä kertaa taidevartilla keskiviikkona 20.3. klo 13 tutustutaan Juho Rissasen Pietarissa viettämään aikaan.  Rissanen opiskeli Pietarin Taideakatemiassa Ilja Repinin johdolla vuosina 1897–1898. Ferdinand von Wrightille lähettämissää kirjeissä Rissanen kuvaa hauskoin sanakääntein kaikkea Pietarissa kokemaansa. Vartilla kuullaan suoria lainauksia Rissasen kirjeistä ja kerrotaan\, millainen opiskelupaikka Pietari oli Suomesta tulleelle lähes rahattomalle taiteilijalle. \nTaidevartille voi osallistua Kuopion taidemuseon pääsymaksulla 10/5 €\, alle 18-vuotiaat ilmaiseksi ja Museokortti käy maksuvälineeksi. \nLämpimästi tervetuloa!
URL:https://kuopionmuseot.fi/tapahtuma/taidevartti-juho-rissanen-pietarissa/
LOCATION:KUMMA\, Kauppakatu 35\, Kuopio\, 70100
ATTACH;FMTTYPE=image/png:https://kuopionmuseot.fi/wp-content/uploads/2024/03/1920-1080-px-01-3.png
END:VEVENT
BEGIN:VEVENT
DTSTART;TZID=Europe/Helsinki:20240320T170000
DTEND;TZID=Europe/Helsinki:20240320T180000
DTSTAMP:20260421T132247
CREATED:20240207T153033Z
LAST-MODIFIED:20240207T153033Z
UID:10002645-1710954000-1710957600@kuopionmuseot.fi
SUMMARY:Luontokirjalukupiiri
DESCRIPTION:Luontokirjalukupiiri kokoontuu kerran kuukaudessa keskiviikkoisin klo 17.00–18.00. \nLukupiirissä tutustutaan kiehtovan ajankohtaisiin teoksiin ja keskustellaan niiden herättämistä ajatuksista. Kirjallisuus- tai ympäristöasiantuntemusta ei tarvita\, ja mukaan voi tulla yhdelle tai useammalle kerralle. Lukupiiri toimii hyvin myös kirjavinkkauksena – keskustelun kuunteleminen on mainio tapa löytää kiinnostavaa luettavaa! \nLukupiiri järjestetään verkossa Zoom-alustalla.\nEnnakkoilmoittautumista ei tarvita. \nLisätietoja saa osoitteesta aikuistenosasto.kirjasto@kuopio.fi \nKe 20.3.2024\nKovalainen\, Ritva & Seppo\, Sanni: Pohjoistuulen metsä \nKe 24.4.2024\nLunde\, Maja: Unelma puusta
URL:https://kuopionmuseot.fi/tapahtuma/luontokirjalukupiiri-2/
LOCATION:Muut
ATTACH;FMTTYPE=image/jpeg:https://kuopionmuseot.fi/wp-content/uploads/2024/02/Nina-Laakso_cc-by-2.0-deed.jpg
END:VEVENT
BEGIN:VEVENT
DTSTART;TZID=Europe/Helsinki:20240320T170000
DTEND;TZID=Europe/Helsinki:20240320T190000
DTSTAMP:20260421T132247
CREATED:20240221T121845Z
LAST-MODIFIED:20240221T121845Z
UID:10002734-1710954000-1710961200@kuopionmuseot.fi
SUMMARY:Filosofiakahvila: Normatiivinen objektiivisuus ja relativismi
DESCRIPTION:Kevään 2024 Filosofiakahvilan avaa Timo Airaksinen aiheenaan “Normatiivinen objektiivisuus ja relativismi”\nEsitelmä perustuu  Airaksisen uuteen kirjaan “Filosofiaa raakana: Johdatus ajattelun arvoituksiin” (Arktinen Banaani\, 2023). \nKevätkauden Filosofiakahvilan ajankohdat ovat: \nke 20.3. “Normatiivinen objektiivisuus ja relativismi”\, Timo Airaksinen (HY)\nke 10.4. ohjelma julkaistaan myöhemmin\nke 22.5. ohjelma julkaistaan myöhemmin \nTilaisuus on kai­kil­le avoin ja maksuton. Kahvila Kantista voi noutaa omakustanteiset kahvit nautittavaksi tilaisuudessa. Ti­lai­suuk­sien jär­jes­tä­jä­nä toi­mii SnellmanEDU yhteistyössä Kuopion museon kanssa. \nSnellmanEDU suosittelee ilmoittautumaan etukäteen Asio-Datan Kurssiilmo\, jotta saat tiedon mahdollisista muutoksista ja tulevista kahviloista. Tervetuloa jälleen Filosofiakahvilaan\, sekä uudet että tutut kävijät! \n\n\n\n 
URL:https://kuopionmuseot.fi/tapahtuma/filosofiakahvila-normatiivinen-objektiivisuus-ja-relativismi/
LOCATION:Kuopion museo
ATTACH;FMTTYPE=image/jpeg:https://kuopionmuseot.fi/wp-content/uploads/2024/02/pexels-simon-berger-4462327-450x338-1.jpg
END:VEVENT
BEGIN:VEVENT
DTSTART;TZID=Europe/Helsinki:20240321T140000
DTEND;TZID=Europe/Helsinki:20240321T143000
DTSTAMP:20260421T132247
CREATED:20240319T125445Z
LAST-MODIFIED:20240319T125445Z
UID:10002832-1711029600-1711031400@kuopionmuseot.fi
SUMMARY:Korttelivartti: Tekstiilivartti
DESCRIPTION:Korttelivartilla tutustutaan lasten pukeutumiseen Juho Rissasen ajan Kuopiossa tekstiilikonservaattori Anu Reijosen johdolla. Vartille pääset osallistumaan pääsymaksun hinnalla ja opastus kestää 15–30 minuuttia. \nKuva: Ahti Rytkönen. Käpälälauta\, Pielavesi\, Tuovilanlahti. Tehnyt Antti Saastamoinen. KHM. \nJuho Rissanen meillä ja maailmalla 14.4.2024 asti.
URL:https://kuopionmuseot.fi/tapahtuma/korttelivartti-tekstiilivartti-2/
LOCATION:Korttelimuseo\, Kirkkokatu 22\, Kuopio\, 70100\, Suomi
ATTACH;FMTTYPE=image/jpeg:https://kuopionmuseot.fi/wp-content/uploads/2024/03/E30C314C4633EF0EE7913304B91CEFB3.jpg
END:VEVENT
BEGIN:VEVENT
DTSTART;TZID=Europe/Helsinki:20240321T140000
DTEND;TZID=Europe/Helsinki:20240321T150000
DTSTAMP:20260421T132247
CREATED:20240308T083445Z
LAST-MODIFIED:20240308T084242Z
UID:10002780-1711029600-1711033200@kuopionmuseot.fi
SUMMARY:Café Smart Tiedekahvila: Itsehoitolääkkeet - Turvallisuus\, riskit ja uudet jakelukanavat
DESCRIPTION:Itä-Suomen yliopiston Café Smart Tiedekahvilan aiheena on itsehoitolääkkeiden turvallinen käyttö. Mikä on itsehoitolääke\, ja miten ne eroavat reseptilääkkeistä? Entä onko itsehoitolääkkeillä haittavaikutuksia tai yhteisvaikutuksia\, esimerkiksi ei-lääkkeellisten valmisteiden\, kuten vitamiinien kanssa? Itsehoitolääkkeiden turvallinen käyttö on tärkeä aihepiiri. Olennaista on ymmärtää niihin liittyvät riskit ja oikaista olettamukset. Jakelukanavauudistus avaa mahdollisuuksia\, mutta vaatii myös huolellista harkintaa. \nPäivän aiheista ovat keskustelemassa opetusproviisori\, FaT Hanna Kauppinen Itä-Suomen yliopistolta ja aT\, EMBA\, dosentti Jouko Savolainen Itä-Suomen yliopiston apteekista. \nTapahtuma on maksuton ja avoin kaikille kiinnostuneille. Kahvitarjoilu 30 ensimmäiselle. Tervetuloa paikan päälle Kuopion museon monitoimitilaan tai seuraa tapahtumaa verkon välityksellä! \nLisätietoja antaa Anna Simolin\, sähköposti anna.simolin@uef.fi\, puhelin 050 433 8394.
URL:https://kuopionmuseot.fi/tapahtuma/cafe-smart-tiedekahvila-itsehoitolaakkeet-turvallisuus-riskit-ja-uudet-jakelukanavat/
LOCATION:Kuopion museo
ATTACH;FMTTYPE=image/png:https://kuopionmuseot.fi/wp-content/uploads/2023/10/Cafe_Smart_Logo_web.png
END:VEVENT
BEGIN:VEVENT
DTSTART;TZID=Europe/Helsinki:20240321T140000
DTEND;TZID=Europe/Helsinki:20240321T163000
DTSTAMP:20260421T132247
CREATED:20240205T074334Z
LAST-MODIFIED:20240325T062402Z
UID:10002634-1711029600-1711038600@kuopionmuseot.fi
SUMMARY:Avoin kuvapaja
DESCRIPTION:Kaikenikäisille aikuisille suunnatut avoimet kuvapajat\, jossa taiteen keinoin tapahtuvaan tekemiseen syvennytään eri teemojen kautta. Aiempaa kokemusta piirtämisestä tai maalaamisesta ei tarvita. \nEi ennakkoilmoittautumista\, mukaan voi tulla silloin kun itselle sopii. Pajatoiminta on maksutonta ja taidetarvikkeet löytyvät paikan päältä. Huom! Paikkoja oppimistilassa on rajoitettu määrä. \nTORSTAIN KUVAPAJA KLO 14‒16.30 Kuopion museon katukerroksen oppimistilassa seuraavina päivinä: 18.1. / 25.1. / 1.2. / 8.2. / 15.2. / 22.2. / 29.2. / talvitauko / 21.3. / 4.4. / 11.4. / 18.4. / 25.4. \nJärj. Kuopion kaupunki\, Kansalaistoiminnan palvelut. Yhteistyössä Kuopion museo.
URL:https://kuopionmuseot.fi/tapahtuma/avoinkuvapaja/2024-03-21/
LOCATION:Kuopion museo
ATTACH;FMTTYPE=image/jpeg:https://kuopionmuseot.fi/wp-content/uploads/2024/02/Kuvapaja1.jpg
END:VEVENT
BEGIN:VEVENT
DTSTART;TZID=Europe/Helsinki:20240321T151500
DTEND;TZID=Europe/Helsinki:20240321T154500
DTSTAMP:20260421T132247
CREATED:20240304T104247Z
LAST-MODIFIED:20240304T105149Z
UID:10002722-1711034100-1711035900@kuopionmuseot.fi
SUMMARY:Museovartti: Kuopion monikielinen historia
DESCRIPTION:Kuopion monikielinen historia -museovartti kertoo\, mitä kieliä Kuopion kaduilla\, kauppapaikoilla ja kodeissa on voinut kuulla halki historiallisen ajan. Viranomaisten keräämät tilastot yltävät vuoteen 1880\, mutta myös tätä edeltävästä ajasta tiedetään jotakin. Tule kuulemaan lisää aiheesta Kuopion museon monitoimitilaan! Kesto noin puoli tuntia. \nMuseovartti on osallistujille maksuton. Tilaisuus liittyy Satakielikuukauden sekä Rasisiminvastaisen viikon teemoihin. \nKuva: Makkosen talon kulma Hämeenkadun (nyk. Käsityökatu) ja Kirkkokadun kulmassa. Victor Barsokevitsch\, 1911. Kuopion kulttuurihistoriallinen museo.
URL:https://kuopionmuseot.fi/tapahtuma/museovartti-kuopion-monikielinen-historia/
LOCATION:Kuopion museo
ATTACH;FMTTYPE=image/jpeg:https://kuopionmuseot.fi/wp-content/uploads/2024/02/monikielinen-kuopio.jpg
ORGANIZER;CN="Kuopion museo":MAILTO:kuopionmuseo@kuopio.fi
END:VEVENT
BEGIN:VEVENT
DTSTART;TZID=Europe/Helsinki:20240323T103000
DTEND;TZID=Europe/Helsinki:20240323T110000
DTSTAMP:20260421T132247
CREATED:20240104T132833Z
LAST-MODIFIED:20240123T093933Z
UID:10002621-1711189800-1711191600@kuopionmuseot.fi
SUMMARY:Kulta se lähti Kuopiohon: Sibelius-Akatemian ja Taideyliopiston opiskelijoiden rekilaulukonsertti
DESCRIPTION:Lauantaina 23.3. Kuopion taidemuseolla kuulaan rekilauluja Sibelius-Akatemian kansanmusiikin aineryhmän ja Taideyliopiston Avoimen kampuksen opiskelijoiden konsertissa. Konsertti on saanut innoituksen Juho Rissasen taiteesta\, joka on ohjannut kappalevalintojen tekemisessä. Ohjaajana Anna-Kaisa Liedes. \n”Laulu on ihmisellä ikäskun toinen kieli\, jolla alkaa sydämensä liikutuksia ilmotella\, kun tavallinen kieli ei löydä sanoja tarpeeksensa. Semmoisia sydämen liikutuksia ovat erittäinkin ilo ja huoli (suru)\, jonka tähden myös laulut enimmiten jakauvat kahteen pääosaan\, ilosempiin ja huolellisempiin. On kyllä muissakin tiloissa laulu välistä syntyvä ja sopiva\, ei kuitenkaan niin kuin näissä kahdessa.” -Elias Lönnrot \nEsitys kestää noin puoli tuntia. \nLaulajat: \nMeri-Maaria Kivekäs \nAnna-Kaisa Liedes (kantele) \nMia Sammalkanto \nTuike Suomalainen (viulu) \nViive Virtanen (viulu)
URL:https://kuopionmuseot.fi/tapahtuma/kulta-se-lahti-kuopiohon-sibelius-akatemian-ja-taideyliopiston-opiskelijoiden-rekilaulukonsertti/2024-03-23/1/
LOCATION:KUMMA\, Kauppakatu 35\, Kuopio\, 70100
ATTACH;FMTTYPE=image/png:https://kuopionmuseot.fi/wp-content/uploads/2024/01/1920-1080-px-01-3.png
END:VEVENT
BEGIN:VEVENT
DTSTART;TZID=Europe/Helsinki:20240323T130000
DTEND;TZID=Europe/Helsinki:20240323T133000
DTSTAMP:20260421T132247
CREATED:20240104T132833Z
LAST-MODIFIED:20240123T093933Z
UID:10002622-1711198800-1711200600@kuopionmuseot.fi
SUMMARY:Kulta se lähti Kuopiohon: Sibelius-Akatemian ja Taideyliopiston opiskelijoiden rekilaulukonsertti
DESCRIPTION:Lauantaina 23.3. Kuopion taidemuseolla kuulaan rekilauluja Sibelius-Akatemian kansanmusiikin aineryhmän ja Taideyliopiston Avoimen kampuksen opiskelijoiden konsertissa. Konsertti on saanut innoituksen Juho Rissasen taiteesta\, joka on ohjannut kappalevalintojen tekemisessä. Ohjaajana Anna-Kaisa Liedes. \n”Laulu on ihmisellä ikäskun toinen kieli\, jolla alkaa sydämensä liikutuksia ilmotella\, kun tavallinen kieli ei löydä sanoja tarpeeksensa. Semmoisia sydämen liikutuksia ovat erittäinkin ilo ja huoli (suru)\, jonka tähden myös laulut enimmiten jakauvat kahteen pääosaan\, ilosempiin ja huolellisempiin. On kyllä muissakin tiloissa laulu välistä syntyvä ja sopiva\, ei kuitenkaan niin kuin näissä kahdessa.” -Elias Lönnrot \nEsitys kestää noin puoli tuntia. \nLaulajat: \nMeri-Maaria Kivekäs \nAnna-Kaisa Liedes (kantele) \nMia Sammalkanto \nTuike Suomalainen (viulu) \nViive Virtanen (viulu)
URL:https://kuopionmuseot.fi/tapahtuma/kulta-se-lahti-kuopiohon-sibelius-akatemian-ja-taideyliopiston-opiskelijoiden-rekilaulukonsertti/2024-03-23/2/
LOCATION:KUMMA\, Kauppakatu 35\, Kuopio\, 70100
ATTACH;FMTTYPE=image/png:https://kuopionmuseot.fi/wp-content/uploads/2024/01/1920-1080-px-01-3.png
END:VEVENT
BEGIN:VEVENT
DTSTART;TZID=Europe/Helsinki:20240323T130000
DTEND;TZID=Europe/Helsinki:20240323T134500
DTSTAMP:20260421T132247
CREATED:20231011T102134Z
LAST-MODIFIED:20240411T065742Z
UID:10002654-1711198800-1711201500@kuopionmuseot.fi
SUMMARY:Opastus: Juho Rissanen meillä ja maailmalla
DESCRIPTION:Näyttelyopastus esittelee taidemaalari Juho Rissasen elämänvaiheita Kuopiossa sekä aikakauden kaupunkielämää. \nOpastuksia järjestetään lauantaisin klo 13. \nKesto noin 30–45 min. Mukaan pääsylipulla (8/5 €\, alle 18-vuotiaat maksutta\, Museokortti). \n  \nJuho Rissanen meillä ja maailmalla 13.10.2023–14.4.2024 \nTaiteilijan lapsuudessa olivat voimakkaasti läsnä niin kuolema kuin ainainen nälkä. Kiertolaiselämää eläneen pojan elämään mahtui silti myös hauskoja hetkiä – muistoja ihmisistä\, paikoista ja sattumuksista pienessä Kuopion maalaiskaupungissa. Milloin hän jäi nutustaan roikkumaan räystääseen\, putosi jäihin tai tikkaat kaatuivat katulamppuja sytyttäessä – onneakin oli aika usein matkassa\, ettei pahempaa sattunut. Koulunkäynti estyi myös kerta toisensa jälkeen. Lopullisesti haaveet opintiestä mursi isän kuolema Juhon ollessa 10-vuotias. Perheen vanhimpana lapsena tapahtuma pakotti pojan perheen elättäjäksi äidin rinnalle. \nJuho Rissanen ponnisti maailmalle köyhyydestä ja kurjuudesta. Maailmalle lähtönsä jälkeenkin Rissanen palasi usein kotiseuduilleen Pohjois-Savoon maalaamaan ja keräsi ulkomaanmatkoillaan merkittävän kokoelman esineitä rakkaudesta kotikaupunkiinsa. Aasiasta ja Afrikasta peräisin oleva kokoelma sisältää lähes 150 objektia. Nämä maailmalta kotiin Kuopioon lähetetyt esineet ja 1800-luvun lopun valokuva-aineisto ovatkin näyttelyn herkullisinta antia.
URL:https://kuopionmuseot.fi/tapahtuma/opastus-juho-rissanen-meilla-ja-maailmalla/2024-03-23/
LOCATION:Korttelimuseo\, Kirkkokatu 22\, Kuopio\, 70100\, Suomi
ATTACH;FMTTYPE=image/jpeg:https://kuopionmuseot.fi/wp-content/uploads/2023/10/rissanen_opastus.jpg
END:VEVENT
BEGIN:VEVENT
DTSTART;TZID=Europe/Helsinki:20240323T141500
DTEND;TZID=Europe/Helsinki:20240323T144500
DTSTAMP:20260421T132247
CREATED:20240313T092800Z
LAST-MODIFIED:20240313T092800Z
UID:10002782-1711203300-1711205100@kuopionmuseot.fi
SUMMARY:Kirjailijavierailu Leena Jokimaa: Huimapään muistelmat
DESCRIPTION:Leena Jokimaa kertoo kirjastaan ”Huimapään muistelmat”. \nTilaisuus on maksuton\, eikä siihen tarvitse ilmoittautua etukäteen. \nTilaisuuden järjestää Kuopion Kalevalaiset ry. yhteistyössä Kuopion museon kanssa.
URL:https://kuopionmuseot.fi/tapahtuma/kirjailijavierailu-leena-jokimaa-huimapaan-muistelmat/
LOCATION:Kuopion museo
ATTACH;FMTTYPE=image/jpeg:https://kuopionmuseot.fi/wp-content/uploads/2024/03/Huimapaanmuistelmat.jpg
END:VEVENT
BEGIN:VEVENT
DTSTART;TZID=Europe/Helsinki:20240324T140000
DTEND;TZID=Europe/Helsinki:20240324T150000
DTSTAMP:20260421T132247
CREATED:20231003T093738Z
LAST-MODIFIED:20231213T094037Z
UID:10002362-1711288800-1711292400@kuopionmuseot.fi
SUMMARY:Opastus Juho Rissanen – Kuvauksen vilkkaus -näyttelyyn
DESCRIPTION:Kuopion taidemuseolla järjestetään avoimia opastuksia näyttelyihin joka sunnuntai klo 14 perehtyen vuoroviikoin taidemuseon eri näyttelyihin. \nOdotettu Juho Rissanen – Kuvauksen vilkkaus -näyttely tarjoaa uuden näkökulman Rissaseen pureutumalla hänen taiteensa lisäksi hänen elämäänsä ja persoonaansa. Esillä on sekä tuttuja että harvoin esillä olleita teoksia\, myös Rissasen kirjeitä ja valokuvia\, joiden kautta välittyy hänen valloittava persoonallisuutensa ja suhteensa tukijoihin ja läheisiin ihmisiin. \nNäyttelyssä on teoksia koko Rissasen taiteellisen työskentelyn ajalta. Esillä on muun muassa luonnoksia Rissasen lapsuuden traagiseen tapahtumaan liittyvästä isän kuolemasta sekä Pariisin vuoden 1900 maailmannäyttelyn teoksiin tehtyjä luonnoksia. Tunnettu\, yksityiskokoelmaan kuuluva maalaus Hauta-Heikin mummo (1897) on yksi näyttelyn merkkiteoksista. Mukana näyttelyssä on myös Juho Rissasen perikunnalta Yhdysvalloista lahjoituksena tänä kesänä saatu maalaus Työstä paluu (1908) sekä yksi Rissasen viimeisimmiksi jääneistä teoksista\, Tyttö ja koira (1950)\, jonka Rissanen maalasi Yhdysvalloissa. Rissaselle läheisten savolaisaiheiden rinnalla nähdään raikkain värein maalattuja kepeitä teoksia\, joissa näkyy ranskalaisen taiteen vaikutus. Näyttelyssä pääsee myös kurkistamaan taiteilijan ateljeeseen\, kuulemaan ja lukemaan Juho Rissasen kirjeitä ja vierailemaan Miami Beachilla\, jonka auringon alla taiteilija vietti viimeiset elinvuotensa. \nOpastukseen voi osallistua taidemuseon pääsymaksulla 10/5 €\, alle 18-vuotiaat ilmaiseksi ja museokortti käy maksuvälineeksi.
URL:https://kuopionmuseot.fi/tapahtuma/opastus-juho-rissanen-kuvauksen-vilkkaus-nayttelyyn-2/2024-03-24/
LOCATION:KUMMA\, Kauppakatu 35\, Kuopio\, 70100
ATTACH;FMTTYPE=image/jpeg:https://kuopionmuseot.fi/wp-content/uploads/2023/10/1920-1080-px-01.jpg
END:VEVENT
END:VCALENDAR