BEGIN:VCALENDAR
VERSION:2.0
PRODID:-//Kuopion museot - ECPv6.15.20//NONSGML v1.0//EN
CALSCALE:GREGORIAN
METHOD:PUBLISH
X-ORIGINAL-URL:https://kuopionmuseot.fi
X-WR-CALDESC:Tapahtumat Kuopion museot
REFRESH-INTERVAL;VALUE=DURATION:PT1H
X-Robots-Tag:noindex
X-PUBLISHED-TTL:PT1H
BEGIN:VTIMEZONE
TZID:Europe/Helsinki
BEGIN:DAYLIGHT
TZOFFSETFROM:+0200
TZOFFSETTO:+0300
TZNAME:EEST
DTSTART:20230326T010000
END:DAYLIGHT
BEGIN:STANDARD
TZOFFSETFROM:+0300
TZOFFSETTO:+0200
TZNAME:EET
DTSTART:20231029T010000
END:STANDARD
BEGIN:DAYLIGHT
TZOFFSETFROM:+0200
TZOFFSETTO:+0300
TZNAME:EEST
DTSTART:20240331T010000
END:DAYLIGHT
BEGIN:STANDARD
TZOFFSETFROM:+0300
TZOFFSETTO:+0200
TZNAME:EET
DTSTART:20241027T010000
END:STANDARD
BEGIN:DAYLIGHT
TZOFFSETFROM:+0200
TZOFFSETTO:+0300
TZNAME:EEST
DTSTART:20250330T010000
END:DAYLIGHT
BEGIN:STANDARD
TZOFFSETFROM:+0300
TZOFFSETTO:+0200
TZNAME:EET
DTSTART:20251026T010000
END:STANDARD
END:VTIMEZONE
BEGIN:VEVENT
DTSTART;VALUE=DATE:20240217
DTEND;VALUE=DATE:20240311
DTSTAMP:20260421T145440
CREATED:20230224T143438Z
LAST-MODIFIED:20240216T100415Z
UID:10002155-1708128000-1710115199@kuopionmuseot.fi
SUMMARY:Lupsakka lomapäivä -mobiilipeli
DESCRIPTION:Kuopion kaupungin museot ovat laatineet hiihtolomailijoille Lupsakka lomapäivä -mobiilipelin. Nimen mukaisesti peli tarjoaa taiteen\, luonnon ja historian tahdittamia puuhaideoita hiihtoloman viettoon. \nVoit pelata peliä hiihtolomakauden ajan\, 17.2.–10.3.2024. \nSuuntaa siis osoitteeseen https://create.seppo.io/login ja kirjaudu sisään pelaajana koodilla B13ACD! \nMuu hyperhiihtolomatarjonta löytyy kätevästi koottuna osoitteesta https://kuopionseina.fi/hyperhiihtoloma/
URL:https://kuopionmuseot.fi/tapahtuma/lupsakka-lomapaiva-mobiilipeli/
LOCATION:Muut
ATTACH;FMTTYPE=image/jpeg:https://kuopionmuseot.fi/wp-content/uploads/2023/02/mobiilipeli-kopio2.jpg
ORGANIZER;CN="Kuopion museo":MAILTO:kuopionmuseo@kuopio.fi
END:VEVENT
BEGIN:VEVENT
DTSTART;TZID=Europe/Helsinki:20240221T130000
DTEND;TZID=Europe/Helsinki:20240221T131500
DTSTAMP:20260421T145440
CREATED:20240216T110903Z
LAST-MODIFIED:20240216T110903Z
UID:10002721-1708520400-1708521300@kuopionmuseot.fi
SUMMARY:Taidevartti: Juho Rissasen teos Naisia rannalla
DESCRIPTION:Tämänkertaisella Juho Rissanen – Kuvauksen vilkkaus -näyttelyyn liittyvällä taidevartilla tutustutaan yksityiskokoelmasta lainassa olevaan Naisia rannalla -teokseen (1930) ja sen taustoihin. \nTaidevartille voi osallistua Kuopion taidemuseon pääsymaksulla 10/5 €\, alle 18-vuotiaat ilmaiseksi ja Museokortti käy maksuvälineeksi. \nLämpimästi tervetuloa!
URL:https://kuopionmuseot.fi/tapahtuma/taidevartti-juho-rissasen-teos-naisia-rannalla/
LOCATION:KUMMA\, Kauppakatu 35\, Kuopio\, 70100
ATTACH;FMTTYPE=image/png:https://kuopionmuseot.fi/wp-content/uploads/2024/02/1920-1080-px-01-3.png
END:VEVENT
BEGIN:VEVENT
DTSTART;TZID=Europe/Helsinki:20240221T153000
DTEND;TZID=Europe/Helsinki:20240221T161500
DTSTAMP:20260421T145440
CREATED:20230419T123907Z
LAST-MODIFIED:20231221T080840Z
UID:10002195-1708529400-1708532100@kuopionmuseot.fi
SUMMARY:Opastus: Wildlife Photographer of the Year
DESCRIPTION:Opastetulla kierroksella pääset sukeltamaan oppaan kanssa pintaa syvemmälle. Näyttelyn upeiden valokuvien kautta tutkitaan maapallomme luonnon herkkää tasapainoa ja sen nykytilaa. Kuinka ympärillämme tapahtuvat muutokset vaikuttavat planeettamme ekosysteemeihin? \nOpastus sisältyy pääsylipun hintaan  13 € / 7 €\, alle 18-vuotiaat ilmaiseksi. Museokortti käy. Opastus on kestoltaan noin 45 minuuttia. \nKuva © José Juan Hernández Martinez\, Wildlife Photographer of the Year \n********* \nKuopion museon näyttelyihin on säännöllisiä opastuksia vaihtuvin sisällöin keskiviikkoisin klo 15.30 sekä lauantaisin klo 14. \nKevätkauden 2024 opastukset\nKierrokset suuntautuvat Wildlife Photographer of the Year -näyttelyyn näinä päivinä: \n\nvko 2: ke 10.1. ja la 13.1.\nvko 4: ke 24.1. ja la 27.1.\nvko 6: ke 7.2. ja la 10.2.\nvko 8: ke 21.2. ja la 24.2.\n\nKierrokset suuntautuvat Ihmisen aika -perusnäyttelyyn näinä päivinä : \n\nvko 1: ke 3.1. ja la 6.1.\nvko 7: ke 14.2. ja la 17.2.\nvko 10: la 9.3.  \nvko 12: ke 20.3. ja la 23.3. \nvko 17: ke 24.4. ja la 27.4. \n\nKierrokset suuntautuvat Muuttuva luonto -perusnäyttelyyn näinä päivinä: \n\nvko 3 ke 17.1. ja la 20.1. \nvko 9: ke 28.2. ja la 2.3.  \nvko 13: ke 27.3. ja la 30.3. \nvko 19 la 11.5. \n\nKierrokset suuntautuvat Toden ja tarun rajalla -perusnäyttelyyn näinä päivinä: \n\nvko 5 ke 31.1. ja la 3.2. \nvko 9: ke 28.2. ja la 2.3.  \nvko 10: ke 6.3. \nvko 11: ke 13.3. ja la 16.3. \nvko 15: ke 10.4. ja la 13.4.\nvko 21: ke 22.5. ja la 25.5.
URL:https://kuopionmuseot.fi/tapahtuma/opastus-wildlife-photographer-of-the-year/2024-02-21/
LOCATION:Kuopion museo
ATTACH;FMTTYPE=image/jpeg:https://kuopionmuseot.fi/wp-content/uploads/2023/04/©-Jose-Juan-Hernandez-Martinez-Wildlife-Photographer-of-the-Year-.jpg
END:VEVENT
BEGIN:VEVENT
DTSTART;TZID=Europe/Helsinki:20240221T170000
DTEND;TZID=Europe/Helsinki:20240221T180000
DTSTAMP:20260421T145440
CREATED:20240207T152653Z
LAST-MODIFIED:20240207T152653Z
UID:10002644-1708534800-1708538400@kuopionmuseot.fi
SUMMARY:Luontokirjalukupiiri
DESCRIPTION:Luontokirjalukupiiri kokoontuu kerran kuukaudessa keskiviikkoisin klo 17.00–18.00. \nLukupiirissä tutustutaan kiehtovan ajankohtaisiin teoksiin ja keskustellaan niiden herättämistä ajatuksista. Kirjallisuus- tai ympäristöasiantuntemusta ei tarvita\, ja mukaan voi tulla yhdelle tai useammalle kerralle. Lukupiiri toimii hyvin myös kirjavinkkauksena – keskustelun kuunteleminen on mainio tapa löytää kiinnostavaa luettavaa! \nLukupiiri järjestetään verkossa Zoom-alustalla.\nEnnakkoilmoittautumista ei tarvita. \nLisätietoja saa osoitteesta aikuistenosasto.kirjasto@kuopio.fi \nKe 21.2.2024\nSvensson\, Patrik: Meren kutsu \nKe 20.3.2024\nKovalainen\, Ritva & Seppo\, Sanni: Pohjoistuulen metsä \nKe 24.4.2024\nLunde\, Maja: Unelma puusta
URL:https://kuopionmuseot.fi/tapahtuma/luontokirjalukupiiri/
LOCATION:Muut
ATTACH;FMTTYPE=image/jpeg:https://kuopionmuseot.fi/wp-content/uploads/2024/02/wave_atlantic_pacific_ocean_huge_large_blue_dark_blue-1162238.jpg
END:VEVENT
BEGIN:VEVENT
DTSTART;TZID=Europe/Helsinki:20240222T140000
DTEND;TZID=Europe/Helsinki:20240222T163000
DTSTAMP:20260421T145440
CREATED:20240205T074334Z
LAST-MODIFIED:20240325T062402Z
UID:10002632-1708610400-1708619400@kuopionmuseot.fi
SUMMARY:Avoin kuvapaja
DESCRIPTION:Kaikenikäisille aikuisille suunnatut avoimet kuvapajat\, jossa taiteen keinoin tapahtuvaan tekemiseen syvennytään eri teemojen kautta. Aiempaa kokemusta piirtämisestä tai maalaamisesta ei tarvita. \nEi ennakkoilmoittautumista\, mukaan voi tulla silloin kun itselle sopii. Pajatoiminta on maksutonta ja taidetarvikkeet löytyvät paikan päältä. Huom! Paikkoja oppimistilassa on rajoitettu määrä. \nTORSTAIN KUVAPAJA KLO 14‒16.30 Kuopion museon katukerroksen oppimistilassa seuraavina päivinä: 18.1. / 25.1. / 1.2. / 8.2. / 15.2. / 22.2. / 29.2. / talvitauko / 21.3. / 4.4. / 11.4. / 18.4. / 25.4. \nJärj. Kuopion kaupunki\, Kansalaistoiminnan palvelut. Yhteistyössä Kuopion museo.
URL:https://kuopionmuseot.fi/tapahtuma/avoinkuvapaja/2024-02-22/
LOCATION:Kuopion museo
ATTACH;FMTTYPE=image/jpeg:https://kuopionmuseot.fi/wp-content/uploads/2024/02/Kuvapaja1.jpg
END:VEVENT
BEGIN:VEVENT
DTSTART;TZID=Europe/Helsinki:20240223T093000
DTEND;TZID=Europe/Helsinki:20240223T100000
DTSTAMP:20260421T145440
CREATED:20240126T094825Z
LAST-MODIFIED:20240126T121311Z
UID:10002626-1708680600-1708682400@kuopionmuseot.fi
SUMMARY:Vuodenaikojen ihmeet -satutunti
DESCRIPTION:Tervetuloa Kantin satutunneille\, jossa pääkirjaston sadut saavat seurakseen tiedonmuruja museolta. Satutunteja järjestetään Kuopion museon tiloissa helmikuun ajan perjantaisin klo 9.30 alkaen ja niiden kesto on noin puoli tuntia. Satutunnit ovat kaikille avoimia sekä maksuttomia ja soveltuvat parhaiten yli kolmevuotiaille. \nTilaa museossa on kuitenkin rajallisesti\, joten ryhmiä pyydetään ilmoittamaan osallistumisesta ennakkoon. Näin voimme varmistaa\, että paikkoja riittää kaikille. Ryhmäilmoittautumiset Kuopion museon asiakaspalveluun 017 182 603/kuopionmuseo(a)kuopio.fi. \n\npe 2.2. klo 9.30: Mahtava metsäretki -satutunti\npe 9.2. klo 9.30: Postiseikkailu-satutunti\npe 16.2. klo 9.30: Lelu leikin loihtii -satutunti\npe 23.2. klo 9.30: Vuodenaikojen ihmeet -satutunti
URL:https://kuopionmuseot.fi/tapahtuma/vuodenaikojen-ihmeet-satutunti/
LOCATION:Kuopion museo
ATTACH;FMTTYPE=image/jpeg:https://kuopionmuseot.fi/wp-content/uploads/2024/01/Satutunnit-Website-2.jpg
END:VEVENT
BEGIN:VEVENT
DTSTART;TZID=Europe/Helsinki:20240224T130000
DTEND;TZID=Europe/Helsinki:20240224T140000
DTSTAMP:20260421T145440
CREATED:20240209T082356Z
LAST-MODIFIED:20240310T114744Z
UID:10002651-1708779600-1708783200@kuopionmuseot.fi
SUMMARY:Rintanappityöpaja
DESCRIPTION:”Koppoo kiinni tästä päevästä ja lähe museoon!” Juho Rissanen oli ylpeä savolaisuudestaan ja puhui kieliäkin Savon murteella. Korttelimuseossa voit painaa itsellesi rintanapin Savon murteella 2€ työpajamaksun hintaan! Työpajat Korttelimuseossa lauantaina 24.2.\, 2.3. ja 16.3. klo 13.00.
URL:https://kuopionmuseot.fi/tapahtuma/rintanappityopaja/2024-02-24/
LOCATION:Korttelimuseo\, Kirkkokatu 22\, Kuopio\, 70100\, Suomi
ATTACH;FMTTYPE=image/jpeg:https://kuopionmuseot.fi/wp-content/uploads/2024/02/rintanapit-003-scaled.jpg
END:VEVENT
BEGIN:VEVENT
DTSTART;TZID=Europe/Helsinki:20240224T140000
DTEND;TZID=Europe/Helsinki:20240224T144500
DTSTAMP:20260421T145440
CREATED:20230419T123907Z
LAST-MODIFIED:20231221T080840Z
UID:10002196-1708783200-1708785900@kuopionmuseot.fi
SUMMARY:Opastus: Wildlife Photographer of the Year
DESCRIPTION:Opastetulla kierroksella pääset sukeltamaan oppaan kanssa pintaa syvemmälle. Näyttelyn upeiden valokuvien kautta tutkitaan maapallomme luonnon herkkää tasapainoa ja sen nykytilaa. Kuinka ympärillämme tapahtuvat muutokset vaikuttavat planeettamme ekosysteemeihin? \nOpastus sisältyy pääsylipun hintaan  13 € / 7 €\, alle 18-vuotiaat ilmaiseksi. Museokortti käy. Opastus on kestoltaan noin 45 minuuttia. \nKuva © José Juan Hernández Martinez\, Wildlife Photographer of the Year \n********* \nKuopion museon näyttelyihin on säännöllisiä opastuksia vaihtuvin sisällöin keskiviikkoisin klo 15.30 sekä lauantaisin klo 14. \nKevätkauden 2024 opastukset\nKierrokset suuntautuvat Wildlife Photographer of the Year -näyttelyyn näinä päivinä: \n\nvko 2: ke 10.1. ja la 13.1.\nvko 4: ke 24.1. ja la 27.1.\nvko 6: ke 7.2. ja la 10.2.\nvko 8: ke 21.2. ja la 24.2.\n\nKierrokset suuntautuvat Ihmisen aika -perusnäyttelyyn näinä päivinä : \n\nvko 1: ke 3.1. ja la 6.1.\nvko 7: ke 14.2. ja la 17.2.\nvko 10: la 9.3.  \nvko 12: ke 20.3. ja la 23.3. \nvko 17: ke 24.4. ja la 27.4. \n\nKierrokset suuntautuvat Muuttuva luonto -perusnäyttelyyn näinä päivinä: \n\nvko 3 ke 17.1. ja la 20.1. \nvko 9: ke 28.2. ja la 2.3.  \nvko 13: ke 27.3. ja la 30.3. \nvko 19 la 11.5. \n\nKierrokset suuntautuvat Toden ja tarun rajalla -perusnäyttelyyn näinä päivinä: \n\nvko 5 ke 31.1. ja la 3.2. \nvko 9: ke 28.2. ja la 2.3.  \nvko 10: ke 6.3. \nvko 11: ke 13.3. ja la 16.3. \nvko 15: ke 10.4. ja la 13.4.\nvko 21: ke 22.5. ja la 25.5.
URL:https://kuopionmuseot.fi/tapahtuma/opastus-wildlife-photographer-of-the-year/2024-02-24/
LOCATION:Kuopion museo
ATTACH;FMTTYPE=image/jpeg:https://kuopionmuseot.fi/wp-content/uploads/2023/04/©-Jose-Juan-Hernandez-Martinez-Wildlife-Photographer-of-the-Year-.jpg
END:VEVENT
BEGIN:VEVENT
DTSTART;TZID=Europe/Helsinki:20240224T140000
DTEND;TZID=Europe/Helsinki:20240224T150000
DTSTAMP:20260421T145440
CREATED:20240213T092505Z
LAST-MODIFIED:20240221T121305Z
UID:10002713-1708783200-1708786800@kuopionmuseot.fi
SUMMARY:Tiina Raevaara: Koiran ja ihmisen yhteinen taival kivikaudesta tähän päivään
DESCRIPTION:Koiraluennot jatkuvat Kuopion taidemuseon Überhund – taiteen kiehtovat koirat -näyttelyssä lauantaina 24.2. klo 14 kirjailija ja filosofian tohtori Tiina Raevaaran kanssa. \nLuennollaan Raevaara kertoo ihmisen ensimmäisen seuralaiseläimen alkuperästä ja siitä\, kuinka koirat valloittivat maailman ihmiskunnan vanavedessä. Koira on nivottu tiukasti ihmisen kulttuuriin ja yhteiskuntaan. Miksi ihmiset ylipäätään haluavat jakaa arkensa muunlajisten eläinten kanssa? Millaisia merkityksiä koiralla meille on? \nTiina Raevaara on perinnöllisyystieteestä väitellyt biologi\, joka on käsitellyt koiraa sekä ihmisen suhdetta muihin eläimiin niin tieto- kuin kaunokirjallisuuden keinoin. Hänen viimeisin tietokirjansa on vuonna 2022 ilmestynyt Minä\, koira ja ihmiskunta: Lajienvälisen yhteiselon historia. \nLuennon hinta: 10€ ja Kuopion taidemuseon pääsymaksu 10/5 €\, alle 18-vuotiaat ilmaiseksi ja museokortti käy maksuvälineeksi. Varaa paikkasi luennolle ostamalla lippusi Kuopion verkkokaupasta: LUENTO: Tiina Raevaara: Koiran ja ihmisen yhteinen taival kivikaudesta tähän päivään – Kuopion verkkokauppa
URL:https://kuopionmuseot.fi/tapahtuma/tiina-raevaara-koiran-ja-ihmisen-yhteinen-taival-kivikaudesta-tahan-paivaan/
LOCATION:KUMMA\, Kauppakatu 35\, Kuopio\, 70100
ATTACH;FMTTYPE=image/png:https://kuopionmuseot.fi/wp-content/uploads/2024/02/1920-1080-px-01-2.png
END:VEVENT
BEGIN:VEVENT
DTSTART;TZID=Europe/Helsinki:20240224T153000
DTEND;TZID=Europe/Helsinki:20240224T163000
DTSTAMP:20260421T145440
CREATED:20240215T104810Z
LAST-MODIFIED:20240215T104810Z
UID:10002714-1708788600-1708792200@kuopionmuseot.fi
SUMMARY:Opastus: 2148
DESCRIPTION:Miltä maailma näyttää vuonna 2148? Vastauksia voi etsiä Kuopion museon teemaopastukselta\, jolla vieraillaan sekä ilmastonmuutoksen runtelemassa 2140-luvun Suomessa että tulevaisuudessa\, jossa ihmiset ovat onnistuneet pelastamaan sekä villin luonnon että itsensä. \nOpastus on kestoltaan noin tunnin mittainen ja sisältyy museon pääsymaksuun. \nAiheesta innostuneet voivat tutustua myös Kuopion pääkirjaston koostamiin vinkkilistoihin. Kirjoja\, elokuvia ja pelejä dystopioista löytyy täältä https://kuopio.finna.fi/List/1427454 ja utopioista puolestaan täältä https://kuopio.finna.fi/List/1427436 \nKuvassa pohjana Antti Karppisen Kuopion museolle luomat Walk in the Park ja Walk in the Parch -teokset.
URL:https://kuopionmuseot.fi/tapahtuma/opastus-2148-3/
LOCATION:Kuopion museo
ATTACH;FMTTYPE=image/jpeg:https://kuopionmuseot.fi/wp-content/uploads/2023/10/2148b.jpg
ORGANIZER;CN="Kuopion museo":MAILTO:kuopionmuseo@kuopio.fi
END:VEVENT
BEGIN:VEVENT
DTSTART;TZID=Europe/Helsinki:20240225T140000
DTEND;TZID=Europe/Helsinki:20240225T150000
DTSTAMP:20260421T145440
CREATED:20231003T093738Z
LAST-MODIFIED:20231213T094037Z
UID:10002360-1708869600-1708873200@kuopionmuseot.fi
SUMMARY:Opastus Juho Rissanen – Kuvauksen vilkkaus -näyttelyyn
DESCRIPTION:Kuopion taidemuseolla järjestetään avoimia opastuksia näyttelyihin joka sunnuntai klo 14 perehtyen vuoroviikoin taidemuseon eri näyttelyihin. \nOdotettu Juho Rissanen – Kuvauksen vilkkaus -näyttely tarjoaa uuden näkökulman Rissaseen pureutumalla hänen taiteensa lisäksi hänen elämäänsä ja persoonaansa. Esillä on sekä tuttuja että harvoin esillä olleita teoksia\, myös Rissasen kirjeitä ja valokuvia\, joiden kautta välittyy hänen valloittava persoonallisuutensa ja suhteensa tukijoihin ja läheisiin ihmisiin. \nNäyttelyssä on teoksia koko Rissasen taiteellisen työskentelyn ajalta. Esillä on muun muassa luonnoksia Rissasen lapsuuden traagiseen tapahtumaan liittyvästä isän kuolemasta sekä Pariisin vuoden 1900 maailmannäyttelyn teoksiin tehtyjä luonnoksia. Tunnettu\, yksityiskokoelmaan kuuluva maalaus Hauta-Heikin mummo (1897) on yksi näyttelyn merkkiteoksista. Mukana näyttelyssä on myös Juho Rissasen perikunnalta Yhdysvalloista lahjoituksena tänä kesänä saatu maalaus Työstä paluu (1908) sekä yksi Rissasen viimeisimmiksi jääneistä teoksista\, Tyttö ja koira (1950)\, jonka Rissanen maalasi Yhdysvalloissa. Rissaselle läheisten savolaisaiheiden rinnalla nähdään raikkain värein maalattuja kepeitä teoksia\, joissa näkyy ranskalaisen taiteen vaikutus. Näyttelyssä pääsee myös kurkistamaan taiteilijan ateljeeseen\, kuulemaan ja lukemaan Juho Rissasen kirjeitä ja vierailemaan Miami Beachilla\, jonka auringon alla taiteilija vietti viimeiset elinvuotensa. \nOpastukseen voi osallistua taidemuseon pääsymaksulla 10/5 €\, alle 18-vuotiaat ilmaiseksi ja museokortti käy maksuvälineeksi.
URL:https://kuopionmuseot.fi/tapahtuma/opastus-juho-rissanen-kuvauksen-vilkkaus-nayttelyyn-2/2024-02-25/
LOCATION:KUMMA\, Kauppakatu 35\, Kuopio\, 70100
ATTACH;FMTTYPE=image/jpeg:https://kuopionmuseot.fi/wp-content/uploads/2023/10/1920-1080-px-01.jpg
END:VEVENT
END:VCALENDAR