BEGIN:VCALENDAR
VERSION:2.0
PRODID:-//Kuopion museot - ECPv6.15.20//NONSGML v1.0//EN
CALSCALE:GREGORIAN
METHOD:PUBLISH
X-ORIGINAL-URL:https://kuopionmuseot.fi
X-WR-CALDESC:Tapahtumat Kuopion museot
REFRESH-INTERVAL;VALUE=DURATION:PT1H
X-Robots-Tag:noindex
X-PUBLISHED-TTL:PT1H
BEGIN:VTIMEZONE
TZID:Europe/Helsinki
BEGIN:DAYLIGHT
TZOFFSETFROM:+0200
TZOFFSETTO:+0300
TZNAME:EEST
DTSTART:20230326T010000
END:DAYLIGHT
BEGIN:STANDARD
TZOFFSETFROM:+0300
TZOFFSETTO:+0200
TZNAME:EET
DTSTART:20231029T010000
END:STANDARD
BEGIN:DAYLIGHT
TZOFFSETFROM:+0200
TZOFFSETTO:+0300
TZNAME:EEST
DTSTART:20240331T010000
END:DAYLIGHT
BEGIN:STANDARD
TZOFFSETFROM:+0300
TZOFFSETTO:+0200
TZNAME:EET
DTSTART:20241027T010000
END:STANDARD
BEGIN:DAYLIGHT
TZOFFSETFROM:+0200
TZOFFSETTO:+0300
TZNAME:EEST
DTSTART:20250330T010000
END:DAYLIGHT
BEGIN:STANDARD
TZOFFSETFROM:+0300
TZOFFSETTO:+0200
TZNAME:EET
DTSTART:20251026T010000
END:STANDARD
END:VTIMEZONE
BEGIN:VEVENT
DTSTART;TZID=Europe/Helsinki:20240206T113000
DTEND;TZID=Europe/Helsinki:20240206T153000
DTSTAMP:20260421T104849
CREATED:20240118T081922Z
LAST-MODIFIED:20240130T080326Z
UID:10002615-1707219000-1707233400@kuopionmuseot.fi
SUMMARY:Luonto lainassa -viikko: yhteinen saimaannorppamme
DESCRIPTION:Tervetuloa tutustumaan saimaannorppaan!\n \nKuopion museolla voi tutustua Suomen luonnonsuojeluliiton saimaannorpan suojelutyöhön sekä Pohjois-Savon luonnonsuojelupiirin muuhunkin luonnonsuojelutyöhön. \nJärj. Pohjois-Savon luonnonsuojelupiiri ry. Maksuton. \n(Tapahtuma on osa Yhteinen saimaannorppamme LIFE -hanketta\, joka on saanut rahoitusta Euroopan unionin LIFE-ohjelmasta. Tapahtuman ja aineiston sisältö heijastelee sen tekijöiden näkemyksiä\, eikä Euroopan komissio tai CINEA ole vastuussa aineiston sisältämien tietojen käytöstä.) \n**** \nKuopion museon Muuttuva luonto -perusnäyttelyyn on Yhteinen saimaannorppamme -esittelypäivän yhteydessä 6.2. Norppavartteja klo 12 ja 15.30. Norppa-aiheisella museovartilla opas tutustuttaa perusnäyttelyn norppiin\, tilaisuuden kesto on 15-30 min. Mukaan pääsee museon pääsylipulla (13 / 7 €\, alle 18-v maksutta) tai Museokortilla.
URL:https://kuopionmuseot.fi/tapahtuma/saimaannorppa/
LOCATION:Kuopion museo
ATTACH;FMTTYPE=image/jpeg:https://kuopionmuseot.fi/wp-content/uploads/2024/01/Yhteinen-norppamme.jpg
END:VEVENT
BEGIN:VEVENT
DTSTART;TZID=Europe/Helsinki:20240206T120000
DTEND;TZID=Europe/Helsinki:20240206T123000
DTSTAMP:20260421T104849
CREATED:20240119T064644Z
LAST-MODIFIED:20240130T081105Z
UID:10002616-1707220800-1707222600@kuopionmuseot.fi
SUMMARY:Museovartti: norppa
DESCRIPTION:Luonto lainassa -viikon Yhteinen saimaannorppamme -tilaisuuden yhteydessä on kaksi museovarttia\, joilla tutustutaan oppaan johdolla Muuttuva luonto -perusnäyttelyn saimaannorppiin. Lähdöt klo 12 ja 15.30 Kuopion museon aulasta. Kesto on noin 15-30 minuuttia. Mukaan pääsee museon pääsylipulla (13 / 7 €\, alle 18-v maksutta) tai Museokortilla. \n(Muuttuva luonto -näyttelyssä on käynnissä Migraatiosalin muutostyö\, mistä saattaa aiheutua ajoittaista äänihaittaa.) \nLue lisää Pohjois-Savon luonnonsuojelupiiri ry:n tilaisuudesta täältä: Luonto lainassa -viikko: yhteinen saimaannorppamme – Kuopion museot
URL:https://kuopionmuseot.fi/tapahtuma/museovartti-norppa/2024-02-06/1/
LOCATION:Kuopion museo
ATTACH;FMTTYPE=image/jpeg:https://kuopionmuseot.fi/wp-content/uploads/2024/01/norppavartti.jpg
ORGANIZER;CN="Kuopion museo":MAILTO:kuopionmuseo@kuopio.fi
END:VEVENT
BEGIN:VEVENT
DTSTART;TZID=Europe/Helsinki:20240206T153000
DTEND;TZID=Europe/Helsinki:20240206T160000
DTSTAMP:20260421T104849
CREATED:20240119T064644Z
LAST-MODIFIED:20240130T081105Z
UID:10002617-1707233400-1707235200@kuopionmuseot.fi
SUMMARY:Museovartti: norppa
DESCRIPTION:Luonto lainassa -viikon Yhteinen saimaannorppamme -tilaisuuden yhteydessä on kaksi museovarttia\, joilla tutustutaan oppaan johdolla Muuttuva luonto -perusnäyttelyn saimaannorppiin. Lähdöt klo 12 ja 15.30 Kuopion museon aulasta. Kesto on noin 15-30 minuuttia. Mukaan pääsee museon pääsylipulla (13 / 7 €\, alle 18-v maksutta) tai Museokortilla. \n(Muuttuva luonto -näyttelyssä on käynnissä Migraatiosalin muutostyö\, mistä saattaa aiheutua ajoittaista äänihaittaa.) \nLue lisää Pohjois-Savon luonnonsuojelupiiri ry:n tilaisuudesta täältä: Luonto lainassa -viikko: yhteinen saimaannorppamme – Kuopion museot
URL:https://kuopionmuseot.fi/tapahtuma/museovartti-norppa/2024-02-06/2/
LOCATION:Kuopion museo
ATTACH;FMTTYPE=image/jpeg:https://kuopionmuseot.fi/wp-content/uploads/2024/01/norppavartti.jpg
ORGANIZER;CN="Kuopion museo":MAILTO:kuopionmuseo@kuopio.fi
END:VEVENT
BEGIN:VEVENT
DTSTART;TZID=Europe/Helsinki:20240207T153000
DTEND;TZID=Europe/Helsinki:20240207T161500
DTSTAMP:20260421T104849
CREATED:20230419T123907Z
LAST-MODIFIED:20231221T080840Z
UID:10002193-1707319800-1707322500@kuopionmuseot.fi
SUMMARY:Opastus: Wildlife Photographer of the Year
DESCRIPTION:Opastetulla kierroksella pääset sukeltamaan oppaan kanssa pintaa syvemmälle. Näyttelyn upeiden valokuvien kautta tutkitaan maapallomme luonnon herkkää tasapainoa ja sen nykytilaa. Kuinka ympärillämme tapahtuvat muutokset vaikuttavat planeettamme ekosysteemeihin? \nOpastus sisältyy pääsylipun hintaan  13 € / 7 €\, alle 18-vuotiaat ilmaiseksi. Museokortti käy. Opastus on kestoltaan noin 45 minuuttia. \nKuva © José Juan Hernández Martinez\, Wildlife Photographer of the Year \n********* \nKuopion museon näyttelyihin on säännöllisiä opastuksia vaihtuvin sisällöin keskiviikkoisin klo 15.30 sekä lauantaisin klo 14. \nKevätkauden 2024 opastukset\nKierrokset suuntautuvat Wildlife Photographer of the Year -näyttelyyn näinä päivinä: \n\nvko 2: ke 10.1. ja la 13.1.\nvko 4: ke 24.1. ja la 27.1.\nvko 6: ke 7.2. ja la 10.2.\nvko 8: ke 21.2. ja la 24.2.\n\nKierrokset suuntautuvat Ihmisen aika -perusnäyttelyyn näinä päivinä : \n\nvko 1: ke 3.1. ja la 6.1.\nvko 7: ke 14.2. ja la 17.2.\nvko 10: la 9.3.  \nvko 12: ke 20.3. ja la 23.3. \nvko 17: ke 24.4. ja la 27.4. \n\nKierrokset suuntautuvat Muuttuva luonto -perusnäyttelyyn näinä päivinä: \n\nvko 3 ke 17.1. ja la 20.1. \nvko 9: ke 28.2. ja la 2.3.  \nvko 13: ke 27.3. ja la 30.3. \nvko 19 la 11.5. \n\nKierrokset suuntautuvat Toden ja tarun rajalla -perusnäyttelyyn näinä päivinä: \n\nvko 5 ke 31.1. ja la 3.2. \nvko 9: ke 28.2. ja la 2.3.  \nvko 10: ke 6.3. \nvko 11: ke 13.3. ja la 16.3. \nvko 15: ke 10.4. ja la 13.4.\nvko 21: ke 22.5. ja la 25.5.
URL:https://kuopionmuseot.fi/tapahtuma/opastus-wildlife-photographer-of-the-year/2024-02-07/
LOCATION:Kuopion museo
ATTACH;FMTTYPE=image/jpeg:https://kuopionmuseot.fi/wp-content/uploads/2023/04/©-Jose-Juan-Hernandez-Martinez-Wildlife-Photographer-of-the-Year-.jpg
END:VEVENT
BEGIN:VEVENT
DTSTART;TZID=Europe/Helsinki:20240207T163000
DTEND;TZID=Europe/Helsinki:20240207T180000
DTSTAMP:20260421T104849
CREATED:20231218T141702Z
LAST-MODIFIED:20240117T074205Z
UID:10002577-1707323400-1707328800@kuopionmuseot.fi
SUMMARY:Kantin Kestävä Keskiviikko: Perinteiset lakat ja puupintojen hoito
DESCRIPTION:Tule kuulemaan puupintojen hoidosta ja perinteisistä lakkausmenetelmistä Kuopion kulttuurihistoriallisen museon kovien materiaalien konservaattorilta. Tilaisuudessa voit myös esittää kysymyksiä aiheesta. \nTilaisuuteen on vapaa pääsy\, tervetuloa! \nLuento-osuus striimataan Kuopion museon Youtube-kanavalle. \n************ \nKantin Kestävä Keskiviikko on paikka opetella yhdessä kulutuksen vähentämistä arjessa. Miten kunnostaa tai pitää huolta jo olemassa olevista vaatteista\, esineistä tai rakennuksista? \nKantin Kestävä Keskiviikko järjestetään vaihtuvilla sisällöillä pääsääntöisesti joka kuun ensimmäinen keskiviikko klo 16.30 alkaen Kuopion museon monitoimitilassa. Luentokerroilla eri aihepiirien asiantuntijat tarjoavat vinkkejä ja neuvontaa kestävämpien ratkaisujen ja ilmastotekojen toteuttamiseen. OMPELUSEURAT luo omalla vuorollaan Kanttiin korjausolohuoneen\, johon jokainen voi tulla korjaamaan rikkinäisiä tekstiilejä ja nauttimaan vaihtuvista taidesisällöistä. Vietetään yhdessä aikaa kuluttamisen sijaan korjaten ja opitaan toisiltamme. Vapaaehtoiset aktiivit neuvovat jokaiselle taitojen mukaisen korjaustyylin. \nKuopion kaupunginkirjaston koostaman vinkkilistan avulla kirjastosta voi lainata lisää kutakin aihetta käsittelevää kirjallisuutta. Esillä olleista kirjoista on pääkirjastolla pieni näyttely tapahtumakeskiviikon jälkeen. \nTapahtumiin on vapaa pääsy. (Mahdolliset luentosisällöt striimataan Kuopion museon Youtube-kanavalle.) \nKantti on tiedon\, tarinoiden ja ihmisten avoin kohtaamispaikka\, joka yhdistää pääkirjaston ja Kuopion museon. \nKevätkauden aikataulu:\n3.1. klo 16.30-19 OMPELUSEURAT parsintapaja sekä esityssarjassa Kappaleita – taustamusikaali – suuntaa-antavasti kokoon kursittu valikoima viisailta lainattua tekstiä ja yksinkertaista musiikkia. Tilaisuuden toimittaa esitystaiteilija Lasse Forsgrén. \n7.2. klo 16.30-18 Perinteiset lakat ja puupintojen hoito \n14.2. klo 16.30-19 OMPELUSEURAT: Toppavaatteiden korjaus \n13.3. klo 16.30-19 OMPELUSEURAT: Pehmolelujen korjaaminen \n3.4. klo 16.30-18 Kirjastopuutarhat ja laatikkoviljelyn vinkit \n24.4. klo 16.30-19 OMPELUSEURAT: Farkunpaikkaus. Esityssarjassa vuorossa on testailua keskeneräisestä näyttämöteoksesta Avaruus -self made space. Esiintyjät Reetta-Kaisa Iles ja Mika Juusela. Esitys ammentaa todellisista astronauttikokemuksista\, mielleyhtymistä ja inhimillistä eriytyneisyyden kokemuksista. Ensi-ilta Koko teatterissa Helsingissä toukokuussa. \n15.5. klo 16.30-19 OMPELUSEURAT: Kangaskenkien ja laukkujen kunnostaminen \n5.6. klo 16.30-18 Laatikkoviljelmän kevätkylvöt \n(Ohjelmamuutokset ja täydennykset ovat mahdollisia!)
URL:https://kuopionmuseot.fi/tapahtuma/kantin-kestava-keskiviikko-perinteiset-lakat/
ATTACH;FMTTYPE=image/jpeg:https://kuopionmuseot.fi/wp-content/uploads/2023/12/Perinteiset-lakat.jpg
ORGANIZER;CN="Kuopion museo":MAILTO:kuopionmuseo@kuopio.fi
END:VEVENT
BEGIN:VEVENT
DTSTART;TZID=Europe/Helsinki:20240208T140000
DTEND;TZID=Europe/Helsinki:20240208T163000
DTSTAMP:20260421T104849
CREATED:20240205T074334Z
LAST-MODIFIED:20240325T062402Z
UID:10002630-1707400800-1707409800@kuopionmuseot.fi
SUMMARY:Avoin kuvapaja
DESCRIPTION:Kaikenikäisille aikuisille suunnatut avoimet kuvapajat\, jossa taiteen keinoin tapahtuvaan tekemiseen syvennytään eri teemojen kautta. Aiempaa kokemusta piirtämisestä tai maalaamisesta ei tarvita. \nEi ennakkoilmoittautumista\, mukaan voi tulla silloin kun itselle sopii. Pajatoiminta on maksutonta ja taidetarvikkeet löytyvät paikan päältä. Huom! Paikkoja oppimistilassa on rajoitettu määrä. \nTORSTAIN KUVAPAJA KLO 14‒16.30 Kuopion museon katukerroksen oppimistilassa seuraavina päivinä: 18.1. / 25.1. / 1.2. / 8.2. / 15.2. / 22.2. / 29.2. / talvitauko / 21.3. / 4.4. / 11.4. / 18.4. / 25.4. \nJärj. Kuopion kaupunki\, Kansalaistoiminnan palvelut. Yhteistyössä Kuopion museo.
URL:https://kuopionmuseot.fi/tapahtuma/avoinkuvapaja/2024-02-08/
LOCATION:Kuopion museo
ATTACH;FMTTYPE=image/jpeg:https://kuopionmuseot.fi/wp-content/uploads/2024/02/Kuvapaja1.jpg
END:VEVENT
BEGIN:VEVENT
DTSTART;TZID=Europe/Helsinki:20240209T093000
DTEND;TZID=Europe/Helsinki:20240209T100000
DTSTAMP:20260421T104849
CREATED:20240126T093921Z
LAST-MODIFIED:20240126T093921Z
UID:10002624-1707471000-1707472800@kuopionmuseot.fi
SUMMARY:Postiseikkailu-satutunti
DESCRIPTION:Tervetuloa Kantin satutunneille\, jossa pääkirjaston sadut saavat seurakseen tiedonmuruja museolta. Satutunteja järjestetään Kuopion museon tiloissa helmikuun ajan perjantaisin klo 9.30 alkaen ja niiden kesto on noin puoli tuntia. Satutunnit ovat kaikille avoimia sekä maksuttomia ja soveltuvat parhaiten yli kolmevuotiaille. \nTilaa museossa on kuitenkin rajallisesti\, joten ryhmiä pyydetään ilmoittamaan osallistumisesta ennakkoon\, jotta voimme varmistaa\, että paikkoja riittää kaikille. Ryhmäilmoittautumiset Kuopion museon asiakaspalveluun 017 182 603/kuopionmuseo(a)kuopio.fi. \n\npe 2.2. klo 9.30: Mahtava metsäretki -satutunti\npe 9.2. klo 9.30: Postiseikkailu-satutunti\npe 16.2. klo 9.30: Lelu leikin loihtii -satutunti\npe 23.2. klo 9.30: Vuodenaikojen ihmeet -satutunti
URL:https://kuopionmuseot.fi/tapahtuma/postiseikkailu-satutunti/
LOCATION:Kuopion museo
ATTACH;FMTTYPE=image/jpeg:https://kuopionmuseot.fi/wp-content/uploads/2024/01/Satutunnit-Website.jpg
END:VEVENT
BEGIN:VEVENT
DTSTART;TZID=Europe/Helsinki:20240210T130000
DTEND;TZID=Europe/Helsinki:20240210T134500
DTSTAMP:20260421T104849
CREATED:20231011T102134Z
LAST-MODIFIED:20240411T065742Z
UID:10002598-1707570000-1707572700@kuopionmuseot.fi
SUMMARY:Opastus: Juho Rissanen meillä ja maailmalla
DESCRIPTION:Näyttelyopastus esittelee taidemaalari Juho Rissasen elämänvaiheita Kuopiossa sekä aikakauden kaupunkielämää. \nOpastuksia järjestetään lauantaisin klo 13. \nKesto noin 30–45 min. Mukaan pääsylipulla (8/5 €\, alle 18-vuotiaat maksutta\, Museokortti). \n  \nJuho Rissanen meillä ja maailmalla 13.10.2023–14.4.2024 \nTaiteilijan lapsuudessa olivat voimakkaasti läsnä niin kuolema kuin ainainen nälkä. Kiertolaiselämää eläneen pojan elämään mahtui silti myös hauskoja hetkiä – muistoja ihmisistä\, paikoista ja sattumuksista pienessä Kuopion maalaiskaupungissa. Milloin hän jäi nutustaan roikkumaan räystääseen\, putosi jäihin tai tikkaat kaatuivat katulamppuja sytyttäessä – onneakin oli aika usein matkassa\, ettei pahempaa sattunut. Koulunkäynti estyi myös kerta toisensa jälkeen. Lopullisesti haaveet opintiestä mursi isän kuolema Juhon ollessa 10-vuotias. Perheen vanhimpana lapsena tapahtuma pakotti pojan perheen elättäjäksi äidin rinnalle. \nJuho Rissanen ponnisti maailmalle köyhyydestä ja kurjuudesta. Maailmalle lähtönsä jälkeenkin Rissanen palasi usein kotiseuduilleen Pohjois-Savoon maalaamaan ja keräsi ulkomaanmatkoillaan merkittävän kokoelman esineitä rakkaudesta kotikaupunkiinsa. Aasiasta ja Afrikasta peräisin oleva kokoelma sisältää lähes 150 objektia. Nämä maailmalta kotiin Kuopioon lähetetyt esineet ja 1800-luvun lopun valokuva-aineisto ovatkin näyttelyn herkullisinta antia.
URL:https://kuopionmuseot.fi/tapahtuma/opastus-juho-rissanen-meilla-ja-maailmalla/2024-02-10/
LOCATION:Korttelimuseo\, Kirkkokatu 22\, Kuopio\, 70100\, Suomi
ATTACH;FMTTYPE=image/jpeg:https://kuopionmuseot.fi/wp-content/uploads/2023/10/rissanen_opastus.jpg
END:VEVENT
BEGIN:VEVENT
DTSTART;TZID=Europe/Helsinki:20240210T140000
DTEND;TZID=Europe/Helsinki:20240210T144500
DTSTAMP:20260421T104849
CREATED:20230419T123907Z
LAST-MODIFIED:20231221T080840Z
UID:10002194-1707573600-1707576300@kuopionmuseot.fi
SUMMARY:Opastus: Wildlife Photographer of the Year
DESCRIPTION:Opastetulla kierroksella pääset sukeltamaan oppaan kanssa pintaa syvemmälle. Näyttelyn upeiden valokuvien kautta tutkitaan maapallomme luonnon herkkää tasapainoa ja sen nykytilaa. Kuinka ympärillämme tapahtuvat muutokset vaikuttavat planeettamme ekosysteemeihin? \nOpastus sisältyy pääsylipun hintaan  13 € / 7 €\, alle 18-vuotiaat ilmaiseksi. Museokortti käy. Opastus on kestoltaan noin 45 minuuttia. \nKuva © José Juan Hernández Martinez\, Wildlife Photographer of the Year \n********* \nKuopion museon näyttelyihin on säännöllisiä opastuksia vaihtuvin sisällöin keskiviikkoisin klo 15.30 sekä lauantaisin klo 14. \nKevätkauden 2024 opastukset\nKierrokset suuntautuvat Wildlife Photographer of the Year -näyttelyyn näinä päivinä: \n\nvko 2: ke 10.1. ja la 13.1.\nvko 4: ke 24.1. ja la 27.1.\nvko 6: ke 7.2. ja la 10.2.\nvko 8: ke 21.2. ja la 24.2.\n\nKierrokset suuntautuvat Ihmisen aika -perusnäyttelyyn näinä päivinä : \n\nvko 1: ke 3.1. ja la 6.1.\nvko 7: ke 14.2. ja la 17.2.\nvko 10: la 9.3.  \nvko 12: ke 20.3. ja la 23.3. \nvko 17: ke 24.4. ja la 27.4. \n\nKierrokset suuntautuvat Muuttuva luonto -perusnäyttelyyn näinä päivinä: \n\nvko 3 ke 17.1. ja la 20.1. \nvko 9: ke 28.2. ja la 2.3.  \nvko 13: ke 27.3. ja la 30.3. \nvko 19 la 11.5. \n\nKierrokset suuntautuvat Toden ja tarun rajalla -perusnäyttelyyn näinä päivinä: \n\nvko 5 ke 31.1. ja la 3.2. \nvko 9: ke 28.2. ja la 2.3.  \nvko 10: ke 6.3. \nvko 11: ke 13.3. ja la 16.3. \nvko 15: ke 10.4. ja la 13.4.\nvko 21: ke 22.5. ja la 25.5.
URL:https://kuopionmuseot.fi/tapahtuma/opastus-wildlife-photographer-of-the-year/2024-02-10/
LOCATION:Kuopion museo
ATTACH;FMTTYPE=image/jpeg:https://kuopionmuseot.fi/wp-content/uploads/2023/04/©-Jose-Juan-Hernandez-Martinez-Wildlife-Photographer-of-the-Year-.jpg
END:VEVENT
BEGIN:VEVENT
DTSTART;TZID=Europe/Helsinki:20240211T100000
DTEND;TZID=Europe/Helsinki:20240211T150000
DTSTAMP:20260421T104849
CREATED:20240131T100145Z
LAST-MODIFIED:20240131T100145Z
UID:10002627-1707645600-1707663600@kuopionmuseot.fi
SUMMARY:Laskiainen Korttelimuseossa 11.2. ja 13.2.
DESCRIPTION:Sinulla on mahdollisuus tutustua aitoon kehräämiseen Korttelimuseon Kutojan tuvassa sunnuntaina 11.2. ja tiistaina 13.2. museon aukioloaikana klo 10-15. \nMistä kaikesta lankaa voikaan tehdä? \nMukaan pääsymaksun hinnalla. \n  \nPihalla myös mahdollisuus ulkoleikkeihin!
URL:https://kuopionmuseot.fi/tapahtuma/laskiainen-korttelimuseossa-11-2-ja-13-2/2024-02-11/
LOCATION:Korttelimuseo\, Kirkkokatu 22\, Kuopio\, 70100\, Suomi
ATTACH;FMTTYPE=image/jpeg:https://kuopionmuseot.fi/wp-content/uploads/2024/01/IMG_0284-scaled.jpg
END:VEVENT
BEGIN:VEVENT
DTSTART;TZID=Europe/Helsinki:20240211T140000
DTEND;TZID=Europe/Helsinki:20240211T144500
DTSTAMP:20260421T104849
CREATED:20240902T080326Z
LAST-MODIFIED:20241218T154334Z
UID:10003320-1707660000-1707662700@kuopionmuseot.fi
SUMMARY:Kuopion museon opastus: Toden ja tarun rajalla
DESCRIPTION:Ihmisen ja luonnon suhde on muuttunut aikojen saatossa. Toden ja tarun rajalla -näyttely vie kiertäjänsä matkalle menneisyyden maailmaan\, jossa myyttejä ja merkityksiä täynnä oleva luonto rytmitti ihmisen eloa. Opastetulla kierroksella vieraillaan muun muassa museon savutuvassa sekä tutustutaan entisaikojen vuodenkiertoa kuvaavaan Ajastaika-videoon.   \nOpastus sisältyy pääsylipun hintaan\, alle 18-vuotiaat ilmaiseksi. Museokortti ja Kaikukortti käyvät. Opastus on kestoltaan noin 45 minuuttia.
URL:https://kuopionmuseot.fi/tapahtuma/kuopion-museon-opastus-toden-ja-tarun-rajalla/2024-02-11/
ATTACH;FMTTYPE=image/jpeg:https://kuopionmuseot.fi/wp-content/uploads/2023/12/Todenjatarunrajalla-opastus.jpg
ORGANIZER;CN="Kuopion museo":MAILTO:kuopionmuseo@kuopio.fi
END:VEVENT
END:VCALENDAR