BEGIN:VCALENDAR
VERSION:2.0
PRODID:-//Kuopion museot - ECPv6.15.20//NONSGML v1.0//EN
CALSCALE:GREGORIAN
METHOD:PUBLISH
X-ORIGINAL-URL:https://kuopionmuseot.fi
X-WR-CALDESC:Tapahtumat Kuopion museot
REFRESH-INTERVAL;VALUE=DURATION:PT1H
X-Robots-Tag:noindex
X-PUBLISHED-TTL:PT1H
BEGIN:VTIMEZONE
TZID:Europe/Helsinki
BEGIN:DAYLIGHT
TZOFFSETFROM:+0200
TZOFFSETTO:+0300
TZNAME:EEST
DTSTART:20230326T010000
END:DAYLIGHT
BEGIN:STANDARD
TZOFFSETFROM:+0300
TZOFFSETTO:+0200
TZNAME:EET
DTSTART:20231029T010000
END:STANDARD
BEGIN:DAYLIGHT
TZOFFSETFROM:+0200
TZOFFSETTO:+0300
TZNAME:EEST
DTSTART:20240331T010000
END:DAYLIGHT
BEGIN:STANDARD
TZOFFSETFROM:+0300
TZOFFSETTO:+0200
TZNAME:EET
DTSTART:20241027T010000
END:STANDARD
BEGIN:DAYLIGHT
TZOFFSETFROM:+0200
TZOFFSETTO:+0300
TZNAME:EEST
DTSTART:20250330T010000
END:DAYLIGHT
BEGIN:STANDARD
TZOFFSETFROM:+0300
TZOFFSETTO:+0200
TZNAME:EET
DTSTART:20251026T010000
END:STANDARD
END:VTIMEZONE
BEGIN:VEVENT
DTSTART;TZID=Europe/Helsinki:20240131T153000
DTEND;TZID=Europe/Helsinki:20240131T161500
DTSTAMP:20260421T093038
CREATED:20231220T122557Z
LAST-MODIFIED:20240328T122527Z
UID:10002108-1706715000-1706717700@kuopionmuseot.fi
SUMMARY:Opastus: Toden ja tarun rajalla
DESCRIPTION:Ihmisen ja luonnon suhde on muuttunut aikojen saatossa. Toden ja tarun rajalla -näyttely vie kiertäjänsä matkalle menneisyyden maailmaan\, jossa myyttejä ja merkityksiä täynnä oleva luonto rytmitti ihmisen eloa. Opastetulla kierroksella vieraillaan muun muassa museon savutuvassa sekä tutustutaan entisaikojen vuodenkiertoa kuvaavaan Ajastaika-videoon.   \nOpastus sisältyy pääsylipun hintaan  13 € / 7 €\, alle 18-vuotiaat ilmaiseksi. Museokortti käy. Opastus on kestoltaan noin 45 minuuttia.
URL:https://kuopionmuseot.fi/tapahtuma/opastus-toden-ja-tarun-rajalla/2024-01-31/
LOCATION:Kuopion museo
ATTACH;FMTTYPE=image/jpeg:https://kuopionmuseot.fi/wp-content/uploads/2023/12/Todenjatarunrajalla-opastus.jpg
END:VEVENT
BEGIN:VEVENT
DTSTART;TZID=Europe/Helsinki:20240201T150000
DTEND;TZID=Europe/Helsinki:20240201T160000
DTSTAMP:20260421T093038
CREATED:20231003T062326Z
LAST-MODIFIED:20231220T164657Z
UID:10002071-1706799600-1706803200@kuopionmuseot.fi
SUMMARY:Opastus: 2148
DESCRIPTION:Miltä maailma näyttää vuonna 2148? Vastauksia voi etsiä Kuopion museon teemaopastukselta\, jolla vieraillaan sekä ilmastonmuutoksen runtelemassa 2140-luvun Suomessa että tulevaisuudessa\, jossa ihmiset ovat onnistuneet pelastamaan sekä villin luonnon että itsensä. \nOpastus on kestoltaan noin tunnin mittainen ja sisältyy museon pääsymaksuun. \nOpastusajat: \n\nTi 17.10. klo 15\nTo 19.10. klo 15\nLa 21.10. klo 15\nTo 28.12. klo 15 \nTo 4.1. klo 15 \nTo 1.2. klo 15 \nLa 3.2. klo 15.30 \n\nAiheesta innostuneet voivat tutustua myös Kuopion pääkirjaston koostamiin vinkkilistoihin. Kirjoja\, elokuvia ja pelejä dystopioista löytyy täältä https://kuopio.finna.fi/List/1427454 ja utopioista puolestaan täältä https://kuopio.finna.fi/List/1427436 \nKuvassa pohjana Antti Karppisen Kuopion museolle luomat Walk in the Park ja Walk in the Parch -teokset.
URL:https://kuopionmuseot.fi/tapahtuma/2148/2024-02-01/
LOCATION:Kuopion museo
ATTACH;FMTTYPE=image/jpeg:https://kuopionmuseot.fi/wp-content/uploads/2023/10/2148b.jpg
ORGANIZER;CN="Kuopion museo":MAILTO:kuopionmuseo@kuopio.fi
END:VEVENT
BEGIN:VEVENT
DTSTART;TZID=Europe/Helsinki:20240202T093000
DTEND;TZID=Europe/Helsinki:20240202T100000
DTSTAMP:20260421T093038
CREATED:20240126T093542Z
LAST-MODIFIED:20240126T093542Z
UID:10002623-1706866200-1706868000@kuopionmuseot.fi
SUMMARY:Mahtava metsäretki -satutunti
DESCRIPTION:Tervetuloa Kantin satutunneille\, jossa pääkirjaston sadut saavat seurakseen tiedonmuruja museolta. Satutunteja järjestetään Kuopion museon tiloissa helmikuun ajan perjantaisin klo 9.30 ja niiden kesto on noin puoli tuntia. Satutunnit ovat kaikille avoimia sekä maksuttomia ja soveltuvat parhaiten yli kolmevuotiaille. \nTilaa museossa on kuitenkin rajallisesti\, joten ryhmiä pyydetään ilmoittamaan osallistumisesta ennakkoon\, jotta voimme varmistaa\, että paikkoja riittää kaikille. Ryhmäilmoittautumiset Kuopion museon asiakaspalveluun 017 182 603 / kuopionmuseo(a)kuopio.fi. \n\npe 2.2. klo 9.30: Mahtava metsäretki -satutunti\npe 9.2. klo 9.30: Postiseikkailu-satutunti\npe 16.2. klo 9.30: Lelu leikin loihtii -satutunti\npe 23.2. klo 9.30: Vuodenaikojen ihmeet -satutunti
URL:https://kuopionmuseot.fi/tapahtuma/mahtava-metsaretki-satutunti/
LOCATION:Kuopion museo
ATTACH;FMTTYPE=image/jpeg:https://kuopionmuseot.fi/wp-content/uploads/2024/01/Satutunnit-Website-3.jpg
END:VEVENT
BEGIN:VEVENT
DTSTART;TZID=Europe/Helsinki:20240203T130000
DTEND;TZID=Europe/Helsinki:20240203T134500
DTSTAMP:20260421T093038
CREATED:20231011T102134Z
LAST-MODIFIED:20240411T065742Z
UID:10002597-1706965200-1706967900@kuopionmuseot.fi
SUMMARY:Opastus: Juho Rissanen meillä ja maailmalla
DESCRIPTION:Näyttelyopastus esittelee taidemaalari Juho Rissasen elämänvaiheita Kuopiossa sekä aikakauden kaupunkielämää. \nOpastuksia järjestetään lauantaisin klo 13. \nKesto noin 30–45 min. Mukaan pääsylipulla (8/5 €\, alle 18-vuotiaat maksutta\, Museokortti). \n  \nJuho Rissanen meillä ja maailmalla 13.10.2023–14.4.2024 \nTaiteilijan lapsuudessa olivat voimakkaasti läsnä niin kuolema kuin ainainen nälkä. Kiertolaiselämää eläneen pojan elämään mahtui silti myös hauskoja hetkiä – muistoja ihmisistä\, paikoista ja sattumuksista pienessä Kuopion maalaiskaupungissa. Milloin hän jäi nutustaan roikkumaan räystääseen\, putosi jäihin tai tikkaat kaatuivat katulamppuja sytyttäessä – onneakin oli aika usein matkassa\, ettei pahempaa sattunut. Koulunkäynti estyi myös kerta toisensa jälkeen. Lopullisesti haaveet opintiestä mursi isän kuolema Juhon ollessa 10-vuotias. Perheen vanhimpana lapsena tapahtuma pakotti pojan perheen elättäjäksi äidin rinnalle. \nJuho Rissanen ponnisti maailmalle köyhyydestä ja kurjuudesta. Maailmalle lähtönsä jälkeenkin Rissanen palasi usein kotiseuduilleen Pohjois-Savoon maalaamaan ja keräsi ulkomaanmatkoillaan merkittävän kokoelman esineitä rakkaudesta kotikaupunkiinsa. Aasiasta ja Afrikasta peräisin oleva kokoelma sisältää lähes 150 objektia. Nämä maailmalta kotiin Kuopioon lähetetyt esineet ja 1800-luvun lopun valokuva-aineisto ovatkin näyttelyn herkullisinta antia.
URL:https://kuopionmuseot.fi/tapahtuma/opastus-juho-rissanen-meilla-ja-maailmalla/2024-02-03/
LOCATION:Korttelimuseo\, Kirkkokatu 22\, Kuopio\, 70100\, Suomi
ATTACH;FMTTYPE=image/jpeg:https://kuopionmuseot.fi/wp-content/uploads/2023/10/rissanen_opastus.jpg
END:VEVENT
BEGIN:VEVENT
DTSTART;TZID=Europe/Helsinki:20240203T140000
DTEND;TZID=Europe/Helsinki:20240203T144500
DTSTAMP:20260421T093038
CREATED:20231220T122557Z
LAST-MODIFIED:20240328T122527Z
UID:10002109-1706968800-1706971500@kuopionmuseot.fi
SUMMARY:Opastus: Toden ja tarun rajalla
DESCRIPTION:Ihmisen ja luonnon suhde on muuttunut aikojen saatossa. Toden ja tarun rajalla -näyttely vie kiertäjänsä matkalle menneisyyden maailmaan\, jossa myyttejä ja merkityksiä täynnä oleva luonto rytmitti ihmisen eloa. Opastetulla kierroksella vieraillaan muun muassa museon savutuvassa sekä tutustutaan entisaikojen vuodenkiertoa kuvaavaan Ajastaika-videoon.   \nOpastus sisältyy pääsylipun hintaan  13 € / 7 €\, alle 18-vuotiaat ilmaiseksi. Museokortti käy. Opastus on kestoltaan noin 45 minuuttia.
URL:https://kuopionmuseot.fi/tapahtuma/opastus-toden-ja-tarun-rajalla/2024-02-03/
LOCATION:Kuopion museo
ATTACH;FMTTYPE=image/jpeg:https://kuopionmuseot.fi/wp-content/uploads/2023/12/Todenjatarunrajalla-opastus.jpg
END:VEVENT
BEGIN:VEVENT
DTSTART;TZID=Europe/Helsinki:20240203T153000
DTEND;TZID=Europe/Helsinki:20240203T163000
DTSTAMP:20260421T093038
CREATED:20231003T062326Z
LAST-MODIFIED:20231220T164657Z
UID:10002072-1706974200-1706977800@kuopionmuseot.fi
SUMMARY:Opastus: 2148
DESCRIPTION:Miltä maailma näyttää vuonna 2148? Vastauksia voi etsiä Kuopion museon teemaopastukselta\, jolla vieraillaan sekä ilmastonmuutoksen runtelemassa 2140-luvun Suomessa että tulevaisuudessa\, jossa ihmiset ovat onnistuneet pelastamaan sekä villin luonnon että itsensä. \nOpastus on kestoltaan noin tunnin mittainen ja sisältyy museon pääsymaksuun. \nOpastusajat: \n\nTi 17.10. klo 15\nTo 19.10. klo 15\nLa 21.10. klo 15\nTo 28.12. klo 15 \nTo 4.1. klo 15 \nTo 1.2. klo 15 \nLa 3.2. klo 15.30 \n\nAiheesta innostuneet voivat tutustua myös Kuopion pääkirjaston koostamiin vinkkilistoihin. Kirjoja\, elokuvia ja pelejä dystopioista löytyy täältä https://kuopio.finna.fi/List/1427454 ja utopioista puolestaan täältä https://kuopio.finna.fi/List/1427436 \nKuvassa pohjana Antti Karppisen Kuopion museolle luomat Walk in the Park ja Walk in the Parch -teokset.
URL:https://kuopionmuseot.fi/tapahtuma/2148/2024-02-03/
LOCATION:Kuopion museo
ATTACH;FMTTYPE=image/jpeg:https://kuopionmuseot.fi/wp-content/uploads/2023/10/2148b.jpg
ORGANIZER;CN="Kuopion museo":MAILTO:kuopionmuseo@kuopio.fi
END:VEVENT
END:VCALENDAR