BEGIN:VCALENDAR
VERSION:2.0
PRODID:-//Kuopion museot - ECPv6.15.20//NONSGML v1.0//EN
CALSCALE:GREGORIAN
METHOD:PUBLISH
X-WR-CALNAME:Kuopion museot
X-ORIGINAL-URL:https://kuopionmuseot.fi
X-WR-CALDESC:Tapahtumat Kuopion museot
REFRESH-INTERVAL;VALUE=DURATION:PT1H
X-Robots-Tag:noindex
X-PUBLISHED-TTL:PT1H
BEGIN:VTIMEZONE
TZID:Europe/Helsinki
BEGIN:DAYLIGHT
TZOFFSETFROM:+0200
TZOFFSETTO:+0300
TZNAME:EEST
DTSTART:20230326T010000
END:DAYLIGHT
BEGIN:STANDARD
TZOFFSETFROM:+0300
TZOFFSETTO:+0200
TZNAME:EET
DTSTART:20231029T010000
END:STANDARD
BEGIN:DAYLIGHT
TZOFFSETFROM:+0200
TZOFFSETTO:+0300
TZNAME:EEST
DTSTART:20240331T010000
END:DAYLIGHT
BEGIN:STANDARD
TZOFFSETFROM:+0300
TZOFFSETTO:+0200
TZNAME:EET
DTSTART:20241027T010000
END:STANDARD
BEGIN:DAYLIGHT
TZOFFSETFROM:+0200
TZOFFSETTO:+0300
TZNAME:EEST
DTSTART:20250330T010000
END:DAYLIGHT
BEGIN:STANDARD
TZOFFSETFROM:+0300
TZOFFSETTO:+0200
TZNAME:EET
DTSTART:20251026T010000
END:STANDARD
END:VTIMEZONE
BEGIN:VEVENT
DTSTART;TZID=Europe/Helsinki:20240117T130000
DTEND;TZID=Europe/Helsinki:20240117T131500
DTSTAMP:20260421T093041
CREATED:20240115T081202Z
LAST-MODIFIED:20240115T081202Z
UID:10002613-1705496400-1705497300@kuopionmuseot.fi
SUMMARY:Taidevartti: Juho Rissanen ja Nuorten naisten sunnuntainen vierailu -teossarja
DESCRIPTION:Tämänkertaisella Juho Rissanen – Kuvauksen vilkkaus -näyttelyyn liittyvällä taidevartilla tutustutaan Lappeenrannan taidemuseosta lainassa olevaan Nuorten naisten sunnuntainen vierailu -teossarjaan ja sen taustoihin. Viipurilainen kauppaneuvos Wilhelm Hackman tilasi sarjan uuteen asuntoonsa. Näyttelyssä esillä olevat\, pastellivärein tehdyt luonnokset Rissanen teki Pariisissa. Lopulliset seinämaalaukset hän toteutti paikan päällä Viipurissa\, Hackmanin talossa. \n\nNäyttelyn alusta saakka seinällä olleet pastelliluonnokset ovat esillä vielä sunnuntaihin 21.1. saakka\, jonka jälkeen niiden tilalle vaihdetaan kolme samaiseen sarjaan liittyvää pastellityötä. Ne puolestaan ovat koettavissa näyttelyn esilläolon loppuun\, eli 7.4. saakka. \n\nTaidevartille voi osallistua Kuopion taidemuseon pääsymaksulla 10/5 €\, alle 18-vuotiaat ilmaiseksi ja Museokortti käy maksuvälineeksi. \n\nLämpimästi tervetuloa!
URL:https://kuopionmuseot.fi/tapahtuma/taidevartti-juho-rissanen-ja-nuorten-naisten-sunnuntainen-vierailu-teossarja/
LOCATION:KUMMA\, Kauppakatu 35\, Kuopio\, 70100
ATTACH;FMTTYPE=image/png:https://kuopionmuseot.fi/wp-content/uploads/2024/01/170124-1920-1080-px-01.png
END:VEVENT
BEGIN:VEVENT
DTSTART;TZID=Europe/Helsinki:20240117T153000
DTEND;TZID=Europe/Helsinki:20240117T161500
DTSTAMP:20260421T093041
CREATED:20230331T122037Z
LAST-MODIFIED:20250107T091312Z
UID:10002163-1705505400-1705508100@kuopionmuseot.fi
SUMMARY:Opastus: Muuttuva luonto
DESCRIPTION:Muuttuva luonto -näyttelyssä matkustetaan itäsuomalaisen luonnon historiaan ja nykytilaan. Matka alkaa kaukaa menneisyyden mammuttiarolta\, kiertelee luonnonmetsän siimeksessä ja järvien syvänteissä ja päätyy lopulta ihmisen muokkaamaan maisemaan. Millainen mahtaa olla luontomme tulevaisuus? \nTule mukaan opastukselle tutustumaan itäsuomalaisen luonnon monivaiheiseen tarinaan! \nOpastus sisältyy pääsylipun hintaan\, alle 18-vuotiaat ilmaiseksi. Museokortti käy. Opastus on kestoltaan noin 45 minuuttia.
URL:https://kuopionmuseot.fi/tapahtuma/opastus-muuttuva-luonto/2024-01-17/
LOCATION:Kuopion museo
ATTACH;FMTTYPE=image/jpeg:https://kuopionmuseot.fi/wp-content/uploads/2023/03/Muuttuvaluonto-opastus.jpg
ORGANIZER;CN="Kuopion museo":MAILTO:kuopionmuseo@kuopio.fi
END:VEVENT
BEGIN:VEVENT
DTSTART;TZID=Europe/Helsinki:20240118T140000
DTEND;TZID=Europe/Helsinki:20240118T143000
DTSTAMP:20260421T093041
CREATED:20240112T110801Z
LAST-MODIFIED:20240118T083303Z
UID:10002611-1705586400-1705588200@kuopionmuseot.fi
SUMMARY:Korttelivartti: Eksoottiset esineet – tie säilytyksestä näyttelyyn
DESCRIPTION:Konservaattori Elviira Heikkilä kertoo Rissasen keräämien esineiden tiestä säilytyksestä näyttelyyn.
URL:https://kuopionmuseot.fi/tapahtuma/korttelivartti-eksoottiset-esineet-tie-sailytyksesta-nayttelyyn/
ATTACH;FMTTYPE=image/jpeg:https://kuopionmuseot.fi/wp-content/uploads/2024/01/JRmeillajamaailmalla_1920x1080_vaaka-kopio.jpg
END:VEVENT
BEGIN:VEVENT
DTSTART;TZID=Europe/Helsinki:20240120T130000
DTEND;TZID=Europe/Helsinki:20240120T134500
DTSTAMP:20260421T093041
CREATED:20231011T102134Z
LAST-MODIFIED:20240411T065742Z
UID:10002596-1705755600-1705758300@kuopionmuseot.fi
SUMMARY:Opastus: Juho Rissanen meillä ja maailmalla
DESCRIPTION:Näyttelyopastus esittelee taidemaalari Juho Rissasen elämänvaiheita Kuopiossa sekä aikakauden kaupunkielämää. \nOpastuksia järjestetään lauantaisin klo 13. \nKesto noin 30–45 min. Mukaan pääsylipulla (8/5 €\, alle 18-vuotiaat maksutta\, Museokortti). \n  \nJuho Rissanen meillä ja maailmalla 13.10.2023–14.4.2024 \nTaiteilijan lapsuudessa olivat voimakkaasti läsnä niin kuolema kuin ainainen nälkä. Kiertolaiselämää eläneen pojan elämään mahtui silti myös hauskoja hetkiä – muistoja ihmisistä\, paikoista ja sattumuksista pienessä Kuopion maalaiskaupungissa. Milloin hän jäi nutustaan roikkumaan räystääseen\, putosi jäihin tai tikkaat kaatuivat katulamppuja sytyttäessä – onneakin oli aika usein matkassa\, ettei pahempaa sattunut. Koulunkäynti estyi myös kerta toisensa jälkeen. Lopullisesti haaveet opintiestä mursi isän kuolema Juhon ollessa 10-vuotias. Perheen vanhimpana lapsena tapahtuma pakotti pojan perheen elättäjäksi äidin rinnalle. \nJuho Rissanen ponnisti maailmalle köyhyydestä ja kurjuudesta. Maailmalle lähtönsä jälkeenkin Rissanen palasi usein kotiseuduilleen Pohjois-Savoon maalaamaan ja keräsi ulkomaanmatkoillaan merkittävän kokoelman esineitä rakkaudesta kotikaupunkiinsa. Aasiasta ja Afrikasta peräisin oleva kokoelma sisältää lähes 150 objektia. Nämä maailmalta kotiin Kuopioon lähetetyt esineet ja 1800-luvun lopun valokuva-aineisto ovatkin näyttelyn herkullisinta antia.
URL:https://kuopionmuseot.fi/tapahtuma/opastus-juho-rissanen-meilla-ja-maailmalla/2024-01-20/
LOCATION:Korttelimuseo\, Kirkkokatu 22\, Kuopio\, 70100\, Suomi
ATTACH;FMTTYPE=image/jpeg:https://kuopionmuseot.fi/wp-content/uploads/2023/10/rissanen_opastus.jpg
END:VEVENT
BEGIN:VEVENT
DTSTART;TZID=Europe/Helsinki:20240120T140000
DTEND;TZID=Europe/Helsinki:20240120T141500
DTSTAMP:20260421T093041
CREATED:20240116T134014Z
LAST-MODIFIED:20240116T134014Z
UID:10002614-1705759200-1705760100@kuopionmuseot.fi
SUMMARY:Taiteilijavartti: Reijo Kärkkäinen
DESCRIPTION:Lauantaina 20.1. klo 14 järjestettävällä taiteilijavartilla keskitymme Reijon Kärkkäisen So Far -näyttelyyn ja  saamme vieraaksemme itse taiteilijan. \nReijo Kärkkäisen (s.1964) retrospektiivisen So Far -näyttelyn piirrokset\, grafiikka\, maalaukset\, valokuvat\, kollaasit ja installaatiot ovat visuaalista tykitystä\, jotka jättävät jälkeensä hämmennyksen tunteen. Taiteilija käsittelee teoksissaan kokemuksiaan ja tunteitaan ilman valmiita vastauksia. Ilmaisu on rajua ja rujoa\, mutta yhtä lailla jäntevää ja harmonista. \nTaidevartille voi osallistua Kuopion taidemuseon pääsymaksulla 10/5 €\, alle 18-vuotiaat ilmaiseksi ja museokortti käy maksuvälineeksi. \nLämpimästi tervetuloa!
URL:https://kuopionmuseot.fi/tapahtuma/taiteilijavartti-reijo-karkkainen-2/
LOCATION:KUMMA\, Kauppakatu 35\, Kuopio\, 70100
ATTACH;FMTTYPE=image/png:https://kuopionmuseot.fi/wp-content/uploads/2024/01/1920-1080-px-1.png
END:VEVENT
BEGIN:VEVENT
DTSTART;TZID=Europe/Helsinki:20240120T140000
DTEND;TZID=Europe/Helsinki:20240120T144500
DTSTAMP:20260421T093041
CREATED:20230331T122037Z
LAST-MODIFIED:20250107T091312Z
UID:10002164-1705759200-1705761900@kuopionmuseot.fi
SUMMARY:Opastus: Muuttuva luonto
DESCRIPTION:Muuttuva luonto -näyttelyssä matkustetaan itäsuomalaisen luonnon historiaan ja nykytilaan. Matka alkaa kaukaa menneisyyden mammuttiarolta\, kiertelee luonnonmetsän siimeksessä ja järvien syvänteissä ja päätyy lopulta ihmisen muokkaamaan maisemaan. Millainen mahtaa olla luontomme tulevaisuus? \nTule mukaan opastukselle tutustumaan itäsuomalaisen luonnon monivaiheiseen tarinaan! \nOpastus sisältyy pääsylipun hintaan\, alle 18-vuotiaat ilmaiseksi. Museokortti käy. Opastus on kestoltaan noin 45 minuuttia.
URL:https://kuopionmuseot.fi/tapahtuma/opastus-muuttuva-luonto/2024-01-20/
LOCATION:Kuopion museo
ATTACH;FMTTYPE=image/jpeg:https://kuopionmuseot.fi/wp-content/uploads/2023/03/Muuttuvaluonto-opastus.jpg
ORGANIZER;CN="Kuopion museo":MAILTO:kuopionmuseo@kuopio.fi
END:VEVENT
BEGIN:VEVENT
DTSTART;TZID=Europe/Helsinki:20240121T140000
DTEND;TZID=Europe/Helsinki:20240121T150000
DTSTAMP:20260421T093041
CREATED:20231003T093738Z
LAST-MODIFIED:20231213T094037Z
UID:10002359-1705845600-1705849200@kuopionmuseot.fi
SUMMARY:Opastus Juho Rissanen – Kuvauksen vilkkaus -näyttelyyn
DESCRIPTION:Kuopion taidemuseolla järjestetään avoimia opastuksia näyttelyihin joka sunnuntai klo 14 perehtyen vuoroviikoin taidemuseon eri näyttelyihin. \nOdotettu Juho Rissanen – Kuvauksen vilkkaus -näyttely tarjoaa uuden näkökulman Rissaseen pureutumalla hänen taiteensa lisäksi hänen elämäänsä ja persoonaansa. Esillä on sekä tuttuja että harvoin esillä olleita teoksia\, myös Rissasen kirjeitä ja valokuvia\, joiden kautta välittyy hänen valloittava persoonallisuutensa ja suhteensa tukijoihin ja läheisiin ihmisiin. \nNäyttelyssä on teoksia koko Rissasen taiteellisen työskentelyn ajalta. Esillä on muun muassa luonnoksia Rissasen lapsuuden traagiseen tapahtumaan liittyvästä isän kuolemasta sekä Pariisin vuoden 1900 maailmannäyttelyn teoksiin tehtyjä luonnoksia. Tunnettu\, yksityiskokoelmaan kuuluva maalaus Hauta-Heikin mummo (1897) on yksi näyttelyn merkkiteoksista. Mukana näyttelyssä on myös Juho Rissasen perikunnalta Yhdysvalloista lahjoituksena tänä kesänä saatu maalaus Työstä paluu (1908) sekä yksi Rissasen viimeisimmiksi jääneistä teoksista\, Tyttö ja koira (1950)\, jonka Rissanen maalasi Yhdysvalloissa. Rissaselle läheisten savolaisaiheiden rinnalla nähdään raikkain värein maalattuja kepeitä teoksia\, joissa näkyy ranskalaisen taiteen vaikutus. Näyttelyssä pääsee myös kurkistamaan taiteilijan ateljeeseen\, kuulemaan ja lukemaan Juho Rissasen kirjeitä ja vierailemaan Miami Beachilla\, jonka auringon alla taiteilija vietti viimeiset elinvuotensa. \nOpastukseen voi osallistua taidemuseon pääsymaksulla 10/5 €\, alle 18-vuotiaat ilmaiseksi ja museokortti käy maksuvälineeksi.
URL:https://kuopionmuseot.fi/tapahtuma/opastus-juho-rissanen-kuvauksen-vilkkaus-nayttelyyn-2/2024-01-21/
LOCATION:KUMMA\, Kauppakatu 35\, Kuopio\, 70100
ATTACH;FMTTYPE=image/jpeg:https://kuopionmuseot.fi/wp-content/uploads/2023/10/1920-1080-px-01.jpg
END:VEVENT
END:VCALENDAR