BEGIN:VCALENDAR
VERSION:2.0
PRODID:-//Kuopion museot - ECPv6.15.20//NONSGML v1.0//EN
CALSCALE:GREGORIAN
METHOD:PUBLISH
X-ORIGINAL-URL:https://kuopionmuseot.fi
X-WR-CALDESC:Tapahtumat Kuopion museot
REFRESH-INTERVAL;VALUE=DURATION:PT1H
X-Robots-Tag:noindex
X-PUBLISHED-TTL:PT1H
BEGIN:VTIMEZONE
TZID:Europe/Helsinki
BEGIN:DAYLIGHT
TZOFFSETFROM:+0200
TZOFFSETTO:+0300
TZNAME:EEST
DTSTART:20220327T010000
END:DAYLIGHT
BEGIN:STANDARD
TZOFFSETFROM:+0300
TZOFFSETTO:+0200
TZNAME:EET
DTSTART:20221030T010000
END:STANDARD
BEGIN:DAYLIGHT
TZOFFSETFROM:+0200
TZOFFSETTO:+0300
TZNAME:EEST
DTSTART:20230326T010000
END:DAYLIGHT
BEGIN:STANDARD
TZOFFSETFROM:+0300
TZOFFSETTO:+0200
TZNAME:EET
DTSTART:20231029T010000
END:STANDARD
BEGIN:DAYLIGHT
TZOFFSETFROM:+0200
TZOFFSETTO:+0300
TZNAME:EEST
DTSTART:20240331T010000
END:DAYLIGHT
BEGIN:STANDARD
TZOFFSETFROM:+0300
TZOFFSETTO:+0200
TZNAME:EET
DTSTART:20241027T010000
END:STANDARD
END:VTIMEZONE
BEGIN:VEVENT
DTSTART;TZID=Europe/Helsinki:20231004T130000
DTEND;TZID=Europe/Helsinki:20231004T131500
DTSTAMP:20260422T224418
CREATED:20230929T120057Z
LAST-MODIFIED:20230929T120615Z
UID:10002048-1696424400-1696425300@kuopionmuseot.fi
SUMMARY:Taidevartti: Juho Rissasen lapsuus
DESCRIPTION:Kuopion taidemuseon taidevartit lähtevät jälleen käyntiin Juho Rissasen näyttelyn auettua! Juho Rissanen – Kuvauksen vilkkaus -näyttelyn (29.9.2023–7.4.2024) ensimmäisellä taidevartilla keskiviikkona 4.10. klo 13 kuullaan taiteilijan lapsuusvuosista köyhissä ja paikoin turvattomissakin olosuhteissa. Keskiviikon 25.10. taidevartin aiheena on Lapsuuden muisto -teos. Syksyn 2023 taidevarteilla keskitytään Juho Rissanen – Kuvauksen vilkkaus\, sekä Pluriverse – ulkoeurooppalaista taidetta -näyttelyihin. \nOdotettu Juho Rissanen – Kuvauksen vilkkaus -näyttely tarjoaa uuden näkökulman Rissaseen pureutumalla hänen taiteensa lisäksi hänen elämäänsä ja persoonaansa. Esillä on sekä tuttuja että harvoin esillä olleita teoksia\, myös Rissasen kirjeitä ja valokuvia\, joiden kautta välittyy hänen valloittava persoonallisuutensa ja suhteensa tukijoihin ja läheisiin ihmisiin. \nPluriverse esittelee ulkoeurooppalaista taidetta Antti Mykkäsen kokoelmasta. Kun matka peruuntuu ja mukana on tyhjä matkalaukku\, voi syntyä taidekokoelma. Antti Mykkäsen purjehdusmatka vuonna 2015 muuttui samoiluksi Etelä-Amerikan gallerioissa ja taidekaupoissa. Sen jälkeen hän on jatkanut tarkasti suunnittelemaansa taidematkailua yli 150 maahan. \nTaidevartille voi osallistua taidemuseon pääsymaksulla 10/5 €\, alle 18-vuotiaat ilmaiseksi ja museokortti käy maksuvälineeksi.
URL:https://kuopionmuseot.fi/tapahtuma/taidevartti-juho-rissasen-lapsuus/
LOCATION:KUMMA\, Kauppakatu 35\, Kuopio\, 70100
END:VEVENT
BEGIN:VEVENT
DTSTART;TZID=Europe/Helsinki:20231004T163000
DTEND;TZID=Europe/Helsinki:20231004T180000
DTSTAMP:20260422T224418
CREATED:20230420T111338Z
LAST-MODIFIED:20230420T111338Z
UID:10002225-1696437000-1696442400@kuopionmuseot.fi
SUMMARY:Luento: Valokuvien arkistointi ja säilyttäminen
DESCRIPTION:Intendentti Pekka Kankkunen kertoo\, kuinka säilytät valokuvasi jälkipolville. \nLuento järjestetään Kuopion museon monitoimitilassa. Vapaa pääsy.
URL:https://kuopionmuseot.fi/tapahtuma/luento-valokuvien-arkistointi-ja-sailyttaminen/
LOCATION:Kuopion museo
END:VEVENT
BEGIN:VEVENT
DTSTART;TZID=Europe/Helsinki:20231004T163000
DTEND;TZID=Europe/Helsinki:20231004T180000
DTSTAMP:20260422T224418
CREATED:20230718T074509Z
LAST-MODIFIED:20230928T105326Z
UID:10002296-1696437000-1696442400@kuopionmuseot.fi
SUMMARY:Kantin kestävä keskiviikko
DESCRIPTION:Kantin kestävä keskiviikko on paikka opetella yhdessä kulutuksen vähentämistä arjessa. Miten kunnostaa tai pitää huolta jo olemassa olevista vaatteista\, esineistä tai rakennuksista? Tiedon ja kokemusten lisäksi aiheita lähestytään tekemisen ja taiteen keinoin. \nKantin kestävä keskiviikko järjestetään vaihtuvilla sisällöillä pääsääntöisesti joka kuun ensimmäinen keskiviikko klo 16.30 alkaen Kuopion museon monitoimitilassa. Luentokerroilla eri aihepiirien asiantuntijat tarjoavat vinkkejä ja neuvontaa kestävämpien ratkaisujen ja ilmastotekojen toteuttamiseen. OMPELUSEURAT tuovat omalla vuorollaan paikalle ompelukoneet ja vertaisohjaajia\, jolloin jokaisella on mahdollisuus tulla korjaamaan omia rikkinäisiä vaatteitaan. \nKuopion kaupunginkirjasto koostaa jokaiselle kerralle vinkkilistan\, jonka avulla kirjastosta voi lainata lisää kutakin aihetta käsittelevää kirjallisuutta. Esillä olleista kirjoista on pääkirjastolla pieni näyttely tapahtumakeskiviikon jälkeen. \nSYYSKAUDEN 2023 OHJELMA\n2.8. klo 16.30-18 Tekstiilikonservaattori Anu Reijonen: Hää- ja juhla-asujen sekä kansallispukujen säilytys.\n9.8. klo 16.30-19 OMPELUSEURAT: Verkkaripaja.\n6.9. klo 16.30-19 OMPELUSEURAT: Vetoketjun vaihtotalkoot.\n4.10. klo 16.30-18 Intendentti Pekka Kankkunen: Kuinka säilytät valokuvasi jälkipolville. Luento-osuus striimataan.\n11.10. klo 16.30-19 OMPELUSEURAT: Parsintapaja\, eli korjaamme käsin parsien sukat\, neuleet\, lapaset\, sormikkaat\, villahousut\, villapaidat  – kaikilla tyylilajeilla! Parsinnan lomassa Urakkanuppi\, eli  esitystaiteilija Lasse Forsgren (liike-ääni-improvisaatio) ja kitarataiteilija Mikko Siirola (musiikki) tekevät tutkimusmatkan kohti ennenkuulumatonta musiikkia ja ennennäkemätöntä liikettä.\n1.11. klo 16.30-19 OMPELUSEURAT: Farkunpaikkaus.\n13.12. klo 16.30-18 Ilmastokeskustelu.\n(Ohjelmamuutokset ja täydennykset mahdollisia!) \nTapahtumiin on vapaa pääsy. Luentosisällöt striimataan Kuopion museon Youtube-kanavalle. \nKantti on tiedon\, tarinoiden ja ihmisten avoin kohtaamispaikka\, joka yhdistää pääkirjaston ja Kuopion museon. Kantti-yhteistyönä toteutetaan Kantin kestävä keskiviikko -tapahtumasarjaa\, jossa vuorottelevat OMPELUSEURAT omilla korjausompelupajoillaan sekä museon ja kirjaston tuottamat\, kestävään kehitykseen liittyvät teemaillat. \n 
URL:https://kuopionmuseot.fi/tapahtuma/kantin-kestava-keskiviikko/2023-10-04/
LOCATION:Kuopion museo
ATTACH;FMTTYPE=image/jpeg:https://kuopionmuseot.fi/wp-content/uploads/2023/07/KANTIN-KESTAVA-KESKIVIIKKO-1920-x-1080-px.jpg
END:VEVENT
BEGIN:VEVENT
DTSTART;TZID=Europe/Helsinki:20231004T170000
DTEND;TZID=Europe/Helsinki:20231004T190000
DTSTAMP:20260422T224418
CREATED:20230927T101817Z
LAST-MODIFIED:20230927T102601Z
UID:10002046-1696438800-1696446000@kuopionmuseot.fi
SUMMARY:Adama Kone ja Salla Danjo: Länsiafrikkalaista musiikkia ja tanssia Kuopion taidemuseolla
DESCRIPTION:Tervetuloa tutustumaan länsiafrikkalaiseen musiikkiin ja tanssiin! Keskiviikkona 4.10. klo 17–19 huippulahjakas malilainen grioottimuusikko Adama Kone esiintyy Pluriverse -näyttelyssä sekä esittelee yleisölle soittimia työpajassa\, jossa on poikkeuksellinen mahdollisuus päästä kokeilemaan länsiafrikkalaisia soittimia ammattimuusikon ohjauksessa. \nTilaisuudessa pääsee myös tanssimaan\, sillä innostava tanssinopettaja Salla Danjo on paikalla ohjaamassa ja esittelemässä länsiafrikkalaisia tansseja. Työpajassa osallistujat pääsevät tutustumaan länsiafrikkalaisen musiikin ja tanssin rytmeihin sekä pääsevät soittamaan ja tanssimaan kaikki yhdessä. \nTapahtuma sisältyy taidemuseon pääsymaksuun 10/5 €\, alle 18-vuotiaat ilmaiseksi ja museokortti käy maksuvälineeksi.
URL:https://kuopionmuseot.fi/tapahtuma/adama-kone-ja-salla-danjo-lansiafrikkalaista-musiikkia-ja-tanssia-kuopion-taidemuseolla/
LOCATION:KUMMA\, Kauppakatu 35\, Kuopio\, 70100
ATTACH;FMTTYPE=image/png:https://kuopionmuseot.fi/wp-content/uploads/2023/09/1920-1080-px-01-01.png
END:VEVENT
BEGIN:VEVENT
DTSTART;TZID=Europe/Helsinki:20231007T100000
DTEND;TZID=Europe/Helsinki:20231007T150000
DTSTAMP:20260422T224418
CREATED:20230420T115458Z
LAST-MODIFIED:20230420T115458Z
UID:10002232-1696672800-1696690800@kuopionmuseot.fi
SUMMARY:Kurssi: Luontovalokuvaus\, aiheena maisema
DESCRIPTION:Kuopion kansalaisopiston järjestämällä kurssilla tutustutaan luontokuvaan ja maisemaan valokuvauksen osa-alueena. Tällä kurssilla ei keskitytä laitteiden tekniikkaan tai kuvankäsittelyyn vaan pohditaan sommittelua ja käytännön työskentelyä kohteessa. Ota oma kamera tai kamerapuhelin mukaan. Kurssi toteutetaan osittain ulkona ja se sopii kaikille luontokuvauksesta kiinnostuneille. \nKurssi pidetään Kuopion kansalaisopistolla\, Puistokatu 20. \nIlmoittautuminen: https://uusi.opistopalvelut.fi/kuopio/fi/ tai Puistokartanon asiakaspiste
URL:https://kuopionmuseot.fi/tapahtuma/kurssi-luontovalokuvaus-aiheena-maisema/2023-10-07/
LOCATION:Kuopion kansalaisopisto\, Puistokatu 20\, Kuopio\, 70100\, Suomi
ATTACH;FMTTYPE=image/jpeg:https://kuopionmuseot.fi/wp-content/uploads/2023/04/Puijo.jpg
END:VEVENT
BEGIN:VEVENT
DTSTART;TZID=Europe/Helsinki:20231007T140000
DTEND;TZID=Europe/Helsinki:20231007T144500
DTSTAMP:20260422T224418
CREATED:20230331T122950Z
LAST-MODIFIED:20231004T130852Z
UID:10002176-1696687200-1696689900@kuopionmuseot.fi
SUMMARY:Opastus: Ihmisen aika
DESCRIPTION:Ihmisen aika -näyttely kertoo Pohjois-Savon esihistoriasta ja historiasta alkaen kivikauden ihmisen saapumisesta alueelle ja päättyen lopulta kulttuurin uusimpiin virtauksiin. Näyttely tutustuttaa kävijän Pohjois-Savon asukkaiden arkeen ja juhlaan\, sekä mielenkiintoisiin esineisiin ja asioihin. \nOpastuksella sukelletaan Savon menneisyyden merkittävimpiin vaiheisiin ja hämmästyttäviin yksityiskohtiin! \nOpastus sisältyy pääsylipun hintaan 7 € / 13 €\, alle 18-vuotiaat ilmaiseksi.
URL:https://kuopionmuseot.fi/tapahtuma/opastus-ihmisen-aika/2023-10-07/
LOCATION:Kuopion museo
ATTACH;FMTTYPE=image/jpeg:https://kuopionmuseot.fi/wp-content/uploads/2023/06/Opastus.jpg
ORGANIZER;CN="Kuopion museo":MAILTO:kuopionmuseo@kuopio.fi
END:VEVENT
BEGIN:VEVENT
DTSTART;TZID=Europe/Helsinki:20231008T100000
DTEND;TZID=Europe/Helsinki:20231008T150000
DTSTAMP:20260422T224418
CREATED:20230420T115458Z
LAST-MODIFIED:20230420T115458Z
UID:10002233-1696759200-1696777200@kuopionmuseot.fi
SUMMARY:Kurssi: Luontovalokuvaus\, aiheena maisema
DESCRIPTION:Kuopion kansalaisopiston järjestämällä kurssilla tutustutaan luontokuvaan ja maisemaan valokuvauksen osa-alueena. Tällä kurssilla ei keskitytä laitteiden tekniikkaan tai kuvankäsittelyyn vaan pohditaan sommittelua ja käytännön työskentelyä kohteessa. Ota oma kamera tai kamerapuhelin mukaan. Kurssi toteutetaan osittain ulkona ja se sopii kaikille luontokuvauksesta kiinnostuneille. \nKurssi pidetään Kuopion kansalaisopistolla\, Puistokatu 20. \nIlmoittautuminen: https://uusi.opistopalvelut.fi/kuopio/fi/ tai Puistokartanon asiakaspiste
URL:https://kuopionmuseot.fi/tapahtuma/kurssi-luontovalokuvaus-aiheena-maisema/2023-10-08/
LOCATION:Kuopion kansalaisopisto\, Puistokatu 20\, Kuopio\, 70100\, Suomi
ATTACH;FMTTYPE=image/jpeg:https://kuopionmuseot.fi/wp-content/uploads/2023/04/Puijo.jpg
END:VEVENT
BEGIN:VEVENT
DTSTART;TZID=Europe/Helsinki:20231008T140000
DTEND;TZID=Europe/Helsinki:20231008T150000
DTSTAMP:20260422T224418
CREATED:20231003T093738Z
LAST-MODIFIED:20231213T094037Z
UID:10002354-1696773600-1696777200@kuopionmuseot.fi
SUMMARY:Opastus Juho Rissanen – Kuvauksen vilkkaus -näyttelyyn
DESCRIPTION:Kuopion taidemuseolla järjestetään avoimia opastuksia näyttelyihin joka sunnuntai klo 14 perehtyen vuoroviikoin taidemuseon eri näyttelyihin. \nOdotettu Juho Rissanen – Kuvauksen vilkkaus -näyttely tarjoaa uuden näkökulman Rissaseen pureutumalla hänen taiteensa lisäksi hänen elämäänsä ja persoonaansa. Esillä on sekä tuttuja että harvoin esillä olleita teoksia\, myös Rissasen kirjeitä ja valokuvia\, joiden kautta välittyy hänen valloittava persoonallisuutensa ja suhteensa tukijoihin ja läheisiin ihmisiin. \nNäyttelyssä on teoksia koko Rissasen taiteellisen työskentelyn ajalta. Esillä on muun muassa luonnoksia Rissasen lapsuuden traagiseen tapahtumaan liittyvästä isän kuolemasta sekä Pariisin vuoden 1900 maailmannäyttelyn teoksiin tehtyjä luonnoksia. Tunnettu\, yksityiskokoelmaan kuuluva maalaus Hauta-Heikin mummo (1897) on yksi näyttelyn merkkiteoksista. Mukana näyttelyssä on myös Juho Rissasen perikunnalta Yhdysvalloista lahjoituksena tänä kesänä saatu maalaus Työstä paluu (1908) sekä yksi Rissasen viimeisimmiksi jääneistä teoksista\, Tyttö ja koira (1950)\, jonka Rissanen maalasi Yhdysvalloissa. Rissaselle läheisten savolaisaiheiden rinnalla nähdään raikkain värein maalattuja kepeitä teoksia\, joissa näkyy ranskalaisen taiteen vaikutus. Näyttelyssä pääsee myös kurkistamaan taiteilijan ateljeeseen\, kuulemaan ja lukemaan Juho Rissasen kirjeitä ja vierailemaan Miami Beachilla\, jonka auringon alla taiteilija vietti viimeiset elinvuotensa. \nOpastukseen voi osallistua taidemuseon pääsymaksulla 10/5 €\, alle 18-vuotiaat ilmaiseksi ja museokortti käy maksuvälineeksi.
URL:https://kuopionmuseot.fi/tapahtuma/opastus-juho-rissanen-kuvauksen-vilkkaus-nayttelyyn-2/2023-10-08/
LOCATION:KUMMA\, Kauppakatu 35\, Kuopio\, 70100
ATTACH;FMTTYPE=image/jpeg:https://kuopionmuseot.fi/wp-content/uploads/2023/10/1920-1080-px-01.jpg
END:VEVENT
END:VCALENDAR