BEGIN:VCALENDAR
VERSION:2.0
PRODID:-//Kuopion museot - ECPv6.15.20//NONSGML v1.0//EN
CALSCALE:GREGORIAN
METHOD:PUBLISH
X-WR-CALNAME:Kuopion museot
X-ORIGINAL-URL:https://kuopionmuseot.fi
X-WR-CALDESC:Tapahtumat Kuopion museot
REFRESH-INTERVAL;VALUE=DURATION:PT1H
X-Robots-Tag:noindex
X-PUBLISHED-TTL:PT1H
BEGIN:VTIMEZONE
TZID:Europe/Helsinki
BEGIN:DAYLIGHT
TZOFFSETFROM:+0200
TZOFFSETTO:+0300
TZNAME:EEST
DTSTART:20220327T010000
END:DAYLIGHT
BEGIN:STANDARD
TZOFFSETFROM:+0300
TZOFFSETTO:+0200
TZNAME:EET
DTSTART:20221030T010000
END:STANDARD
BEGIN:DAYLIGHT
TZOFFSETFROM:+0200
TZOFFSETTO:+0300
TZNAME:EEST
DTSTART:20230326T010000
END:DAYLIGHT
BEGIN:STANDARD
TZOFFSETFROM:+0300
TZOFFSETTO:+0200
TZNAME:EET
DTSTART:20231029T010000
END:STANDARD
BEGIN:DAYLIGHT
TZOFFSETFROM:+0200
TZOFFSETTO:+0300
TZNAME:EEST
DTSTART:20240331T010000
END:DAYLIGHT
BEGIN:STANDARD
TZOFFSETFROM:+0300
TZOFFSETTO:+0200
TZNAME:EET
DTSTART:20241027T010000
END:STANDARD
END:VTIMEZONE
BEGIN:VEVENT
DTSTART;TZID=Europe/Helsinki:20230913T140000
DTEND;TZID=Europe/Helsinki:20230913T144500
DTSTAMP:20260422T224345
CREATED:20230419T123554Z
LAST-MODIFIED:20231003T111311Z
UID:10002207-1694613600-1694616300@kuopionmuseot.fi
SUMMARY:Opastus: Wildlife Photographer of the Year
DESCRIPTION:Opastetulla kierroksella pääset sukeltamaan oppaan kanssa pintaa syvemmälle. Näyttelyn upeiden valokuvien kautta tutkitaan maapallomme luonnon herkkää tasapainoa ja sen nykytilaa. Kuinka ympärillämme tapahtuvat muutokset vaikuttavat planeettamme ekosysteemeihin? \nOpastukselle pääset osallistumaan pääsymaksun hinnalla. \nkuva: © Richard Robinson\, Wildlife Photographer of the Year
URL:https://kuopionmuseot.fi/tapahtuma/wildlife-photographer-of-the-year-nayttelyopastus/2023-09-13/
LOCATION:Kuopion museo
ATTACH;FMTTYPE=image/jpeg:https://kuopionmuseot.fi/wp-content/uploads/2023/04/©-Richard-Robinson-Wildlife-Photographer-of-the-Year.jpg
END:VEVENT
BEGIN:VEVENT
DTSTART;TZID=Europe/Helsinki:20230913T170000
DTEND;TZID=Europe/Helsinki:20230913T190000
DTSTAMP:20260422T224345
CREATED:20230821T103802Z
LAST-MODIFIED:20231114T073829Z
UID:10002347-1694624400-1694631600@kuopionmuseot.fi
SUMMARY:Filosofiakahvila
DESCRIPTION:Snellmanedun Syksyn 2023 Filosofiakahvilan ti­lai­suu­det ovat kai­kil­le avoi­mia ja maksut­to­mia – liity siis joukkoon mukaan kuulemaan ja keskustelemaan! \nFilosofiakahviloihin suositellaan ilmoittautumaan etukäteen Snellmanedun verkkolomakkeella\, jotta saat tiedon mahdollisista muutoksista ja tulevista kahviloista. \nKahvila Kantti palvelee Kuopion museon tiloissa omakustanteista tarjoilua varten ja kahvia saa nautiskella keskustelun lomassa museon monitoimitilassa. \nSyksyn 2023 kerrat: \nke 13.9. Kannattaako perusarvojamme puolustaa? Sami Pihlström\, uskonnonfilosofian professori\, Helsingin yliopisto \nke 18.10. Vapaus: Moraalin ja politiikan monimerkityksellinen käsite. Tuija Pulkkinen\, sukupuolen tutkimuksen professori\, Helsingin yliopisto \nke 15.11. Keskustelua toiveiden mukaan\, ei alustajaa. \nke 29.11. Mitä puhdas musiikillinen muoto voi paljastaa todellisuudesta? Hanne Appelqvist\, Helsingin yliopiston tutkijakollegiumin johtaja
URL:https://kuopionmuseot.fi/tapahtuma/filosofiakahvila/
LOCATION:Kuopion museo
ATTACH;FMTTYPE=image/jpeg:https://kuopionmuseot.fi/wp-content/uploads/2023/08/pexels-andreea-ch-1251720-scaled.jpg
END:VEVENT
BEGIN:VEVENT
DTSTART;TZID=Europe/Helsinki:20230914T140000
DTEND;TZID=Europe/Helsinki:20230914T141500
DTSTAMP:20260422T224345
CREATED:20230122T120319Z
LAST-MODIFIED:20230513T125009Z
UID:10002106-1694700000-1694700900@kuopionmuseot.fi
SUMMARY:Jalkapalloa ja kunnian kenttiä -korttelivartti
DESCRIPTION:Jalkapalloa ja kunnian kenttiä -korttelivartti \nKuinka jalkapallotoiminta laitettiin alulle Pohjois-Savossa? Miten paikalliset seurat ovat kasvaneet ja kehittyneet? Miten naisjalkapalloilu buumi syntyi? Kuinka juniorityöhön on aikojen saatossa panostettu? Näihin kysymyksiin saat vastauksia korttelivarteilla\, eli noin viiteentoista minuuttiin tiivistetyillä napakoilla tietoiskuilla\, joita järjestetään kuukausittain Kuopion korttelimuseon Jalkapalloa ja kunnian kenttiä -näyttelyssä. \nKorttelivartit kuuluvat museon pääsymaksuun (8/5 €\, alle 18-vuotiaat maksutta\, Museokortti). \nKorttelivartit \nKorttelivartti torstaina 16.2. klo 14.00:\nNaisjalkapalloilun historiaa Kuopiossa \nKorttelivartti torstaina 9.3. klo 14.00:\nJuniorijalkapalloilun historiaa Kuopiossa \nKorttelivartti torstaina 20.4. klo 14.00:\nJalkapalloilun alku Kuopiossa \nKorttelivartti torstaina 11.5. klo 14.00:\nNaisjalkapalloilun historiaa Kuopiossa \nKorttelivartti torstaina 8.6. klo 14.00:\nJuniorijalkapalloilun historiaa Kuopiossa \nKorttelivartti torstaina 10.8. klo 14.00:\nJalkapalloilun alku Kuopiossa \nKorttelivartti torstaina 14.9. klo 14.00:\nNaisjalkapalloilun historiaa Kuopiossa \n  \nJalkapalloa ja kunnian kenttiä – pohjoissavolaista jalkapallohistoriaa 18.11.2022–17.9.2023 \nNäyttely luo kuvan maakunnan jalkapalloilun ja sen ympärille muodostuneen fanikulttuurin kehityksestä. Kokonaisuus sisältää esineistöä sekä maakunnan jalkapalloseuroilta että nykyisiltä ja entisiltä pelaajilta. Näyttelyssä jalkapalloilun historiaan syvennytään maakunnan mielenkiintoisimpien pelikenttien\, legendaaristen pelaajien ja ansiokkaan kasvattajaseuratyön kautta. Näyttelyssä seurataan KuPSin nousua takaisin suomalaisen jalkapalloilun terävimpään kärkeen ja vieraillaan tuon nousun mahdollistaneilla maakunnan tähtikasvattamoilla. Näyttely avaa jalkapallokulttuuria myös varusteiden ja lajin kehityksen näkökulmasta. \nNäyttely perustuu vuonna 2020 ilmestyneeseen teokseen Kunnian kentät – kirja savolaisista jalkapallopyhätöistä.
URL:https://kuopionmuseot.fi/tapahtuma/2975/2023-09-14/
LOCATION:Korttelimuseo\, Kirkkokatu 22\, Kuopio\, 70100\, Suomi
ATTACH;FMTTYPE=image/jpeg:https://kuopionmuseot.fi/wp-content/uploads/2023/02/jalkapalloa_slider-kopio.jpg
END:VEVENT
BEGIN:VEVENT
DTSTART;TZID=Europe/Helsinki:20230914T150000
DTEND;TZID=Europe/Helsinki:20230914T153000
DTSTAMP:20260422T224345
CREATED:20230420T071704Z
LAST-MODIFIED:20230507T061511Z
UID:10002220-1694703600-1694705400@kuopionmuseot.fi
SUMMARY:Museovartti: Kun Darwin ennustajaksi ryhtyi
DESCRIPTION:Museovartin aikana tutustutaan yhteen valokuvaan ja sen teemaan Wildlife Photographer of the Year -näyttelyssä. Vartille pääset osallistumaan pääsymaksun hinnalla\, ja opastus kestää 15–30 minuuttia. \nKun Darwin ennustajaksi ryhtyi\nKukkakasvien ja pölyttäjähyönteisten evoluutio on kehittänyt etenkin kämmeköille todella kummallisia ratkaisuja. Mitä Charles Darwin tuumi saatuaan lahjaksi oudon orkidean? \nkuva: © Mac Stone\, Wildlife Photographer of the Year
URL:https://kuopionmuseot.fi/tapahtuma/museovartti-kun-darwin-ennustajaksi-ryhtyi/
LOCATION:Kuopion museo
ATTACH;FMTTYPE=image/jpeg:https://kuopionmuseot.fi/wp-content/uploads/2023/04/©-Mac-Stone-Wildlife-Photographer-of-the-Year.jpg
END:VEVENT
BEGIN:VEVENT
DTSTART;TZID=Europe/Helsinki:20230916T100000
DTEND;TZID=Europe/Helsinki:20230916T150000
DTSTAMP:20260422T224345
CREATED:20230504T085539Z
LAST-MODIFIED:20230504T085539Z
UID:10001958-1694858400-1694876400@kuopionmuseot.fi
SUMMARY:Sieniretki
DESCRIPTION:Ota sieniveitsi\, kori ja omat eväät mukaan. Retki toteutetaan yhteistyössä Savon Sieniseuran kanssa. Retken hinta on aikuisilta 10 €. Retkikohde ilmoitetaan myöhemmin. Ennakkoilmoittautuminen osoitteessa https://www.kuntapalvelut.fi/kuopio \nBussin lähtöpaikka: Maljalahdenkadun tilausbussilaituri Kaupungintalon takana \nLisätietoja: puh. 044 718 1543
URL:https://kuopionmuseot.fi/tapahtuma/sieniretki-2/
ATTACH;FMTTYPE=image/jpeg:https://kuopionmuseot.fi/wp-content/uploads/2021/08/sieniretki-lissu-rossi-–-kopio.jpg
END:VEVENT
BEGIN:VEVENT
DTSTART;TZID=Europe/Helsinki:20230916T130000
DTEND;TZID=Europe/Helsinki:20230916T134500
DTSTAMP:20260422T224345
CREATED:20230127T153537Z
LAST-MODIFIED:20230815T103705Z
UID:10002132-1694869200-1694871900@kuopionmuseot.fi
SUMMARY:Jalkapalloa ja kunnian kenttiä -näyttelyopastus
DESCRIPTION:Jalkapalloa ja kunnian kenttiä -näyttelyopastuksella pääset tutustumaan pohjoissavolaisen jalkapalloilun historiaan. Näyttelyssä syvennytään pelivälineiden kehitykseen varhaisista jalkapalloista ja nappulakengistä lähtien. Esillä on 11 savolaista pelikenttää\, joilla on jokaisella oma mielenkiintoinen historiansa. Näyttelyssä seurataan tänä vuonna 100-vuotta täyttävän Kuopion Palloseuran kehitystä takaisin suomalaisen jalkapalloilun terävimpään kärkeen. Nähtävillä on esineistöä sekä maakunnan jalkapalloseuroilta että entisiltä ja nykyisiltä pelaajilta. \nOpastus sisältyy pääsymaksun hintaan (8 / 5 €\, Museokortti\, alle 18-vuotiaat maksutta). Kesto noin 30–45 minuuttia. \nNäyttely perustuu vuonna 2020 ilmestyneeseen teokseen Kunnian kentät – kirja savolaisista jalkapallopyhätöistä. \nOpastukset kesällä:\nLa 27.5.2023 klo 13\nLa 17.6.2023 klo 13\nLa 1.7.2023 klo 13\nLa 22.7.2023 klo 13\nLa 5.8.2023 klo 13\nLa 19.8.2023 klo 13\nLa 16.9.2023 klo 13
URL:https://kuopionmuseot.fi/tapahtuma/jalkapalloa-ja-kunnian-kenttia-nayttelyopastus-2023-02-25/2023-09-16/
LOCATION:Korttelimuseo\, Kirkkokatu 22\, Kuopio\, 70100\, Suomi
ATTACH;FMTTYPE=image/jpeg:https://kuopionmuseot.fi/wp-content/uploads/2023/01/KuPS-Koparit-1985-scaled.jpg
END:VEVENT
END:VCALENDAR