BEGIN:VCALENDAR
VERSION:2.0
PRODID:-//Kuopion museot - ECPv6.15.20//NONSGML v1.0//EN
CALSCALE:GREGORIAN
METHOD:PUBLISH
X-ORIGINAL-URL:https://kuopionmuseot.fi
X-WR-CALDESC:Tapahtumat Kuopion museot
REFRESH-INTERVAL;VALUE=DURATION:PT1H
X-Robots-Tag:noindex
X-PUBLISHED-TTL:PT1H
BEGIN:VTIMEZONE
TZID:Europe/Helsinki
BEGIN:DAYLIGHT
TZOFFSETFROM:+0200
TZOFFSETTO:+0300
TZNAME:EEST
DTSTART:20220327T010000
END:DAYLIGHT
BEGIN:STANDARD
TZOFFSETFROM:+0300
TZOFFSETTO:+0200
TZNAME:EET
DTSTART:20221030T010000
END:STANDARD
BEGIN:DAYLIGHT
TZOFFSETFROM:+0200
TZOFFSETTO:+0300
TZNAME:EEST
DTSTART:20230326T010000
END:DAYLIGHT
BEGIN:STANDARD
TZOFFSETFROM:+0300
TZOFFSETTO:+0200
TZNAME:EET
DTSTART:20231029T010000
END:STANDARD
BEGIN:DAYLIGHT
TZOFFSETFROM:+0200
TZOFFSETTO:+0300
TZNAME:EEST
DTSTART:20240331T010000
END:DAYLIGHT
BEGIN:STANDARD
TZOFFSETFROM:+0300
TZOFFSETTO:+0200
TZNAME:EET
DTSTART:20241027T010000
END:STANDARD
END:VTIMEZONE
BEGIN:VEVENT
DTSTART;TZID=Europe/Helsinki:20230906T163000
DTEND;TZID=Europe/Helsinki:20230906T190000
DTSTAMP:20260422T202012
CREATED:20230724T071859Z
LAST-MODIFIED:20230901T053120Z
UID:10002323-1694017800-1694026800@kuopionmuseot.fi
SUMMARY:Kantin kestävä keskiviikko: OMPELUSEURAT vetoketjun vaihtotalkoot + livemusaa ja videoteoksia
DESCRIPTION:Kantin kestävä keskiviikko on paikka opetella yhdessä kulutuksen vähentämistä arjessa. Miten kunnostaa tai pitää huolta jo olemassa olevista vaatteista\, esineistä tai rakennuksista? Tiedon ja kokemusten lisäksi aiheita lähestytään tekemisen ja taiteen keinoin. \nKantin kestävä keskiviikko järjestetään vaihtuvilla sisällöillä pääsääntöisesti joka kuun ensimmäinen keskiviikko klo 16.30 alkaen Kuopion museon monitoimitilassa. Luentokerroilla eri aihepiirien asiantuntijat tarjoavat vinkkejä ja neuvontaa kestävämpien ratkaisujen ja ilmastotekojen toteuttamiseen. OMPELUSEURAT tuovat omalla vuorollaan paikalle ompelukoneet ja vertaisohjaajia\, jolloin jokaisella on mahdollisuus tulla korjaamaan omia rikkinäisiä vaatteitaan. Pajaan voi tulla ilman ennakkoilmoittautumista oman aikataulun mukaan korjattavan vaatteen kanssa ja ryhtyä toimeen\, kun korjauspajassa on tilaa. Paikan päältä löytyy kangaspaloja ja lankoja paikkaamiseen\, mutta tuo myös omia materiaaleja ja vaihtovetoketju tarvittaessa. \nKuopion kaupunginkirjasto koostaat jokaiselle kerralle vinkkilistan\, jonka avulla kirjastosta voi lainata lisää kutakin aihetta käsittelevää kirjallisuutta. Esillä olleista kirjoista on pääkirjastolla pieni näyttely tapahtumakeskiviikon jälkeen. \nSYYSKAUDEN 2023 OHJELMA\n2.8. klo 16.30-18 Tekstiilikonservaattori Anu Reijonen: Hää- ja juhla-asujen sekä kansallispukujen säilytys.\n9.8. klo 16.30-19 OMPELUSEURAT: Verkkaripaja. \n6.9. klo 16.30-19 OMPELUSEURAT: Vetoketjun vaihtotalkoot. Mukana taidesisältönä livemusiikkia sekä kaksi videoteosta TUNTEMA: Videota ja musiikkia 7X7 -videoteos. Tutkielma liikkeen\, muodon ja massan vaikutelmista pinnalla sekä art as fart -videoteos. Taiteen käsitteen karnevalisointi sanaleikin ja kuvamanipulaation avulla. Musiikillinen maisema syntyy elävänä tilanteessa syntetisoijilla soitellen. Videoiden ja musiikin aikana voi vapaasti korjailla\, oleskella ja seurustella. TUNTEMA on  Lasse Forsgren. \n4.10. klo 16.30-18 Intendentti Pekka Kankkunen: Kuinka säilytät valokuvasi jälkipolville.\n11.10. klo 16.30-19 OMPELUSEURAT: Parsintapaja.\n1.11. klo 16.30-19 OMPELUSEURAT: Farkunpaikkaus.\n13.12. klo 16.30-18 Ilmastokeskustelu.\n(Ohjelmamuutokset ja täydennykset mahdollisia!) \nTapahtumiin on vapaa pääsy. Luentosisällöt striimataan Kuopion museon Youtube-kanavalle. \nKantti on tiedon\, tarinoiden ja ihmisten avoin kohtaamispaikka\, joka yhdistää pääkirjaston ja Kuopion museon. Kantti-yhteistyönä toteutetaan Kantin kestävä keskiviikko -tapahtumasarjaa\, jossa vuorottelevat OMPELUSEURAT omilla korjausompelupajoillaan sekä museon ja kirjaston tuottamat\, kestävään kehitykseen liittyvät teemaillat.
URL:https://kuopionmuseot.fi/tapahtuma/kantin-kestava-keskiviikko-ompeluseurat-2023-09-06/
LOCATION:Kuopion museo
ATTACH;FMTTYPE=image/jpeg:https://kuopionmuseot.fi/wp-content/uploads/2023/07/KANTIN-KESTAVA-KESKIVIIKKO-1920-x-1080-px-2.jpg
END:VEVENT
BEGIN:VEVENT
DTSTART;TZID=Europe/Helsinki:20230908T140000
DTEND;TZID=Europe/Helsinki:20230908T150000
DTSTAMP:20260422T202012
CREATED:20230904T124353Z
LAST-MODIFIED:20230904T130542Z
UID:10002334-1694181600-1694185200@kuopionmuseot.fi
SUMMARY:Cafe Smart Tiedekahvila: Planetaarinen terveys – Kohti ekologisesti kestävää elämää
DESCRIPTION:Planetaarisella eli yhteisellä terveydellä kuvataan ihmisten hyvinvoinnin ja ympäristön tilan keskinäisriippuvuutta. Esimerkiksi ilmastonmuutos\, luonnon monimuotoisuuden heikkeneminen\, ympäristön saastuminen sekä luonnonvarojen ja energian liikakäyttö haastavat koko ihmiskunnan tulevaisuutta ja kestävää elämäntapaa. \nMillaisia kehityssuuntia\, ennusteita ja malleja planetaarisen terveyden näkökulmasta on havaittu\, mitä uusia ilmiöitä on tunnistettu\, ja millaisia ratkaisuja olisi tarjolla? Mikä rooli on yhteiskunnan politiikkatoimilla ja yksilön arkivalinnoilla? Näistä teemoista keskustellaan Itä-Suomen yliopiston tiedekahvilassa. Keskustelemassa ovat TKI-asiantuntija Jyri Wuorisalo Savonia-ammattikorkeakoulusta ja professori Arto O. Salonen Itä-Suomen yliopistosta. \nKahvitarjoilu on varattu 50 ensimmäiselle. Tilaisuus on Kuopion museon monitoimitilassa. Vapaa pääsy. Tervetuloa! \nTapahtuman järjestää Itä-Suomen yliopisto yhteistyössä Kuopion Luonnon Ystäväin Yhdistyksen (KLYY) kanssa\, ja se on osa LuontoKino-tapahtumaa. \nLisätietoja antaa Anna Simolin\, sähköposti anna.simolin@uef.fi\, puhelin 0504338394.
URL:https://kuopionmuseot.fi/tapahtuma/cafe-smart-tiedekahvila-planetaarinen-terveys-kohti-ekologisesti-kestavaa-elamaa/
LOCATION:Kuopion museo
ATTACH;FMTTYPE=image/png:https://kuopionmuseot.fi/wp-content/uploads/2023/09/Ajankohtaista_Cafe_Smart_Logo.png
END:VEVENT
END:VCALENDAR