BEGIN:VCALENDAR
VERSION:2.0
PRODID:-//Kuopion museot - ECPv6.15.20//NONSGML v1.0//EN
CALSCALE:GREGORIAN
METHOD:PUBLISH
X-WR-CALNAME:Kuopion museot
X-ORIGINAL-URL:https://kuopionmuseot.fi
X-WR-CALDESC:Tapahtumat Kuopion museot
REFRESH-INTERVAL;VALUE=DURATION:PT1H
X-Robots-Tag:noindex
X-PUBLISHED-TTL:PT1H
BEGIN:VTIMEZONE
TZID:Europe/Helsinki
BEGIN:DAYLIGHT
TZOFFSETFROM:+0200
TZOFFSETTO:+0300
TZNAME:EEST
DTSTART:20220327T010000
END:DAYLIGHT
BEGIN:STANDARD
TZOFFSETFROM:+0300
TZOFFSETTO:+0200
TZNAME:EET
DTSTART:20221030T010000
END:STANDARD
BEGIN:DAYLIGHT
TZOFFSETFROM:+0200
TZOFFSETTO:+0300
TZNAME:EEST
DTSTART:20230326T010000
END:DAYLIGHT
BEGIN:STANDARD
TZOFFSETFROM:+0300
TZOFFSETTO:+0200
TZNAME:EET
DTSTART:20231029T010000
END:STANDARD
BEGIN:DAYLIGHT
TZOFFSETFROM:+0200
TZOFFSETTO:+0300
TZNAME:EEST
DTSTART:20240331T010000
END:DAYLIGHT
BEGIN:STANDARD
TZOFFSETFROM:+0300
TZOFFSETTO:+0200
TZNAME:EET
DTSTART:20241027T010000
END:STANDARD
END:VTIMEZONE
BEGIN:VEVENT
DTSTART;TZID=Europe/Helsinki:20230815T100000
DTEND;TZID=Europe/Helsinki:20230815T110000
DTSTAMP:20260422T192649
CREATED:20230605T070941Z
LAST-MODIFIED:20230605T071555Z
UID:10002226-1692093600-1692097200@kuopionmuseot.fi
SUMMARY:Tägimummot ja bommauspapat
DESCRIPTION:60+ -vuotiaiden opastetuilla kierroksilla tutustutaan Kannut kuumana -katutaidenäyttelyyn sekä koetaan fyysistä teatteria. Kierroksella pääsee halutessaan kokeilemaan katutaiteen tekemistä. Taidemuseon tilat on saavutettavat ja osallistuminen skeittilautojen ja muiden apuvälineiden kanssa onnistuu mainiosti. Kierros kestää noin 45 minuuttia. Lisätiedot ja ennakkoilmoittautuminen 044 718 2633.
URL:https://kuopionmuseot.fi/tapahtuma/tagimummot-ja-bommauspapat/2023-08-15/
LOCATION:KUMMA\, Kauppakatu 35\, Kuopio\, 70100
ATTACH;FMTTYPE=image/png:https://kuopionmuseot.fi/wp-content/uploads/2023/06/Tagimummot-ja-bommauspapat-Face-PNG.png
END:VEVENT
BEGIN:VEVENT
DTSTART;TZID=Europe/Helsinki:20230815T100000
DTEND;TZID=Europe/Helsinki:20230815T160000
DTSTAMP:20260422T192649
CREATED:20230517T074702Z
LAST-MODIFIED:20230614T083257Z
UID:10002284-1692093600-1692115200@kuopionmuseot.fi
SUMMARY:Puuhapajat
DESCRIPTION:Puuhapajassa askarrellaan vaihtelevilla menetelmillä ja materiaaleilla kaikenlaista pientä kivaa! Työpajat sopivat kaikenikäisille\, lapset aikuisten valvonnassa.  \nVaihteleva työpajamaksu käytetyn tekniikan ja materiaalien mukaan 2–10 €/askartelija.
URL:https://kuopionmuseot.fi/tapahtuma/puuhapajat/2023-08-15/
LOCATION:Kuopion museo
ATTACH;FMTTYPE=image/jpeg:https://kuopionmuseot.fi/wp-content/uploads/2023/05/puuhapaja-scaled.jpg
ORGANIZER;CN="Kuopion museo":MAILTO:kuopionmuseo@kuopio.fi
END:VEVENT
BEGIN:VEVENT
DTSTART;TZID=Europe/Helsinki:20230816T100000
DTEND;TZID=Europe/Helsinki:20230816T110000
DTSTAMP:20260422T192649
CREATED:20230605T070941Z
LAST-MODIFIED:20230605T071555Z
UID:10002227-1692180000-1692183600@kuopionmuseot.fi
SUMMARY:Tägimummot ja bommauspapat
DESCRIPTION:60+ -vuotiaiden opastetuilla kierroksilla tutustutaan Kannut kuumana -katutaidenäyttelyyn sekä koetaan fyysistä teatteria. Kierroksella pääsee halutessaan kokeilemaan katutaiteen tekemistä. Taidemuseon tilat on saavutettavat ja osallistuminen skeittilautojen ja muiden apuvälineiden kanssa onnistuu mainiosti. Kierros kestää noin 45 minuuttia. Lisätiedot ja ennakkoilmoittautuminen 044 718 2633.
URL:https://kuopionmuseot.fi/tapahtuma/tagimummot-ja-bommauspapat/2023-08-16/
LOCATION:KUMMA\, Kauppakatu 35\, Kuopio\, 70100
ATTACH;FMTTYPE=image/png:https://kuopionmuseot.fi/wp-content/uploads/2023/06/Tagimummot-ja-bommauspapat-Face-PNG.png
END:VEVENT
BEGIN:VEVENT
DTSTART;TZID=Europe/Helsinki:20230816T140000
DTEND;TZID=Europe/Helsinki:20230816T144500
DTSTAMP:20260422T192649
CREATED:20230419T123554Z
LAST-MODIFIED:20231003T111311Z
UID:10002205-1692194400-1692197100@kuopionmuseot.fi
SUMMARY:Opastus: Wildlife Photographer of the Year
DESCRIPTION:Opastetulla kierroksella pääset sukeltamaan oppaan kanssa pintaa syvemmälle. Näyttelyn upeiden valokuvien kautta tutkitaan maapallomme luonnon herkkää tasapainoa ja sen nykytilaa. Kuinka ympärillämme tapahtuvat muutokset vaikuttavat planeettamme ekosysteemeihin? \nOpastukselle pääset osallistumaan pääsymaksun hinnalla. \nkuva: © Richard Robinson\, Wildlife Photographer of the Year
URL:https://kuopionmuseot.fi/tapahtuma/wildlife-photographer-of-the-year-nayttelyopastus/2023-08-16/
LOCATION:Kuopion museo
ATTACH;FMTTYPE=image/jpeg:https://kuopionmuseot.fi/wp-content/uploads/2023/04/©-Richard-Robinson-Wildlife-Photographer-of-the-Year.jpg
END:VEVENT
BEGIN:VEVENT
DTSTART;TZID=Europe/Helsinki:20230816T140000
DTEND;TZID=Europe/Helsinki:20230816T190000
DTSTAMP:20260422T192649
CREATED:20230504T083112Z
LAST-MODIFIED:20230504T083112Z
UID:10001951-1692194400-1692212400@kuopionmuseot.fi
SUMMARY:Nurmisaaren niittytalkoot
DESCRIPTION:Tervetuloa heinätalkoisiin Nurmisaaren niitylle. Talkoolaisille on tarjolla juotavaa ja pientä evästä. Tulipaikalla mahdollisuus paistaa makkaraa. Voit tulla mukaan niin pitkäksi tai lyhyeksi ajaksi kuin haluat. Varauduthan omalla vesipullolla\, hanskoilla ja umpinaisilla jalkineilla. \nTapaamispaikka: Nurmisaaren niitty. Purnukadun pään parkkipaikalta on n. 150 m kävely Nurmisaaren niitylle. \nLisätietoja: puh. 044 718 2143
URL:https://kuopionmuseot.fi/tapahtuma/nurmisaaren-niittytalkoot/
LOCATION:Nurmisaari\, Purnukatu\, Kuopio\, 70840
ATTACH;FMTTYPE=image/jpeg:https://kuopionmuseot.fi/wp-content/uploads/2023/05/niitty.jpg
END:VEVENT
BEGIN:VEVENT
DTSTART;TZID=Europe/Helsinki:20230816T150000
DTEND;TZID=Europe/Helsinki:20230816T164500
DTSTAMP:20260422T192649
CREATED:20230517T045613Z
LAST-MODIFIED:20230802T085538Z
UID:10002272-1692198000-1692204300@kuopionmuseot.fi
SUMMARY:Geologia-kävelykierros koko perheelle: Väinölänniemi
DESCRIPTION:Geologia-kävelykierros Kuopion museolta: Väinölänniemi – harjumaisemia ja kaupunkiluontoa. Kävely päättyy Väinölänniemelle.  \nVäinölänniemi on Kallaveden aaltoihin sukeltava harjumuodostuma. Koko perheen kävelykierroksella tutustutaan Kuopion keskustan halki kulkevan harjun syntyhistoriaan ja Kallaveden kehitysvaiheisiin.   \nKierroksen kesto on noin 1 t 45 min\, kävelyä n. 3 km.  \nHinta 8 €/aikuinen. Maksu suoritetaan ennen kävelykierrosta Kuopion museon asiakaspalvelupisteellä.  \nVäinölänniemi – harjumaisemia ja kaupunkiluontoa – koko perheen kierrokset ovat ke 21.6.\, 19.7. ja 16.8. klo 15.\nValkeisenlampi – muinaisesta suosta kaupunkikeitaaksi -kierrokset ovat ke 7.6.\, 5.7. ja 2.8. klo 15.\n \nHuomioithan säänmukaisen pukeutumisen. Säävaraus.
URL:https://kuopionmuseot.fi/tapahtuma/geologia-kavelykierros-vainolanniemi/2023-08-16/
LOCATION:Kuopion museo
ATTACH;FMTTYPE=image/jpeg:https://kuopionmuseot.fi/wp-content/uploads/2023/05/Geologiakavely-suunnikas.jpg
END:VEVENT
BEGIN:VEVENT
DTSTART;TZID=Europe/Helsinki:20230816T170000
DTEND;TZID=Europe/Helsinki:20230816T171500
DTSTAMP:20260422T192649
CREATED:20230804T071119Z
LAST-MODIFIED:20230804T073700Z
UID:10002040-1692205200-1692206100@kuopionmuseot.fi
SUMMARY:Kannun henki goes katutanss
DESCRIPTION:Kannun henki goes katutanssi on kahden tanssijan teos\, joka on saanut inspiraationsa taidemuseon näyttelystä. Tanssijat liikkuvat graffititaiteen ja museon elementtien äärellä\, eri katutanssilajeja yhdistellen. Esitykset kestävät noin 15 min. \nElina Kuivalainen on ammattitanssija sekä tanssinopettaja. Hän vaikuttaa Kuopiossa tanssin kentällä monipuolisesti niin yrittäjänä\, vapaaehtoisena kuin yhdistystoiminnan kautta. \nEmmi Schobesberger opiskelee tanssinopettajaksi Savonian ammattikorkeakoulussa. Hän työskentelee tanssinopettajana peruskoulussa ja eri tanssikouluissa Kuopiossa. \nRiikka Koivusaari on tämän teoksen tuottaja. Hän opiskelee Savoniassa palvelumuotoilua ja muotoilua. Idea katutanssiteokseen lähti Taideteoksen muotoilu -kurssilta\, jossa suunniteltiin Taidemuseolle Kannun henki -näyttelyyn elementtejä. \nEmmi ja Elina pyrkivät toiminnallaan ja tämän teoksen kautta lisäämään katutanssilajien näkyvyyttä ja saavutettavuutta Kuopiossa. \nEsityksiin taidemuseon pääsymaksulla 10/5 €\, alle 18-vuotiaat maksutta ja maksuvälineeksi käy myös museokortti.
URL:https://kuopionmuseot.fi/tapahtuma/kannun-henki-goes-katutanss/2023-08-16/
LOCATION:KUMMA\, Kauppakatu 35\, Kuopio\, 70100
ATTACH;FMTTYPE=image/jpeg:https://kuopionmuseot.fi/wp-content/uploads/2023/08/TANSSI_PROMO2-scaled.jpg
END:VEVENT
BEGIN:VEVENT
DTSTART;TZID=Europe/Helsinki:20230817T150000
DTEND;TZID=Europe/Helsinki:20230817T153000
DTSTAMP:20260422T192649
CREATED:20230420T071141Z
LAST-MODIFIED:20230507T061326Z
UID:10002216-1692284400-1692286200@kuopionmuseot.fi
SUMMARY:Museovartti: Merenalaiset metsät
DESCRIPTION:Museovartin aikana tutustutaan yhteen valokuvaan ja sen teemaan Wildlife Photographer of the Year -näyttelyssä. Vartille pääset osallistumaan pääsymaksun hinnalla\, ja opastus kestää 15–30 minuuttia. \nMerenalaiset metsät\nAustralian eteläpuolen upeissa levien muodostamissa metsissä elää rikas ja monimuotoinen lajisto pienistä merihevosista hylkeisiin. \nkuva: © Scott Portelli\, Wildlife Photographer of the Year
URL:https://kuopionmuseot.fi/tapahtuma/museovartti-merenalaiset-metsat/
LOCATION:Kuopion museo
ATTACH;FMTTYPE=image/jpeg:https://kuopionmuseot.fi/wp-content/uploads/2023/04/©-Scott-Portelli-Wildlife-Photographer-of-the-Year.jpg
END:VEVENT
BEGIN:VEVENT
DTSTART;TZID=Europe/Helsinki:20230818T150000
DTEND;TZID=Europe/Helsinki:20230818T160000
DTSTAMP:20260422T192649
CREATED:20230810T112333Z
LAST-MODIFIED:20230810T113114Z
UID:10002056-1692370800-1692374400@kuopionmuseot.fi
SUMMARY:Kesäjuhlat - osallistava tanssi- ja musiikkiesitys
DESCRIPTION:Kesäjuhlat tihkuu kesätanssien tunnelmaa; vapauden huumaa\, kaihoa ja muistojen virtaa\, harmonikkamusiikkia\, tunteikasta tanssia ja yhteislaulua. Kesäjuhlat osallistaa yleisöään tanssimaan ja laulamaan mukana! \nEsiintyjät: Mari Kätkä\, haitari ja laulu sekä Riikka Siirala\, tanssi\nKesto n. 40min. \nVapaa pääsy! \nJärj. \nTapahtuma on osa Meidän Kuopio -festivaalin 60+ vuotiaille suunnattua ohjelmistoa.
URL:https://kuopionmuseot.fi/tapahtuma/kesajuhlat-osallistava-tanssi-ja-musiikkiesitys/
LOCATION:Kuopion museo
ATTACH;FMTTYPE=image/jpeg:https://kuopionmuseot.fi/wp-content/uploads/2023/08/Kesajuhlat-osallistava-tanssi.jpg
END:VEVENT
BEGIN:VEVENT
DTSTART;TZID=Europe/Helsinki:20230819T130000
DTEND;TZID=Europe/Helsinki:20230819T134500
DTSTAMP:20260422T192649
CREATED:20230127T153537Z
LAST-MODIFIED:20230815T103705Z
UID:10002131-1692450000-1692452700@kuopionmuseot.fi
SUMMARY:Jalkapalloa ja kunnian kenttiä -näyttelyopastus
DESCRIPTION:Jalkapalloa ja kunnian kenttiä -näyttelyopastuksella pääset tutustumaan pohjoissavolaisen jalkapalloilun historiaan. Näyttelyssä syvennytään pelivälineiden kehitykseen varhaisista jalkapalloista ja nappulakengistä lähtien. Esillä on 11 savolaista pelikenttää\, joilla on jokaisella oma mielenkiintoinen historiansa. Näyttelyssä seurataan tänä vuonna 100-vuotta täyttävän Kuopion Palloseuran kehitystä takaisin suomalaisen jalkapalloilun terävimpään kärkeen. Nähtävillä on esineistöä sekä maakunnan jalkapalloseuroilta että entisiltä ja nykyisiltä pelaajilta. \nOpastus sisältyy pääsymaksun hintaan (8 / 5 €\, Museokortti\, alle 18-vuotiaat maksutta). Kesto noin 30–45 minuuttia. \nNäyttely perustuu vuonna 2020 ilmestyneeseen teokseen Kunnian kentät – kirja savolaisista jalkapallopyhätöistä. \nOpastukset kesällä:\nLa 27.5.2023 klo 13\nLa 17.6.2023 klo 13\nLa 1.7.2023 klo 13\nLa 22.7.2023 klo 13\nLa 5.8.2023 klo 13\nLa 19.8.2023 klo 13\nLa 16.9.2023 klo 13
URL:https://kuopionmuseot.fi/tapahtuma/jalkapalloa-ja-kunnian-kenttia-nayttelyopastus-2023-02-25/2023-08-19/
LOCATION:Korttelimuseo\, Kirkkokatu 22\, Kuopio\, 70100\, Suomi
ATTACH;FMTTYPE=image/jpeg:https://kuopionmuseot.fi/wp-content/uploads/2023/01/KuPS-Koparit-1985-scaled.jpg
END:VEVENT
BEGIN:VEVENT
DTSTART;TZID=Europe/Helsinki:20230820T140000
DTEND;TZID=Europe/Helsinki:20230820T150000
DTSTAMP:20260422T192649
CREATED:20230529T064834Z
LAST-MODIFIED:20230529T065344Z
UID:10001972-1692540000-1692543600@kuopionmuseot.fi
SUMMARY:Opastettu kierros näyttelyihin
DESCRIPTION:Kuopion taidemuseolla järjestetään avoimia opastuksia näyttelyihin joka sunnuntai klo 14 27.8.2023 asti. \nKannun henki on ennennäkemätön kaupunkitaiteen moninaisuutta käsittelevä näyttely. Esillä on laaja kirjo teoksia taidemuseon seiniin maalatuista tekstipohjaisista graffiteista suuriin katutaideteoksiin ja veistoksiin\, sekä Urbaanin tallentamaa\, kuopiolaista graffitiskeneä avaavaa dokumentaarista aineistoa. Kannun henki on Kuopion taidemuseon ja Katutaideyhdistys Urbaani ry:n yhteistyönäyttely. \nNäyttely esittelee kaupunkitaiteen eri tyylisuuntia edustavia eturivin taiteilijoita ympäri Suomea: Teoksia on esillä 14 eri taiteilijalta tai taiteilijaryhmältä. Kannun hengen taiteilijat ovat Anna Pekkala\, Deos\, EFK\, Jesse Pasanen\, Jubilemus\, Jukka Peltosaari\, Jukka Silokunnas\, JR\, Kummitus\, Maikki Rantala\, Niina Mantsinen\, Pallo\, Rives ja Taneli Stenberg. Lisäksi Kuopion alueen graffiti- ja katutaideosaamista näyttelyssä edustaa Urbaani All Stars muuttuvalla kokonaisuudella. \nNäyttelytila on suunniteltu oleskelua varten. Siihen kuuluu keskelle näyttelyä rakennettu skedealue\, jossa saa vapaasti skeitata ja skuutata. Näyttelytilan suunnittelu ja arkkitehtuuri on toteutettu yhteistyössä Savonia-ammattikorkeakoulun kanssa\, jonka muotoiluopiskelijat ovat suunnitelleet ja toteuttaneet näyttelyelementit. \nKatutaideyhdistys Urbaani ry on kuopiolainen katutaiteen asiantuntijaorganisaatio\, joka tukee\, edistää\, ylläpitää ja dokumentoi Kuopion alueen katutaidetta ja graffitia. Urbaani on järjestänyt Kuopiossa Lainit-katutaidefestivaalia vuodesta 2016 lähtien. \nOpastukseen voi osallistua taidemuseon pääsymaksulla 10/5 €\, alle 18-vuotiaat ilmaiseksi ja museokortti käy maksuvälineeksi.
URL:https://kuopionmuseot.fi/tapahtuma/opastettu-kierros-nayttelyihin-2/2023-08-20/
LOCATION:KUMMA\, Kauppakatu 35\, Kuopio\, 70100
ATTACH;FMTTYPE=image/jpeg:https://kuopionmuseot.fi/wp-content/uploads/2023/05/Kannun-henki-kuva-Mari-Manninen-scaled.jpg
END:VEVENT
END:VCALENDAR