BEGIN:VCALENDAR
VERSION:2.0
PRODID:-//Kuopion museot - ECPv6.15.20//NONSGML v1.0//EN
CALSCALE:GREGORIAN
METHOD:PUBLISH
X-WR-CALNAME:Kuopion museot
X-ORIGINAL-URL:https://kuopionmuseot.fi
X-WR-CALDESC:Tapahtumat Kuopion museot
REFRESH-INTERVAL;VALUE=DURATION:PT1H
X-Robots-Tag:noindex
X-PUBLISHED-TTL:PT1H
BEGIN:VTIMEZONE
TZID:Europe/Helsinki
BEGIN:DAYLIGHT
TZOFFSETFROM:+0200
TZOFFSETTO:+0300
TZNAME:EEST
DTSTART:20220327T010000
END:DAYLIGHT
BEGIN:STANDARD
TZOFFSETFROM:+0300
TZOFFSETTO:+0200
TZNAME:EET
DTSTART:20221030T010000
END:STANDARD
BEGIN:DAYLIGHT
TZOFFSETFROM:+0200
TZOFFSETTO:+0300
TZNAME:EEST
DTSTART:20230326T010000
END:DAYLIGHT
BEGIN:STANDARD
TZOFFSETFROM:+0300
TZOFFSETTO:+0200
TZNAME:EET
DTSTART:20231029T010000
END:STANDARD
BEGIN:DAYLIGHT
TZOFFSETFROM:+0200
TZOFFSETTO:+0300
TZNAME:EEST
DTSTART:20240331T010000
END:DAYLIGHT
BEGIN:STANDARD
TZOFFSETFROM:+0300
TZOFFSETTO:+0200
TZNAME:EET
DTSTART:20241027T010000
END:STANDARD
END:VTIMEZONE
BEGIN:VEVENT
DTSTART;VALUE=DATE:20230605
DTEND;VALUE=DATE:20230610
DTSTAMP:20260419T160106
CREATED:20230328T080932Z
LAST-MODIFIED:20230328T081422Z
UID:10002160-1685923200-1686355199@kuopionmuseot.fi
SUMMARY:Historian jalanjäljillä -kesäleiri (7–9-vuotiaille)
DESCRIPTION:SnellmanEDUn suuren suosion saavuttaneet lastenleirit rantautuvat kesällä 2023 Kuopion museoon. Historian jalanjäljillä -leiri 7–9-vuotiaille järjestetään Kuopion museon tiloissa\, ja kurkistamaan pääsee paitsi historian hämäriin myös suljettuun museoon. \nAika: 5.–9.6.2023\nPaikka: Kuopion museo\nIlmoittautumiset: 17.4. mennessä\nLeirimaksu: 175 € \nJos kiinnostuit\, lue lisää ja ilmoittaudu osoitteessa Historian jalanjäljillä (7-9-vuotiaat) – SnellmanEDU \nKuva: Kuopion Puusepänkatu vuonna 1905. Victor Barsokevitsch / Kuopion kulttuurihistoriallinen museo.
URL:https://kuopionmuseot.fi/tapahtuma/historian-jalanjaljilla-kesaleiri-7-9-vuotiaille/
LOCATION:Kuopion museo
ATTACH;FMTTYPE=image/jpeg:https://kuopionmuseot.fi/wp-content/uploads/2023/03/35014042730_438e103304_o.jpg
END:VEVENT
BEGIN:VEVENT
DTSTART;TZID=Europe/Helsinki:20230606T100000
DTEND;TZID=Europe/Helsinki:20230606T160000
DTSTAMP:20260419T160106
CREATED:20230517T074702Z
LAST-MODIFIED:20230614T083257Z
UID:10002274-1686045600-1686067200@kuopionmuseot.fi
SUMMARY:Puuhapajat
DESCRIPTION:Puuhapajassa askarrellaan vaihtelevilla menetelmillä ja materiaaleilla kaikenlaista pientä kivaa! Työpajat sopivat kaikenikäisille\, lapset aikuisten valvonnassa.  \nVaihteleva työpajamaksu käytetyn tekniikan ja materiaalien mukaan 2–10 €/askartelija.
URL:https://kuopionmuseot.fi/tapahtuma/puuhapajat/2023-06-06/
LOCATION:Kuopion museo
ATTACH;FMTTYPE=image/jpeg:https://kuopionmuseot.fi/wp-content/uploads/2023/05/puuhapaja-scaled.jpg
ORGANIZER;CN="Kuopion museo":MAILTO:kuopionmuseo@kuopio.fi
END:VEVENT
BEGIN:VEVENT
DTSTART;TZID=Europe/Helsinki:20230606T130000
DTEND;TZID=Europe/Helsinki:20230606T150000
DTSTAMP:20260419T160106
CREATED:20230529T100726Z
LAST-MODIFIED:20230529T100726Z
UID:10001981-1686056400-1686063600@kuopionmuseot.fi
SUMMARY:Rintamerkkityöpaja
DESCRIPTION:Tervetuloa suunnittelemaan oma rintamerkki Kuopion taidemuseon Kannun henki -näyttelyssä! \nTyöpajassa suunnittelemme omat rintamerkit kuvituksin ja sanoin. Haemme näyttelystä inspiraatiota ja tyyliä. Merkin saat veloituksetta mukaasi muistoksi. Paja sopii kaikille\, mutta pienimmät osallistuvat yhdessä aikuisen kanssa. \nTyöpajaan voi osallistua taidemuseon pääsymaksulla 10/5 €\, alle 18-vuotiaat ilmaiseksi ja museokortti käy maksuvälineeksi.
URL:https://kuopionmuseot.fi/tapahtuma/rintamerkkityopaja/2023-06-06/
LOCATION:KUMMA\, Kauppakatu 35\, Kuopio\, 70100
ATTACH;FMTTYPE=image/png:https://kuopionmuseot.fi/wp-content/uploads/2023/05/Rintamerkkityopaja-Face-PNG.png
END:VEVENT
BEGIN:VEVENT
DTSTART;TZID=Europe/Helsinki:20230606T180000
DTEND;TZID=Europe/Helsinki:20230606T200000
DTSTAMP:20260419T160106
CREATED:20230504T073057Z
LAST-MODIFIED:20230504T073057Z
UID:10002250-1686074400-1686081600@kuopionmuseot.fi
SUMMARY:Jäkälä- ja hyönteisretki Jynkänvuorelle
DESCRIPTION:Retkellä tutustumme vähemmän tunnettuun\, mutta runsaslajiseen eliöryhmään\, jäkäliin. Tutkimme retkellä myös hyönteisiä. Suurennuslasi tai luppi kannattaa ottaa mukaan\, jos sellaisen omistaa. \nTapaamispaikka: Uppo-Nallen päiväkodin risteys\, Isännäntie 22 \nLisätietoja: 044 718 2658
URL:https://kuopionmuseot.fi/tapahtuma/jakala-ja-hyonteisretki-jynkanvuorelle/
LOCATION:Uppo-Nallen päiväkoti\, Isännäntie 22\, Kuopio\, 70820\, Suomi
ATTACH;FMTTYPE=image/jpeg:https://kuopionmuseot.fi/wp-content/uploads/2023/05/01_Harmaaporonjakala_Cladonia-rangiferina_KJ.jpg
END:VEVENT
BEGIN:VEVENT
DTSTART;TZID=Europe/Helsinki:20230607T120000
DTEND;TZID=Europe/Helsinki:20230607T130000
DTSTAMP:20260419T160106
CREATED:20230604T113956Z
LAST-MODIFIED:20230622T091246Z
UID:10002313-1686139200-1686142800@kuopionmuseot.fi
SUMMARY:Kesäloman Korttelileikit leikkimielisille
DESCRIPTION:Millaisia leikkejä lapset leikkivät ennen? Tule Korttelimuseoon ottamaan selvää! Leikitään yhdessä entisajan leikkejä kesän ajan keskiviikkoisin klo 12–13 (alk. 7.6.\, viimeinen kerta 9.8.). Leikittämässä ja mukana leikkimässä museon henkilökuntaa. Hyvällä säällä leikitään ulkona\, sateella aitassa. \nLapsille ja kaikille leikkimielisille\, ikäsuositus 5+. \nKokoontuminen Korttelimuseon päärakennuksen edessä (rakennus 2). Ei ennakkoilmoittautumista\, maksuton.
URL:https://kuopionmuseot.fi/tapahtuma/kesaloman-korttelileikit-leikkimielisille/2023-06-07/
LOCATION:Korttelimuseo\, Kirkkokatu 22\, Kuopio\, 70100\, Suomi
ATTACH;FMTTYPE=image/jpeg:https://kuopionmuseot.fi/wp-content/uploads/2023/06/Pihaleikit-scaled.jpg
END:VEVENT
BEGIN:VEVENT
DTSTART;TZID=Europe/Helsinki:20230607T140000
DTEND;TZID=Europe/Helsinki:20230607T144500
DTSTAMP:20260419T160106
CREATED:20230419T123554Z
LAST-MODIFIED:20231003T111311Z
UID:10002200-1686146400-1686149100@kuopionmuseot.fi
SUMMARY:Opastus: Wildlife Photographer of the Year
DESCRIPTION:Opastetulla kierroksella pääset sukeltamaan oppaan kanssa pintaa syvemmälle. Näyttelyn upeiden valokuvien kautta tutkitaan maapallomme luonnon herkkää tasapainoa ja sen nykytilaa. Kuinka ympärillämme tapahtuvat muutokset vaikuttavat planeettamme ekosysteemeihin? \nOpastukselle pääset osallistumaan pääsymaksun hinnalla. \nkuva: © Richard Robinson\, Wildlife Photographer of the Year
URL:https://kuopionmuseot.fi/tapahtuma/wildlife-photographer-of-the-year-nayttelyopastus/2023-06-07/
LOCATION:Kuopion museo
ATTACH;FMTTYPE=image/jpeg:https://kuopionmuseot.fi/wp-content/uploads/2023/04/©-Richard-Robinson-Wildlife-Photographer-of-the-Year.jpg
END:VEVENT
BEGIN:VEVENT
DTSTART;TZID=Europe/Helsinki:20230607T150000
DTEND;TZID=Europe/Helsinki:20230607T164500
DTSTAMP:20260419T160106
CREATED:20230517T045305Z
LAST-MODIFIED:20230802T085546Z
UID:10002266-1686150000-1686156300@kuopionmuseot.fi
SUMMARY:Geologia-kävelykierros: Valkeisenlampi
DESCRIPTION:Geologia-kävelykierros Kuopion museolta: Valkeisenlampi – muinaisesta suosta kaupunkikeitaaksi.  \nKävelykierroksella tutustutaan Valkeisenlammen kiehtovaan geologiseen kehityshistoriaan ja Kuopion alueen kallioperän ja maaperän syntyyn sekä muinaisen Valkeissuon tutkijoihin. \nKävelykierrokselle lähdetään Kuopion museolta (Museokatu 1) ja kierros päättyy Valkeisenlammelle.  \nKierroksen kesto on noin 1 t 45 min\, kävelyä n. 3 km. \nHinta 8 €/aikuinen. Maksu suoritetaan ennen kävelykierrosta Kuopion museon asiakaspalvelupisteellä.  \nValkeisenlampi – muinaisesta suosta kaupunkikeitaaksi -kierrokset ovat ke 7.6.\, 5.7. ja 2.8. klo 15\nVäinölänniemi – harjumaisemia ja kaupunkiluontoa – koko perheen kierrokset ovat ke 21.6.\, 19.7. ja 16.8. klo 15 \nHuomioithan säänmukaisen pukeutumisen. Säävaraus. \n 
URL:https://kuopionmuseot.fi/tapahtuma/geologia-kavelykierros-valkeisenlampi/2023-06-07/
LOCATION:Kuopion museo
ATTACH;FMTTYPE=image/jpeg:https://kuopionmuseot.fi/wp-content/uploads/2023/05/Geologiakavely-suunnikas.jpg
END:VEVENT
BEGIN:VEVENT
DTSTART;TZID=Europe/Helsinki:20230607T170000
DTEND;TZID=Europe/Helsinki:20230607T200000
DTSTAMP:20260419T160106
CREATED:20230504T073832Z
LAST-MODIFIED:20230515T071155Z
UID:10002258-1686157200-1686168000@kuopionmuseot.fi
SUMMARY:Villiyrttikävely
DESCRIPTION:Tutustumme yleisimpiin syötäviin luonnonkasveihin ja niiden käyttöön sekä valmistamme niistä pientä purtavaa laavulla. Ota mukaan puutarhakäsineet tms.\, sekä sakset ja keräilykori/paperipusseja. Max. 20 hlöä. Ennakkoilmoittautuminen: https://www.kuntapalvelut.fi/kuopio/ \nTapaamispaikka: Pilpantien päässä oleva iso parkkipaikka \nLisätietoja: puh. 040 573 8205
URL:https://kuopionmuseot.fi/tapahtuma/villiyrttikavely-3/
LOCATION:Pilpantien pään parkkipaikka
ATTACH;FMTTYPE=image/jpeg:https://kuopionmuseot.fi/wp-content/uploads/2021/04/MG_1842-scaled.jpg
END:VEVENT
BEGIN:VEVENT
DTSTART;TZID=Europe/Helsinki:20230608T140000
DTEND;TZID=Europe/Helsinki:20230608T141500
DTSTAMP:20260419T160106
CREATED:20230122T120319Z
LAST-MODIFIED:20230513T125009Z
UID:10002104-1686232800-1686233700@kuopionmuseot.fi
SUMMARY:Jalkapalloa ja kunnian kenttiä -korttelivartti
DESCRIPTION:Jalkapalloa ja kunnian kenttiä -korttelivartti \nKuinka jalkapallotoiminta laitettiin alulle Pohjois-Savossa? Miten paikalliset seurat ovat kasvaneet ja kehittyneet? Miten naisjalkapalloilu buumi syntyi? Kuinka juniorityöhön on aikojen saatossa panostettu? Näihin kysymyksiin saat vastauksia korttelivarteilla\, eli noin viiteentoista minuuttiin tiivistetyillä napakoilla tietoiskuilla\, joita järjestetään kuukausittain Kuopion korttelimuseon Jalkapalloa ja kunnian kenttiä -näyttelyssä. \nKorttelivartit kuuluvat museon pääsymaksuun (8/5 €\, alle 18-vuotiaat maksutta\, Museokortti). \nKorttelivartit \nKorttelivartti torstaina 16.2. klo 14.00:\nNaisjalkapalloilun historiaa Kuopiossa \nKorttelivartti torstaina 9.3. klo 14.00:\nJuniorijalkapalloilun historiaa Kuopiossa \nKorttelivartti torstaina 20.4. klo 14.00:\nJalkapalloilun alku Kuopiossa \nKorttelivartti torstaina 11.5. klo 14.00:\nNaisjalkapalloilun historiaa Kuopiossa \nKorttelivartti torstaina 8.6. klo 14.00:\nJuniorijalkapalloilun historiaa Kuopiossa \nKorttelivartti torstaina 10.8. klo 14.00:\nJalkapalloilun alku Kuopiossa \nKorttelivartti torstaina 14.9. klo 14.00:\nNaisjalkapalloilun historiaa Kuopiossa \n  \nJalkapalloa ja kunnian kenttiä – pohjoissavolaista jalkapallohistoriaa 18.11.2022–17.9.2023 \nNäyttely luo kuvan maakunnan jalkapalloilun ja sen ympärille muodostuneen fanikulttuurin kehityksestä. Kokonaisuus sisältää esineistöä sekä maakunnan jalkapalloseuroilta että nykyisiltä ja entisiltä pelaajilta. Näyttelyssä jalkapalloilun historiaan syvennytään maakunnan mielenkiintoisimpien pelikenttien\, legendaaristen pelaajien ja ansiokkaan kasvattajaseuratyön kautta. Näyttelyssä seurataan KuPSin nousua takaisin suomalaisen jalkapalloilun terävimpään kärkeen ja vieraillaan tuon nousun mahdollistaneilla maakunnan tähtikasvattamoilla. Näyttely avaa jalkapallokulttuuria myös varusteiden ja lajin kehityksen näkökulmasta. \nNäyttely perustuu vuonna 2020 ilmestyneeseen teokseen Kunnian kentät – kirja savolaisista jalkapallopyhätöistä.
URL:https://kuopionmuseot.fi/tapahtuma/2975/2023-06-08/
LOCATION:Korttelimuseo\, Kirkkokatu 22\, Kuopio\, 70100\, Suomi
ATTACH;FMTTYPE=image/jpeg:https://kuopionmuseot.fi/wp-content/uploads/2023/02/jalkapalloa_slider-kopio.jpg
END:VEVENT
BEGIN:VEVENT
DTSTART;TZID=Europe/Helsinki:20230608T173000
DTEND;TZID=Europe/Helsinki:20230608T193000
DTSTAMP:20260419T160106
CREATED:20230504T080426Z
LAST-MODIFIED:20230504T080426Z
UID:10001948-1686245400-1686252600@kuopionmuseot.fi
SUMMARY:Luonnontutkijat vauhdissa
DESCRIPTION:Tuhannet lajit Suomen luonnossa haastavat harjoittelemaan lajintunnistusta. Retkellä kokeillaan iNaturalist-sovellusta ja koetetaan löytää mahdollisimman monta lajia. Oma älykännykkä mukaan. Aikaisempaa lajintuntemusharrastusta ei tarvita. \nTapaamispaikka: Särkiniemen uimaranta\, Särkiniemenkuja \nLisätietoja: puh. 044 718 1543
URL:https://kuopionmuseot.fi/tapahtuma/luonnontutkijat-vauhdissa/
LOCATION:Särkiniemen uimaranta
ATTACH;FMTTYPE=image/jpeg:https://kuopionmuseot.fi/wp-content/uploads/2023/05/iNaturalist_02.jpg
END:VEVENT
BEGIN:VEVENT
DTSTART;TZID=Europe/Helsinki:20230610T130000
DTEND;TZID=Europe/Helsinki:20230610T140000
DTSTAMP:20260419T160106
CREATED:20230601T110715Z
LAST-MODIFIED:20230601T110715Z
UID:10002298-1686402000-1686405600@kuopionmuseot.fi
SUMMARY:Korttelin kesäinen piha -opastukset
DESCRIPTION:Millaista sakkia Korttelimuseon pihapiirissä ja sen ympäristössä on aikojen saatossa astellut? Mitähän kaikkea pihalla on puuhattu\, millaiselta piha on näyttänyt? Muun muassa tällaisia seikkoja pohditaan Korttelin kesäinen piha -opastuksella! \nKorttelin kesäinen piha -opastukset keskittyvät kertomaan ennen kaikkea pihapiirin tarinaa\, vaikka myös joissain museokodeissa saatetaan piipahtaa sisällä. Opastuksilla on kuitenkin säävaraus: mikäli taivaalta satelee kovastikin vettä tai perisuomalaiseen kesätyyliin räntää ja rakeita\, opastus kiertää sisätiloissa museokoteihin ja niiden asukkaisiin tutustuen. \nOpastuksella vierähtää noin 45 minuuttia. Tämän jälkeen\, sään salliessa\, suosittelemme tutustumaan Korttelimuseon pihalla käytettävissä oleviin peleihin ja leikkivälineisiin! \nTervetuloa!
URL:https://kuopionmuseot.fi/tapahtuma/korttelin-kesainen-piha-opastukset/2023-06-10/
LOCATION:Korttelimuseo\, Kirkkokatu 22\, Kuopio\, 70100\, Suomi
ATTACH;FMTTYPE=image/jpeg:https://kuopionmuseot.fi/wp-content/uploads/2022/07/matonpuistelu.jpg
END:VEVENT
BEGIN:VEVENT
DTSTART;TZID=Europe/Helsinki:20230611T140000
DTEND;TZID=Europe/Helsinki:20230611T150000
DTSTAMP:20260419T160106
CREATED:20230529T064834Z
LAST-MODIFIED:20230529T065344Z
UID:10001962-1686492000-1686495600@kuopionmuseot.fi
SUMMARY:Opastettu kierros näyttelyihin
DESCRIPTION:Kuopion taidemuseolla järjestetään avoimia opastuksia näyttelyihin joka sunnuntai klo 14 27.8.2023 asti. \nKannun henki on ennennäkemätön kaupunkitaiteen moninaisuutta käsittelevä näyttely. Esillä on laaja kirjo teoksia taidemuseon seiniin maalatuista tekstipohjaisista graffiteista suuriin katutaideteoksiin ja veistoksiin\, sekä Urbaanin tallentamaa\, kuopiolaista graffitiskeneä avaavaa dokumentaarista aineistoa. Kannun henki on Kuopion taidemuseon ja Katutaideyhdistys Urbaani ry:n yhteistyönäyttely. \nNäyttely esittelee kaupunkitaiteen eri tyylisuuntia edustavia eturivin taiteilijoita ympäri Suomea: Teoksia on esillä 14 eri taiteilijalta tai taiteilijaryhmältä. Kannun hengen taiteilijat ovat Anna Pekkala\, Deos\, EFK\, Jesse Pasanen\, Jubilemus\, Jukka Peltosaari\, Jukka Silokunnas\, JR\, Kummitus\, Maikki Rantala\, Niina Mantsinen\, Pallo\, Rives ja Taneli Stenberg. Lisäksi Kuopion alueen graffiti- ja katutaideosaamista näyttelyssä edustaa Urbaani All Stars muuttuvalla kokonaisuudella. \nNäyttelytila on suunniteltu oleskelua varten. Siihen kuuluu keskelle näyttelyä rakennettu skedealue\, jossa saa vapaasti skeitata ja skuutata. Näyttelytilan suunnittelu ja arkkitehtuuri on toteutettu yhteistyössä Savonia-ammattikorkeakoulun kanssa\, jonka muotoiluopiskelijat ovat suunnitelleet ja toteuttaneet näyttelyelementit. \nKatutaideyhdistys Urbaani ry on kuopiolainen katutaiteen asiantuntijaorganisaatio\, joka tukee\, edistää\, ylläpitää ja dokumentoi Kuopion alueen katutaidetta ja graffitia. Urbaani on järjestänyt Kuopiossa Lainit-katutaidefestivaalia vuodesta 2016 lähtien. \nOpastukseen voi osallistua taidemuseon pääsymaksulla 10/5 €\, alle 18-vuotiaat ilmaiseksi ja museokortti käy maksuvälineeksi.
URL:https://kuopionmuseot.fi/tapahtuma/opastettu-kierros-nayttelyihin-2/2023-06-11/
LOCATION:KUMMA\, Kauppakatu 35\, Kuopio\, 70100
ATTACH;FMTTYPE=image/jpeg:https://kuopionmuseot.fi/wp-content/uploads/2023/05/Kannun-henki-kuva-Mari-Manninen-scaled.jpg
END:VEVENT
END:VCALENDAR