BEGIN:VCALENDAR
VERSION:2.0
PRODID:-//Kuopion museot - ECPv6.15.20//NONSGML v1.0//EN
CALSCALE:GREGORIAN
METHOD:PUBLISH
X-WR-CALNAME:Kuopion museot
X-ORIGINAL-URL:https://kuopionmuseot.fi
X-WR-CALDESC:Tapahtumat Kuopion museot
REFRESH-INTERVAL;VALUE=DURATION:PT1H
X-Robots-Tag:noindex
X-PUBLISHED-TTL:PT1H
BEGIN:VTIMEZONE
TZID:Europe/Helsinki
BEGIN:DAYLIGHT
TZOFFSETFROM:+0200
TZOFFSETTO:+0300
TZNAME:EEST
DTSTART:20220327T010000
END:DAYLIGHT
BEGIN:STANDARD
TZOFFSETFROM:+0300
TZOFFSETTO:+0200
TZNAME:EET
DTSTART:20221030T010000
END:STANDARD
BEGIN:DAYLIGHT
TZOFFSETFROM:+0200
TZOFFSETTO:+0300
TZNAME:EEST
DTSTART:20230326T010000
END:DAYLIGHT
BEGIN:STANDARD
TZOFFSETFROM:+0300
TZOFFSETTO:+0200
TZNAME:EET
DTSTART:20231029T010000
END:STANDARD
BEGIN:DAYLIGHT
TZOFFSETFROM:+0200
TZOFFSETTO:+0300
TZNAME:EEST
DTSTART:20240331T010000
END:DAYLIGHT
BEGIN:STANDARD
TZOFFSETFROM:+0300
TZOFFSETTO:+0200
TZNAME:EET
DTSTART:20241027T010000
END:STANDARD
END:VTIMEZONE
BEGIN:VEVENT
DTSTART;TZID=Europe/Helsinki:20230522T180000
DTEND;TZID=Europe/Helsinki:20230522T200000
DTSTAMP:20260419T162422
CREATED:20230504T071314Z
LAST-MODIFIED:20230504T071314Z
UID:10002243-1684778400-1684785600@kuopionmuseot.fi
SUMMARY:Liito-oravaretki
DESCRIPTION:Tule tutustumaan liito-oravan elinympäristöön! Mitä liito-oravat syövät ja miten ne liitävät? Kävelemme isoja polkuja pitkin n. 2 km. Lastenrattailla kulku onnistuu myös. \nTapaamispaikka: Jynkän koulun parkkipaikka\, Maitotie 2 \nLisätietoja: puh. 040 573 8205
URL:https://kuopionmuseot.fi/tapahtuma/liito-oravaretki/
LOCATION:Jynkän koulu\, Maitotie 2\, Kuopio\, 70780\, Suomi
ATTACH;FMTTYPE=image/jpeg:https://kuopionmuseot.fi/wp-content/uploads/2021/04/09_Rainer-Carpelan-VastavaloFi_Flying-squirrel_looking-from-a-cavity-1024x683-1.jpg
END:VEVENT
BEGIN:VEVENT
DTSTART;TZID=Europe/Helsinki:20230524T140000
DTEND;TZID=Europe/Helsinki:20230524T144500
DTSTAMP:20260419T162422
CREATED:20230419T123554Z
LAST-MODIFIED:20231003T111311Z
UID:10002199-1684936800-1684939500@kuopionmuseot.fi
SUMMARY:Opastus: Wildlife Photographer of the Year
DESCRIPTION:Opastetulla kierroksella pääset sukeltamaan oppaan kanssa pintaa syvemmälle. Näyttelyn upeiden valokuvien kautta tutkitaan maapallomme luonnon herkkää tasapainoa ja sen nykytilaa. Kuinka ympärillämme tapahtuvat muutokset vaikuttavat planeettamme ekosysteemeihin? \nOpastukselle pääset osallistumaan pääsymaksun hinnalla. \nkuva: © Richard Robinson\, Wildlife Photographer of the Year
URL:https://kuopionmuseot.fi/tapahtuma/wildlife-photographer-of-the-year-nayttelyopastus/2023-05-24/
LOCATION:Kuopion museo
ATTACH;FMTTYPE=image/jpeg:https://kuopionmuseot.fi/wp-content/uploads/2023/04/©-Richard-Robinson-Wildlife-Photographer-of-the-Year.jpg
END:VEVENT
BEGIN:VEVENT
DTSTART;TZID=Europe/Helsinki:20230524T170000
DTEND;TZID=Europe/Helsinki:20230524T180000
DTSTAMP:20260419T162422
CREATED:20230517T124957Z
LAST-MODIFIED:20230517T124957Z
UID:10001957-1684947600-1684951200@kuopionmuseot.fi
SUMMARY:Kuopion rullalautailijoiden skeittausopastusta Kuopion taidemuseolla
DESCRIPTION:Keskiviikkona 24.5. klo 17–18 Kuopion taidemuseolla pääsee opettelemaan skeittausta Kuopion rullalautailijoiden huomassa. Ohjaajina toimivat Maiju Kemppainen\, Anna Istolainen ja Lauri Vartia. Skeittausopastus on tarkoitettu kaikenikäisille. \nOpastus järjestetään taidemuseon näyttelytilaan Kannun Henki -näyttelyä varten rakennetulla skedealueella. Taidemuseolta löytyy myös lainavälineitä\, mutta omat lauta on hyvä ottaa mukaan\, jos sellainen löytyy. Alle 18-vuotiaita pyydämme pitämään kypärää. \nOpastukselle voi osallistua taidemuseon pääsymaksulla 10/5 €\, alle 18-vuotiaat ilmaiseksi ja museokortti käy maksuvälineeksi.
URL:https://kuopionmuseot.fi/tapahtuma/kuopion-rullalautailijoiden-skeittausopastusta-kuopion-taidemuseolla/
LOCATION:KUMMA\, Kauppakatu 35\, Kuopio\, 70100
ATTACH;FMTTYPE=image/jpeg:https://kuopionmuseot.fi/wp-content/uploads/2023/05/3.jpg
END:VEVENT
BEGIN:VEVENT
DTSTART;TZID=Europe/Helsinki:20230524T173000
DTEND;TZID=Europe/Helsinki:20230524T190000
DTSTAMP:20260419T162422
CREATED:20230414T044654Z
LAST-MODIFIED:20230508T111357Z
UID:10002214-1684949400-1684954800@kuopionmuseot.fi
SUMMARY:Talon huoltokävely
DESCRIPTION:Pohditko\, mitä tulee ottaa huomioon vanhojen talojen huollon ja korjausten osalta? Nyt pulmaan on tarjolla tuhti tietopaketti. Tule mukaan huoltokävelylle\, jossa Kuopion kulttuurihistoriallisen museon restaurointiasiantuntija Teemu Kuivalainen neuvoo ja opastaa käytännössä\, mitä tulee tietää vanhan talon huoltotoimenpiteistä. Kesto noin 1\,5 h. Vapaa pääsy.  \nTapahtuma on osa Euroopan kulttuuriympäristöpäiviä.
URL:https://kuopionmuseot.fi/tapahtuma/talon-huoltokavely/
LOCATION:Korttelimuseo\, Kirkkokatu 22\, Kuopio\, 70100\, Suomi
ATTACH;FMTTYPE=image/jpeg:https://kuopionmuseot.fi/wp-content/uploads/2023/04/Korttelimuseo-1.jpg
END:VEVENT
BEGIN:VEVENT
DTSTART;VALUE=DATE:20230526
DTEND;VALUE=DATE:20230528
DTSTAMP:20260419T162422
CREATED:20230426T091127Z
LAST-MODIFIED:20230526T081844Z
UID:10002242-1685059200-1685231999@kuopionmuseot.fi
SUMMARY:Nuori Kulttuuri Festival Kuopio 2023
DESCRIPTION:Kuopiossa järjestettävä Nuori Kulttuuri Festival on vuoden merkittävin nuorten monitaidetapahtuma. Kymmenien toimijoiden yhteinen ponnistus kokoaa yhteen 13–29-vuotiaat taideharrastajat ympäri Suomen\, jotta he voivat jakaa lahjakkuutensa\, luovuutensa ja intohimonsa monipuolisella tavalla. Festivaali esittelee ainutlaatuisia ja monipuolisia taide-esityksiä\, jotka koostuvat mm. teatterista\, katutanssista\, kuvataiteesta\, skeittauksesta ja monesta muusta sisällöstä. \nTapahtuma järjestetään eri puolilla Kuopiota\, mukaan lukien Kuopion kaupungin museokohteet\, Kuopion kaupunginteatteri\, Kulttuuriareena 44 sekä kirjasto. \nTapahtumaan on vapaa pääsy\, joten kaikki ovat tervetulleita nauttimaan nuorten taiteilijoiden taidonnäytteistä. Festivaalin tavoitteena on rohkaista nuoria ilmaisemaan itseään taiteen avulla ja kannustaa heitä kehittämään taitojaan. Tämä on ainutlaatuinen tilaisuus kokea nuorten kulttuurin voima ja sen potentiaali. \nKuopion kaupungin museokohteisiin on vapaa pääsy sekä perjantaina että lauantaina. Kuopion museo on avoinna pe 26.5. klo 10-18 (pidennetty aukiolo) ja la 27.5. klo 10-17.\n_______ \nPE 26.5.\nKuopion taidemuseo \n13:00–14:30 Nuori Taide Katutaidepaja (HUOM! Työpajaan on ennakkoilmoittautuminen)\n17:00-19:00 Graffitimaalaustyöpaja with Urbaani ry \nKuopion museo\n15:00-16.30 Roskasta Soinnuksi pop up -paja with Heta Suominen\n16:00 -18:00 Taidevoima pop up -paja With Andrea Puscasu \nMuseon edustalla Maaherrankadulla (Kuopion museo & Kuopion kaupunginkirjasto)\n15:00-19:00 Skeittitapahtuma with Kuopion Rullalautayhdistys ry\n18:00-19:00 ”Best trick” -skeittikilpailu. Kilpailussa on kaksi sarjaa\, yli ja alle 18-vuotiaat. Ilmoittautuminen paikan päällä\, osallistuminen on maksutonta.\n________\n \nLA 27.5.\nKuopion taidemuseo\n10:00-17:00 Graffitimaalaustyöpaja with Urbaani ry\n12:00 Kansalaisopiston katutanssiryhmä esiintyy\n12:30-14:30 Freestylerap -paja with NikoNova \nKuopion museo\n10:00-15:00 Mysteeripeli\n11:00-16:00 Luova Lava Goes Museodraama \nKuopion korttelimuseo\n11:00-14:00 Sukellus sirkusvälineisiin with Kuopion Sirkus\n12:00-15:00 Luova Lava goes Museodraama\n12:00 alkaen Roskasta Soinnuksi pop up -paja with Heta Suominen\n13:00-17:00 Piilosilla-näyttely sekä hyönteishotelli pop up -paja with Emma Grönfors \nFestivaalijärjestäjä suosittelee ajantasaisen ohjelman seuraamista Evento-sovelluksesta:\n1. EVENTOS-appin lataus Google Playsta tai AppStoresta\n2. App kysyy pinkoodia: 7676 \nLisätietoja myös Nuori Kulttuuri Festival -tapahtuman kotisivuilta \n_____________\nTARKEMMAT KUVAUKSET SISÄLLÖISTÄ MUSEOISSA:\nNuori Taide Katutaidepaja \nTyöpajassa tutustutaan Kannun henki -katutaidenäyttelyyn ja tehdään tarroja. Tarra on suosittu katutaiteen elementti. Tarroja voi liimata esimerkiksi kaupunkitilaan. Katutaiteelle tyypillisesti myös tarrat ovat kaupunkitilassa väliaikaisia. Kuka tahansa voi tehdä toisen teoksen päälle uuden teoksen. Työpaja on kohdennettu 13-29-vuotiaille taiteentekijöille\, jotka tarvitsevat työskentelyssään erityistä tukea. Voit osallistua työpajaan yhdessä̈ avustajan tai ohjaajan kanssa. Työpajaan mahtuu 8 osallistujaa. Työpajassa noudatetaan turvallisen tilan ja syrjinnästä vapaan alueen periaatteita. Työpaja on maksuton ja sisältää materiaalit. Työpajassa käytetään katutaiteen tekniikoissa suosittuja tusseja. Tusseista saattaa tulla voimakas tuoksu. Työpajan ohjaa yhteisötaiteilija Johanna Rossi. Ilmoittautuminen p. 017 182 633\, Kuopion taidemuseon asiakaspalvelu \nRoskasta Soinnuksi pop up -paja with Heta Suominen\nTyöpajassa tehdään kierrätysmateriaaleista\, kuten limutölkeistä ja valmisruokien muoviastioista erilaisia soittimia.. Tarvikkeina käytetään enimmäkseen teippiä\, riisiä\, kuivia herneitä ja kuminauhoja. Osallistujat voivat tehdä esimerkiksi omia rumpuja ja shakereita tarvikkeista. Teen valmiiksi muutaman mallisoittimen\, mutta osallistujat saavat vapaasti tehdä myös soittimia annetuista välineistä. Ohjaaja näyttää myös osallistujalle esimerkkejä miten eri materiaaleilla saa aikaan erilaisia ääniä ja auttaa heitä rakentamaan toimivia soittimia. Ohjaaja ohjaa osittain soittoa työn kanssa antamalla esimerkkejä rytmeistä\, mitä voi soittaa. \nTaidevoima pop up -paja With Andrea Puscasu\nTaideprojektin ”Taidevoiman” perimmäisenä tavoitteena on tutkia miten taide vaikuttaa ihmisten yhdistämiseen. Miten kielimuuriin törmätessä elekielen lisäksi lingua francana voi kenties käyttää taidetta\, ja miten taiteen luominen voi olla keino käsitellä patoutuneita tunteita ja prosessoida tapahtunutta positiivisen kautta. Kulkusuuntana on luoda edellytyksiä vapaalle ja moniääniselle taiteelle ja toimia äänitorvena tarpeille ja toiveille. Maalauspajassa muun muassa: -poistetaan valkoisen paperin kammon blokkia -puretaan turhautumista ja ärtymystä -maalataan ihania rakkaiden kanssa koettuja hetkiä\, jotka haluaisi mahdollistaa kaikille -tehdään yhteistyössä taidetta mielikuvituksen avulla -rentoudutaan ja pidetään yhdessä hauskaa \nGraffitimaalaustyöpaja with Urbaani ry\nTyöpajassa tutustutaan spraymaalin kanssa työskentelyyn ja kokeillaan maalaamista taidemuseon pihalla olevaan vaneriseinään Mikko Parviaisen ohjauksessa. Katutaideyhdistys Urbaani ry (http://urbaani.org)\, tuttavallisemmin Urbaani\, on Kuopion seudun katutaiteen ja graffitin tukemiseksi\, edistämiseksi\, ylläpitämiseksi ja tallentamiseksi perustettu yhdistys. Yhdistys perustettiin keväällä 2015 Mikko Parviaisen alkuvuodesta 2010 perustaman Urbaani.org :in pohjalle\, jonka toimintaan kuului alueen urbaaniin kulttuurin ilmiöistä tiedottaminen\, sekä katutaiteen dokumentointi ja katseltavaksi saattaminen. Yhdistyksen toimintaan kuuluu muun muassa Kuopion seudun katutaiteen dokumentointitoimintaa\, tapahtumien ja työpajojen järjestämistä ja katutaidetta edistävien aloitteiden tekoa. \nFreestylerap -paja with NikoNova\nKuopiossa pitkään pyörineen Freestyle Or Die -klubin järjestäjät DJ RR & Niko Nova tutustuttaa sinut improvisoidun räpin maailmaan. DJ soittaa taustalle biittejä samalla kun Niko antaa vinkkejä\, kuinka tyylit lentelee vapaasti improten. Annetaan siis riimien lentää ja flown virrata! \nMysteeripelit\nNuori Kulttuuri -festivaalilla esittelyssä ensi kertaa nuorten kanssa yhteistyössä kehitetty mysteeripeli Kuopion museon pysyvien näyttelyiden tiloissa. Pystytkö ratkaisemaan arvoituksen? \nTiesitkö\, että museolla on käytössään myös verkkosisältöjä? Verkkopelien maailmassa voit päästä esimerkiksi seikkailulle esihistorialliseen Savoon tai nähdä Kuopion Minna Canthin silmin. Osaa peleistä voit pelata samalla kun tutustut kaupungin keskustan alueeseen uudelta kantilta ja osaa pääsee pelaamaan jopa kotoa käsin. Tule museolle tutustumaan verkkosisältöihin\, pelit soveltuvat kaikenikäisille ja niitä voi pelata yksin tai yhdessä! \nLuova Lava Goes Museodraama\nTule ja koe kuinka museon näyttelyt muuttuvat eläväksi. Kohtaa museossa hahmoja ja sukella heidän kanssaan eri aikakausiin. Vaikutus kohtaamisista ja tee luova tuotos museovierailustasi. \nPiilosilla-näyttely sekä hyönteishotelli pop up -paja with Emma Grönfors\nTyöpajassa pääset luomaan ikioman hyönteishotellisi nuoren kuvataiteilijan johdolla! Hyönteisten elintilat hupenevat entisestään\, ja sen seurauksena hyönteisiä on koko ajan vähemmän ja vähemmän. Nyt onkin aika toimia! Tule luomaan oma hyönteismajapaikkasi ja kanna kortesi kekoon hyvän asian puolesta muurahaisen tavoin.   \nVoit hyödyntää hyönteishotellipajassa\, kotoasi tuotuja luonnonmateriaaleja tai tukeutua paikan päälliseen tarjontaan. Työpajan ideana on varsinaisen hyönteishotellin rakentamisen lisäksi tutkia omaa suhtautumista hyönteisiin sekä ympäröivään luontoon ja selvittää hyönteisten merkitystä elämän kannalta.  \nTyöpajan lisäksi on mahdollista päästä tutustumaan pajan vetäjän Emma Grönforsin Piilosilla -taidenäyttelyyn\, jossa valokeilaan pääsevät Suomen hyönteiset sekä muut pienet eliöt! \nSukellus sirkusvälineisiin with Kuopion Sirkus\nKuopion Sirkuksen avoimessa non stop-työpajassa osallistujat pääsevät sukeltamaan sirkusvälineiden ihmeelliseen maailmaan omaan tahtiin kiertäen! Luvassa mm. tasapainoa haastavaa taiteilua nuoralla\, aivonystyröitä herättelevää jongleerausta sekä hupaisaa hulavannetaiteilua. Ohjaaja opastaa sirkusrastien tekniikoihin. Sopii kaikenikäisille. Alle kouluikäisillä tulee olla oma huoltaja mukana. Tervetuloa kokeilemaan sirkusta!
URL:https://kuopionmuseot.fi/tapahtuma/nuori-kulttuuri-festival-kuopio-2023/
ATTACH;FMTTYPE=image/jpeg:https://kuopionmuseot.fi/wp-content/uploads/2023/04/NKF2023-Kuopio-keltainen-somenelio.jpg
END:VEVENT
BEGIN:VEVENT
DTSTART;TZID=Europe/Helsinki:20230527T130000
DTEND;TZID=Europe/Helsinki:20230527T134500
DTSTAMP:20260419T162422
CREATED:20230127T153537Z
LAST-MODIFIED:20230815T103705Z
UID:10002126-1685192400-1685195100@kuopionmuseot.fi
SUMMARY:Jalkapalloa ja kunnian kenttiä -näyttelyopastus
DESCRIPTION:Jalkapalloa ja kunnian kenttiä -näyttelyopastuksella pääset tutustumaan pohjoissavolaisen jalkapalloilun historiaan. Näyttelyssä syvennytään pelivälineiden kehitykseen varhaisista jalkapalloista ja nappulakengistä lähtien. Esillä on 11 savolaista pelikenttää\, joilla on jokaisella oma mielenkiintoinen historiansa. Näyttelyssä seurataan tänä vuonna 100-vuotta täyttävän Kuopion Palloseuran kehitystä takaisin suomalaisen jalkapalloilun terävimpään kärkeen. Nähtävillä on esineistöä sekä maakunnan jalkapalloseuroilta että entisiltä ja nykyisiltä pelaajilta. \nOpastus sisältyy pääsymaksun hintaan (8 / 5 €\, Museokortti\, alle 18-vuotiaat maksutta). Kesto noin 30–45 minuuttia. \nNäyttely perustuu vuonna 2020 ilmestyneeseen teokseen Kunnian kentät – kirja savolaisista jalkapallopyhätöistä. \nOpastukset kesällä:\nLa 27.5.2023 klo 13\nLa 17.6.2023 klo 13\nLa 1.7.2023 klo 13\nLa 22.7.2023 klo 13\nLa 5.8.2023 klo 13\nLa 19.8.2023 klo 13\nLa 16.9.2023 klo 13
URL:https://kuopionmuseot.fi/tapahtuma/jalkapalloa-ja-kunnian-kenttia-nayttelyopastus-2023-02-25/2023-05-27/
LOCATION:Korttelimuseo\, Kirkkokatu 22\, Kuopio\, 70100\, Suomi
ATTACH;FMTTYPE=image/jpeg:https://kuopionmuseot.fi/wp-content/uploads/2023/01/KuPS-Koparit-1985-scaled.jpg
END:VEVENT
BEGIN:VEVENT
DTSTART;TZID=Europe/Helsinki:20230528T100000
DTEND;TZID=Europe/Helsinki:20230528T140000
DTSTAMP:20260419T162422
CREATED:20230419T122729Z
LAST-MODIFIED:20230504T072302Z
UID:10002215-1685268000-1685282400@kuopionmuseot.fi
SUMMARY:Ötökkäpönttöjä ja hyönteishotelleja
DESCRIPTION:Tule rakentamaan pihapiirin ja kasvimaan hyödyllisille hyönteisille koti! Työpaja pidetään ulkona\, varaudu vaattein\, jotka saavat likaantua. \nRajoitettu osallistujamäärä\, ilmoittautumiset: p. 017 182 625 tai korttelimuseo@kuopio.fi  Työpaja on maksuton ja valmiin hyönteishotellin saat mukaasi.
URL:https://kuopionmuseot.fi/tapahtuma/otokkaponttoja-ja-hyonteishotelleja/
LOCATION:Korttelimuseo\, Kirkkokatu 22\, Kuopio\, 70100\, Suomi
ATTACH;FMTTYPE=image/jpeg:https://kuopionmuseot.fi/wp-content/uploads/2023/04/Hyonteishotelli.jpg
END:VEVENT
END:VCALENDAR