BEGIN:VCALENDAR
VERSION:2.0
PRODID:-//Kuopion museot - ECPv6.15.20//NONSGML v1.0//EN
CALSCALE:GREGORIAN
METHOD:PUBLISH
X-WR-CALNAME:Kuopion museot
X-ORIGINAL-URL:https://kuopionmuseot.fi
X-WR-CALDESC:Tapahtumat Kuopion museot
REFRESH-INTERVAL;VALUE=DURATION:PT1H
X-Robots-Tag:noindex
X-PUBLISHED-TTL:PT1H
BEGIN:VTIMEZONE
TZID:Europe/Helsinki
BEGIN:DAYLIGHT
TZOFFSETFROM:+0200
TZOFFSETTO:+0300
TZNAME:EEST
DTSTART:20220327T010000
END:DAYLIGHT
BEGIN:STANDARD
TZOFFSETFROM:+0300
TZOFFSETTO:+0200
TZNAME:EET
DTSTART:20221030T010000
END:STANDARD
BEGIN:DAYLIGHT
TZOFFSETFROM:+0200
TZOFFSETTO:+0300
TZNAME:EEST
DTSTART:20230326T010000
END:DAYLIGHT
BEGIN:STANDARD
TZOFFSETFROM:+0300
TZOFFSETTO:+0200
TZNAME:EET
DTSTART:20231029T010000
END:STANDARD
BEGIN:DAYLIGHT
TZOFFSETFROM:+0200
TZOFFSETTO:+0300
TZNAME:EEST
DTSTART:20240331T010000
END:DAYLIGHT
BEGIN:STANDARD
TZOFFSETFROM:+0300
TZOFFSETTO:+0200
TZNAME:EET
DTSTART:20241027T010000
END:STANDARD
END:VTIMEZONE
BEGIN:VEVENT
DTSTART;TZID=Europe/Helsinki:20230510T140000
DTEND;TZID=Europe/Helsinki:20230510T144500
DTSTAMP:20260419T190232
CREATED:20230419T123554Z
LAST-MODIFIED:20231003T111311Z
UID:10002198-1683727200-1683729900@kuopionmuseot.fi
SUMMARY:Opastus: Wildlife Photographer of the Year
DESCRIPTION:Opastetulla kierroksella pääset sukeltamaan oppaan kanssa pintaa syvemmälle. Näyttelyn upeiden valokuvien kautta tutkitaan maapallomme luonnon herkkää tasapainoa ja sen nykytilaa. Kuinka ympärillämme tapahtuvat muutokset vaikuttavat planeettamme ekosysteemeihin? \nOpastukselle pääset osallistumaan pääsymaksun hinnalla. \nkuva: © Richard Robinson\, Wildlife Photographer of the Year
URL:https://kuopionmuseot.fi/tapahtuma/wildlife-photographer-of-the-year-nayttelyopastus/2023-05-10/
LOCATION:Kuopion museo
ATTACH;FMTTYPE=image/jpeg:https://kuopionmuseot.fi/wp-content/uploads/2023/04/©-Richard-Robinson-Wildlife-Photographer-of-the-Year.jpg
END:VEVENT
BEGIN:VEVENT
DTSTART;TZID=Europe/Helsinki:20230511T140000
DTEND;TZID=Europe/Helsinki:20230511T141500
DTSTAMP:20260419T190232
CREATED:20230122T120319Z
LAST-MODIFIED:20230513T125009Z
UID:10002103-1683813600-1683814500@kuopionmuseot.fi
SUMMARY:Jalkapalloa ja kunnian kenttiä -korttelivartti
DESCRIPTION:Jalkapalloa ja kunnian kenttiä -korttelivartti \nKuinka jalkapallotoiminta laitettiin alulle Pohjois-Savossa? Miten paikalliset seurat ovat kasvaneet ja kehittyneet? Miten naisjalkapalloilu buumi syntyi? Kuinka juniorityöhön on aikojen saatossa panostettu? Näihin kysymyksiin saat vastauksia korttelivarteilla\, eli noin viiteentoista minuuttiin tiivistetyillä napakoilla tietoiskuilla\, joita järjestetään kuukausittain Kuopion korttelimuseon Jalkapalloa ja kunnian kenttiä -näyttelyssä. \nKorttelivartit kuuluvat museon pääsymaksuun (8/5 €\, alle 18-vuotiaat maksutta\, Museokortti). \nKorttelivartit \nKorttelivartti torstaina 16.2. klo 14.00:\nNaisjalkapalloilun historiaa Kuopiossa \nKorttelivartti torstaina 9.3. klo 14.00:\nJuniorijalkapalloilun historiaa Kuopiossa \nKorttelivartti torstaina 20.4. klo 14.00:\nJalkapalloilun alku Kuopiossa \nKorttelivartti torstaina 11.5. klo 14.00:\nNaisjalkapalloilun historiaa Kuopiossa \nKorttelivartti torstaina 8.6. klo 14.00:\nJuniorijalkapalloilun historiaa Kuopiossa \nKorttelivartti torstaina 10.8. klo 14.00:\nJalkapalloilun alku Kuopiossa \nKorttelivartti torstaina 14.9. klo 14.00:\nNaisjalkapalloilun historiaa Kuopiossa \n  \nJalkapalloa ja kunnian kenttiä – pohjoissavolaista jalkapallohistoriaa 18.11.2022–17.9.2023 \nNäyttely luo kuvan maakunnan jalkapalloilun ja sen ympärille muodostuneen fanikulttuurin kehityksestä. Kokonaisuus sisältää esineistöä sekä maakunnan jalkapalloseuroilta että nykyisiltä ja entisiltä pelaajilta. Näyttelyssä jalkapalloilun historiaan syvennytään maakunnan mielenkiintoisimpien pelikenttien\, legendaaristen pelaajien ja ansiokkaan kasvattajaseuratyön kautta. Näyttelyssä seurataan KuPSin nousua takaisin suomalaisen jalkapalloilun terävimpään kärkeen ja vieraillaan tuon nousun mahdollistaneilla maakunnan tähtikasvattamoilla. Näyttely avaa jalkapallokulttuuria myös varusteiden ja lajin kehityksen näkökulmasta. \nNäyttely perustuu vuonna 2020 ilmestyneeseen teokseen Kunnian kentät – kirja savolaisista jalkapallopyhätöistä.
URL:https://kuopionmuseot.fi/tapahtuma/2975/2023-05-11/
LOCATION:Korttelimuseo\, Kirkkokatu 22\, Kuopio\, 70100\, Suomi
ATTACH;FMTTYPE=image/jpeg:https://kuopionmuseot.fi/wp-content/uploads/2023/02/jalkapalloa_slider-kopio.jpg
END:VEVENT
BEGIN:VEVENT
DTSTART;TZID=Europe/Helsinki:20230512T100000
DTEND;TZID=Europe/Helsinki:20230512T170000
DTSTAMP:20260419T190232
CREATED:20230509T110006Z
LAST-MODIFIED:20230509T110006Z
UID:10001974-1683885600-1683910800@kuopionmuseot.fi
SUMMARY:J. V. Snellmanin ja suomalaisuuden päivä: kotimuseoon vapaa pääsy
DESCRIPTION:J. V. Snellmanin ja suomalaisuuden päivänä perjantaina 12.5. J. V. Snellmanin kotimuseoon on vapaa pääsy klo 10–17! \nKotimuseo sijaitsee Snellmaninkadun ja Minna Canthin kadun kulmauksessa osoitteessa Snellmaninkatu 19. Tässä talossa filosofi\, kirjailija ja valtiomies Johan Vilhelm Snellman asui perheineen 1845–1849. \nJuhlapäivän kunniaksi museossa järjestetään opastuksia klo 12\, 14 ja 16. Opastuksilla esitellään Snellmanin elämää 1800-luvun puolivälin Kuopiossa. Kierroksen aikana tutustutaan muun muassa hänen toimintaansa yläalkeiskoulun rehtorina\, lehtimiehenä ja perheenisänä. Snellmanin perheen kautta päästään kurkistamaan ajan säätyläistön elämänmenoon sekä Kuopion kaupungin varhaisiin vaiheisiin. \nLämpimästi tervetuloa! \nKuva: Reetta Tiainen / KUHMU.
URL:https://kuopionmuseot.fi/tapahtuma/j-v-snellmanin-ja-suomalaisuuden-paiva-kotimuseoon-vapaa-paasy-2/
LOCATION:J. V. Snellmanin kotimuseo\, Snellmaninkatu 19\, Kuopio\, 70100\, Suomi
ATTACH;FMTTYPE=image/jpeg:https://kuopionmuseot.fi/wp-content/uploads/2023/05/F8A9519.jpg
END:VEVENT
BEGIN:VEVENT
DTSTART;VALUE=DATE:20230514
DTEND;VALUE=DATE:20230515
DTSTAMP:20260419T190232
CREATED:20230510T101753Z
LAST-MODIFIED:20230510T104701Z
UID:10001975-1684022400-1684108799@kuopionmuseot.fi
SUMMARY:Äidit maksutta museoon
DESCRIPTION:Äitienpäivän kunniaksi Kuopion kaupungin museot avaavat ovensa maksutta kaikille äideille. Äitienpäiväsunnuntain voivat perheet viettää elämysten ja yhdessäolon merkeissä kaikissa kolmessa museokohteessa. Kuopion museon uudistettujen\, koko perheelle sopivien perusnäyttelyiden lisäksi on ihasteltavana maailman hienoimpia luontovalokuvia Wildlife Photographer of the Year -näyttelyssä. Natural History Museum on järjestänyt luontovalokuvakilpailun jo 58 kertaa. Se on yksi maailman tunnetuimmista valokuvakilpailuista\, johon osallistuu vuosittain kymmeniä tuhansia valokuvaajia\, nuorista lupauksista alan ammattilaisiin. Kilpailun parhaimmisto kootaan vuosittain kansainväliseksi kiertäväksi näyttelyksi\, jossa on lähes sata poikkeuksellisen hienoa luontokuvaa ympäri maailman. \nTaidemuseon valloittaa kuluvalla viikolla avattu näyttely Kannun henki\, joka on ennennäkemätön kaupunkitaiteen moninaisuutta käsittelevä kokonaisuus. Esillä on laaja kirjo teoksia taidemuseon seiniin maalatuista tekstipohjaisista graffiteista suuriin katutaideteoksiin ja veistoksiin\, sekä Urbaanin tallentamaa\, kuopiolaista graffitiskeneä avaavaa dokumentaarista aineistoa. Kannun henki on Kuopion taidemuseon ja Katutaideyhdistys Urbaani ry:n yhteistyönäyttely. Siihen kuuluu keskelle näyttelyä rakennettu skedealue\, jossa saa vapaasti skeitata ja skuutata. \nKuopion korttelimuseon miljöö availee kesäisiä silmiään tarjoten vaikuttavan kurkkauksen elämään Kuopiossa 1800-luvun lopulta 1930-luvulle. Puutalo-Kuopion kortteleissa asui sekaisin kaikenlaisia perheitä eikä erillisiä yhteiskuntaluokittain määrittyviä kaupunginosia päässyt syntymään. Tämän vuoksi myös korttelimuseon alueella on esimerkkejä erilaisten perheiden asumisesta säätyläiskodista työläisperheen hellahuoneeseen. Lisäksi alueelta löytyy 1900-luvun alun apteekki sekä jäljitelmä Minna Canthin kuuluisasta salongista. Korttelimuseon vaihtuvassa näyttelyssä Jalkapalloa ja kunnian kenttiä tutustutaan pohjoissavolaisen jalkapalloilun historiaan maakunnan mielenkiintoisimpien pelikenttien\, legendaaristen pelaajien ja ansiokkaan kasvattajaseuratyön kautta. \nÄitienpäiväsunnuntain aukiolot ja muiden kuin äitien pääsymaksut:\nKuopion museo klo 10-17 (Museokatu 1)\, 13 € / 7 € / alle 18-vuotiaat maksutta\nKuopion korttelimuseo klo 10-15 (Kirkkokatu 22)\, 8\,00 / 5\,00 € / alle 18-vuotiaat maksutta\nKuopion taidemuseo klo 10-17 (Kauppakatu 35)\, 10€ / 5€ / alle 18-vuotiaat maksutta \nMeillä käy Museokortti\n(Museokortti-lahjat 67 € (norm. 76 €). Tarjous voimassa 14.5. asti.) \nLämpimästi tervetuloa viettämään elämyksellistä äitienpäivää museoon!
URL:https://kuopionmuseot.fi/tapahtuma/aidit-maksutta-museoon/
ATTACH;FMTTYPE=image/jpeg:https://kuopionmuseot.fi/wp-content/uploads/2023/05/Aidit-maksutta-museoon-14.5.2023.jpg
END:VEVENT
END:VCALENDAR