BEGIN:VCALENDAR
VERSION:2.0
PRODID:-//Kuopion museot - ECPv6.15.20//NONSGML v1.0//EN
CALSCALE:GREGORIAN
METHOD:PUBLISH
X-WR-CALNAME:Kuopion museot
X-ORIGINAL-URL:https://kuopionmuseot.fi
X-WR-CALDESC:Tapahtumat Kuopion museot
REFRESH-INTERVAL;VALUE=DURATION:PT1H
X-Robots-Tag:noindex
X-PUBLISHED-TTL:PT1H
BEGIN:VTIMEZONE
TZID:Europe/Helsinki
BEGIN:DAYLIGHT
TZOFFSETFROM:+0200
TZOFFSETTO:+0300
TZNAME:EEST
DTSTART:20220327T010000
END:DAYLIGHT
BEGIN:STANDARD
TZOFFSETFROM:+0300
TZOFFSETTO:+0200
TZNAME:EET
DTSTART:20221030T010000
END:STANDARD
BEGIN:DAYLIGHT
TZOFFSETFROM:+0200
TZOFFSETTO:+0300
TZNAME:EEST
DTSTART:20230326T010000
END:DAYLIGHT
BEGIN:STANDARD
TZOFFSETFROM:+0300
TZOFFSETTO:+0200
TZNAME:EET
DTSTART:20231029T010000
END:STANDARD
BEGIN:DAYLIGHT
TZOFFSETFROM:+0200
TZOFFSETTO:+0300
TZNAME:EEST
DTSTART:20240331T010000
END:DAYLIGHT
BEGIN:STANDARD
TZOFFSETFROM:+0300
TZOFFSETTO:+0200
TZNAME:EET
DTSTART:20241027T010000
END:STANDARD
END:VTIMEZONE
BEGIN:VEVENT
DTSTART;TZID=Europe/Helsinki:20230426T140000
DTEND;TZID=Europe/Helsinki:20230426T144500
DTSTAMP:20260419T201409
CREATED:20230419T123554Z
LAST-MODIFIED:20231003T111311Z
UID:10002197-1682517600-1682520300@kuopionmuseot.fi
SUMMARY:Opastus: Wildlife Photographer of the Year
DESCRIPTION:Opastetulla kierroksella pääset sukeltamaan oppaan kanssa pintaa syvemmälle. Näyttelyn upeiden valokuvien kautta tutkitaan maapallomme luonnon herkkää tasapainoa ja sen nykytilaa. Kuinka ympärillämme tapahtuvat muutokset vaikuttavat planeettamme ekosysteemeihin? \nOpastukselle pääset osallistumaan pääsymaksun hinnalla. \nkuva: © Richard Robinson\, Wildlife Photographer of the Year
URL:https://kuopionmuseot.fi/tapahtuma/wildlife-photographer-of-the-year-nayttelyopastus/2023-04-26/
LOCATION:Kuopion museo
ATTACH;FMTTYPE=image/jpeg:https://kuopionmuseot.fi/wp-content/uploads/2023/04/©-Richard-Robinson-Wildlife-Photographer-of-the-Year.jpg
END:VEVENT
BEGIN:VEVENT
DTSTART;TZID=Europe/Helsinki:20230426T170000
DTEND;TZID=Europe/Helsinki:20230426T180000
DTSTAMP:20260419T201410
CREATED:20230103T082903Z
LAST-MODIFIED:20230103T083359Z
UID:10002090-1682528400-1682532000@kuopionmuseot.fi
SUMMARY:Luontokirjalukupiiri
DESCRIPTION:Luontokirjalukupiiri kokoontuu kerran kuukaudessa keskiviikkoisin klo 17.00–18.00. \nLukupiirissä tutustutaan kiehtovan ajankohtaisiin teoksiin ja keskustellaan niiden herättämistä ajatuksista. Kirjallisuus- tai ympäristöasiantuntemusta ei tarvita\, ja mukaan voi tulla yhdelle tai useammalle kerralle. Lukupiiri toimii hyvin myös kirjavinkkauksena – keskustelun kuunteleminen on mainio tapa löytää kiinnostavaa luettavaa! \nLukupiiri järjestetään verkossa Zoom-alustalla. Ennakkoilmoittautumista ei tarvita.\nhttps://zoom.us/j/99576520794\nMeeting ID: 995 7652 0794 \nLisätietoja saa osoitteesta aikuistenosasto.kirjasto@kuopio.fi \nKe 26.4.2023\nTurtschaninoff\, Maria: Suomaa \nkuva: Tero Laakso (CC BY 2.0)
URL:https://kuopionmuseot.fi/tapahtuma/luontokirjalukupiiri-16/
ATTACH;FMTTYPE=image/jpeg:https://kuopionmuseot.fi/wp-content/uploads/2023/01/Tero-Laakso_CC-BY-2.0-–-kopio.jpg
END:VEVENT
BEGIN:VEVENT
DTSTART;TZID=Europe/Helsinki:20230427T084500
DTEND;TZID=Europe/Helsinki:20230427T100000
DTSTAMP:20260419T201410
CREATED:20230403T143624Z
LAST-MODIFIED:20230403T143624Z
UID:10002184-1682585100-1682589600@kuopionmuseot.fi
SUMMARY:Metsäjooga
DESCRIPTION:Lempeässä joogaharjoituksessa tehdään kehon ja mielen harjoituksia luonnontieteellisen museonäyttelyn elämyksellisessä ympäristössä\, linnunlaulua kuunnellen. Aikaisempaa kokemusta joogasta ei tarvita\, harjoitukset tehdään oman tason mukaan. Mukavat ja joustavat vaatteet päälle. \nTapaamme museon aulassa klo 8.45. Mukaan pääsee museon pääsymaksun hinnalla. \nIlmoittautumiset: p. 044 718 1543 tai mari.wikholm (at) kuopio.fi\nMax. 15 osallistujaa\nOhjaaja: jooganopettaja Pirkko Rahkonen
URL:https://kuopionmuseot.fi/tapahtuma/metsajooga/
LOCATION:Kuopion museo
ATTACH;FMTTYPE=image/jpeg:https://kuopionmuseot.fi/wp-content/uploads/2023/04/Akseli-Muraja-–-kopio.jpg
END:VEVENT
BEGIN:VEVENT
DTSTART;TZID=Europe/Helsinki:20230429T130000
DTEND;TZID=Europe/Helsinki:20230429T134500
DTSTAMP:20260419T201410
CREATED:20230127T153537Z
LAST-MODIFIED:20230815T103705Z
UID:10002125-1682773200-1682775900@kuopionmuseot.fi
SUMMARY:Jalkapalloa ja kunnian kenttiä -näyttelyopastus
DESCRIPTION:Jalkapalloa ja kunnian kenttiä -näyttelyopastuksella pääset tutustumaan pohjoissavolaisen jalkapalloilun historiaan. Näyttelyssä syvennytään pelivälineiden kehitykseen varhaisista jalkapalloista ja nappulakengistä lähtien. Esillä on 11 savolaista pelikenttää\, joilla on jokaisella oma mielenkiintoinen historiansa. Näyttelyssä seurataan tänä vuonna 100-vuotta täyttävän Kuopion Palloseuran kehitystä takaisin suomalaisen jalkapalloilun terävimpään kärkeen. Nähtävillä on esineistöä sekä maakunnan jalkapalloseuroilta että entisiltä ja nykyisiltä pelaajilta. \nOpastus sisältyy pääsymaksun hintaan (8 / 5 €\, Museokortti\, alle 18-vuotiaat maksutta). Kesto noin 30–45 minuuttia. \nNäyttely perustuu vuonna 2020 ilmestyneeseen teokseen Kunnian kentät – kirja savolaisista jalkapallopyhätöistä. \nOpastukset kesällä:\nLa 27.5.2023 klo 13\nLa 17.6.2023 klo 13\nLa 1.7.2023 klo 13\nLa 22.7.2023 klo 13\nLa 5.8.2023 klo 13\nLa 19.8.2023 klo 13\nLa 16.9.2023 klo 13
URL:https://kuopionmuseot.fi/tapahtuma/jalkapalloa-ja-kunnian-kenttia-nayttelyopastus-2023-02-25/2023-04-29/
LOCATION:Korttelimuseo\, Kirkkokatu 22\, Kuopio\, 70100\, Suomi
ATTACH;FMTTYPE=image/jpeg:https://kuopionmuseot.fi/wp-content/uploads/2023/01/KuPS-Koparit-1985-scaled.jpg
END:VEVENT
END:VCALENDAR