BEGIN:VCALENDAR
VERSION:2.0
PRODID:-//Kuopion museot - ECPv6.15.20//NONSGML v1.0//EN
CALSCALE:GREGORIAN
METHOD:PUBLISH
X-ORIGINAL-URL:https://kuopionmuseot.fi
X-WR-CALDESC:Tapahtumat Kuopion museot
REFRESH-INTERVAL;VALUE=DURATION:PT1H
X-Robots-Tag:noindex
X-PUBLISHED-TTL:PT1H
BEGIN:VTIMEZONE
TZID:Europe/Helsinki
BEGIN:DAYLIGHT
TZOFFSETFROM:+0200
TZOFFSETTO:+0300
TZNAME:EEST
DTSTART:20220327T010000
END:DAYLIGHT
BEGIN:STANDARD
TZOFFSETFROM:+0300
TZOFFSETTO:+0200
TZNAME:EET
DTSTART:20221030T010000
END:STANDARD
BEGIN:DAYLIGHT
TZOFFSETFROM:+0200
TZOFFSETTO:+0300
TZNAME:EEST
DTSTART:20230326T010000
END:DAYLIGHT
BEGIN:STANDARD
TZOFFSETFROM:+0300
TZOFFSETTO:+0200
TZNAME:EET
DTSTART:20231029T010000
END:STANDARD
BEGIN:DAYLIGHT
TZOFFSETFROM:+0200
TZOFFSETTO:+0300
TZNAME:EEST
DTSTART:20240331T010000
END:DAYLIGHT
BEGIN:STANDARD
TZOFFSETFROM:+0300
TZOFFSETTO:+0200
TZNAME:EET
DTSTART:20241027T010000
END:STANDARD
END:VTIMEZONE
BEGIN:VEVENT
DTSTART;TZID=Europe/Helsinki:20230419T180000
DTEND;TZID=Europe/Helsinki:20230419T181500
DTSTAMP:20260419T201535
CREATED:20230403T074527Z
LAST-MODIFIED:20230403T074704Z
UID:10002183-1681927200-1681928100@kuopionmuseot.fi
SUMMARY:Kauniisti kanteleilla
DESCRIPTION:Kuopion konservatorion avoimen konservatorion aikuisten kanteleryhmä esiintyy Kuopion museon monitoimitilassa. Ohjelmassa mm. tuttuja musikaalisävelmiä. Kesto n. 15 min.
URL:https://kuopionmuseot.fi/tapahtuma/kauniisti-kanteleilla/
LOCATION:Kuopion museo
ATTACH;FMTTYPE=image/jpeg:https://kuopionmuseot.fi/wp-content/uploads/2023/04/kauniistikanteleilla-2.jpg
END:VEVENT
BEGIN:VEVENT
DTSTART;TZID=Europe/Helsinki:20230420T140000
DTEND;TZID=Europe/Helsinki:20230420T141500
DTSTAMP:20260419T201535
CREATED:20230122T120319Z
LAST-MODIFIED:20230513T125009Z
UID:10002102-1681999200-1682000100@kuopionmuseot.fi
SUMMARY:Jalkapalloa ja kunnian kenttiä -korttelivartti
DESCRIPTION:Jalkapalloa ja kunnian kenttiä -korttelivartti \nKuinka jalkapallotoiminta laitettiin alulle Pohjois-Savossa? Miten paikalliset seurat ovat kasvaneet ja kehittyneet? Miten naisjalkapalloilu buumi syntyi? Kuinka juniorityöhön on aikojen saatossa panostettu? Näihin kysymyksiin saat vastauksia korttelivarteilla\, eli noin viiteentoista minuuttiin tiivistetyillä napakoilla tietoiskuilla\, joita järjestetään kuukausittain Kuopion korttelimuseon Jalkapalloa ja kunnian kenttiä -näyttelyssä. \nKorttelivartit kuuluvat museon pääsymaksuun (8/5 €\, alle 18-vuotiaat maksutta\, Museokortti). \nKorttelivartit \nKorttelivartti torstaina 16.2. klo 14.00:\nNaisjalkapalloilun historiaa Kuopiossa \nKorttelivartti torstaina 9.3. klo 14.00:\nJuniorijalkapalloilun historiaa Kuopiossa \nKorttelivartti torstaina 20.4. klo 14.00:\nJalkapalloilun alku Kuopiossa \nKorttelivartti torstaina 11.5. klo 14.00:\nNaisjalkapalloilun historiaa Kuopiossa \nKorttelivartti torstaina 8.6. klo 14.00:\nJuniorijalkapalloilun historiaa Kuopiossa \nKorttelivartti torstaina 10.8. klo 14.00:\nJalkapalloilun alku Kuopiossa \nKorttelivartti torstaina 14.9. klo 14.00:\nNaisjalkapalloilun historiaa Kuopiossa \n  \nJalkapalloa ja kunnian kenttiä – pohjoissavolaista jalkapallohistoriaa 18.11.2022–17.9.2023 \nNäyttely luo kuvan maakunnan jalkapalloilun ja sen ympärille muodostuneen fanikulttuurin kehityksestä. Kokonaisuus sisältää esineistöä sekä maakunnan jalkapalloseuroilta että nykyisiltä ja entisiltä pelaajilta. Näyttelyssä jalkapalloilun historiaan syvennytään maakunnan mielenkiintoisimpien pelikenttien\, legendaaristen pelaajien ja ansiokkaan kasvattajaseuratyön kautta. Näyttelyssä seurataan KuPSin nousua takaisin suomalaisen jalkapalloilun terävimpään kärkeen ja vieraillaan tuon nousun mahdollistaneilla maakunnan tähtikasvattamoilla. Näyttely avaa jalkapallokulttuuria myös varusteiden ja lajin kehityksen näkökulmasta. \nNäyttely perustuu vuonna 2020 ilmestyneeseen teokseen Kunnian kentät – kirja savolaisista jalkapallopyhätöistä.
URL:https://kuopionmuseot.fi/tapahtuma/2975/2023-04-20/
LOCATION:Korttelimuseo\, Kirkkokatu 22\, Kuopio\, 70100\, Suomi
ATTACH;FMTTYPE=image/jpeg:https://kuopionmuseot.fi/wp-content/uploads/2023/02/jalkapalloa_slider-kopio.jpg
END:VEVENT
BEGIN:VEVENT
DTSTART;TZID=Europe/Helsinki:20230422T130000
DTEND;TZID=Europe/Helsinki:20230422T132000
DTSTAMP:20260419T201535
CREATED:20230420T134037Z
LAST-MODIFIED:20230420T134037Z
UID:10002238-1682168400-1682169600@kuopionmuseot.fi
SUMMARY:Sointuvat: Keväässä syksyn siemen
DESCRIPTION:Korttelimuseon säätyläiskodin salissa järjestetään lauantaina 22.4. klo 13 runo-musiikkiesitys Keväässä syksyn siemen. \nRunot: Seija Hämäläinen\, Leena Raveikko \nMusiikki: Marja-Leena Paatsola (huilu)\, Paula Salosaari (sello)\, Maija Väänänen (piano) \n  \nRunoissa ihmiselo näyttäytyy vuodenajoissa\, kevään lapsuudesta syksyn harmaantuviin hiuksiin. \n  \nMusiikkikappaleet: \nArmas Järnefelt: Kehtolaulu \nHeimo Kaski: Pieni valssi \nToivo Kuula: Aamulaulu \nNils-Erik Fougstedt: Romanssi \nOskar Merikanto: Soipa kieli \n  \nEsityksen kesto n. 20 min.
URL:https://kuopionmuseot.fi/tapahtuma/sointuvat-kevaassa-syksyn-siemen-2/
LOCATION:Korttelimuseo\, Kirkkokatu 22\, Kuopio\, 70100\, Suomi
ATTACH;FMTTYPE=image/jpeg:https://kuopionmuseot.fi/wp-content/uploads/2023/04/sointuvat.jpg
END:VEVENT
END:VCALENDAR