BEGIN:VCALENDAR
VERSION:2.0
PRODID:-//Kuopion museot - ECPv6.15.20//NONSGML v1.0//EN
CALSCALE:GREGORIAN
METHOD:PUBLISH
X-ORIGINAL-URL:https://kuopionmuseot.fi
X-WR-CALDESC:Tapahtumat Kuopion museot
REFRESH-INTERVAL;VALUE=DURATION:PT1H
X-Robots-Tag:noindex
X-PUBLISHED-TTL:PT1H
BEGIN:VTIMEZONE
TZID:Europe/Helsinki
BEGIN:DAYLIGHT
TZOFFSETFROM:+0200
TZOFFSETTO:+0300
TZNAME:EEST
DTSTART:20230326T010000
END:DAYLIGHT
BEGIN:STANDARD
TZOFFSETFROM:+0300
TZOFFSETTO:+0200
TZNAME:EET
DTSTART:20231029T010000
END:STANDARD
BEGIN:DAYLIGHT
TZOFFSETFROM:+0200
TZOFFSETTO:+0300
TZNAME:EEST
DTSTART:20240331T010000
END:DAYLIGHT
BEGIN:STANDARD
TZOFFSETFROM:+0300
TZOFFSETTO:+0200
TZNAME:EET
DTSTART:20241027T010000
END:STANDARD
BEGIN:DAYLIGHT
TZOFFSETFROM:+0200
TZOFFSETTO:+0300
TZNAME:EEST
DTSTART:20250330T010000
END:DAYLIGHT
BEGIN:STANDARD
TZOFFSETFROM:+0300
TZOFFSETTO:+0200
TZNAME:EET
DTSTART:20251026T010000
END:STANDARD
END:VTIMEZONE
BEGIN:VEVENT
DTSTART;TZID=Europe/Helsinki:20240217T153000
DTEND;TZID=Europe/Helsinki:20240217T163000
DTSTAMP:20260422T032456
CREATED:20230420T103818Z
LAST-MODIFIED:20231221T112816Z
UID:10002579-1708183800-1708187400@kuopionmuseot.fi
SUMMARY:Opastus: Kummallinen luonto
DESCRIPTION:Synnyttäviä koiraita\, zombihyönteisiä\, salamurhaajia… Teemaopastuksella mietitään\, mikä oikeastaan on luonnotonta. Eläinten\, kasvien ja sienten maailma on totisesti oudompi ja moninaisempi kuin usein ajatellaan. \nTeemaopastus 15 € (sisältää museon pääsymaksun ja opastuksen)\, Museokortilla 5 €. \n  \nkuva: © Jose Fragozo\, Wildlife Photographer of the Year
URL:https://kuopionmuseot.fi/tapahtuma/opastus-kummallinen-luonto/2024-02-17/
LOCATION:Kuopion museo
ATTACH;FMTTYPE=image/jpeg:https://kuopionmuseot.fi/wp-content/uploads/2023/04/©-Jose-Fragozo-Wildlife-Photographer-of-the-Year.jpg
END:VEVENT
END:VCALENDAR