BEGIN:VCALENDAR
VERSION:2.0
PRODID:-//Kuopion museot - ECPv6.15.20//NONSGML v1.0//EN
CALSCALE:GREGORIAN
METHOD:PUBLISH
X-ORIGINAL-URL:https://kuopionmuseot.fi
X-WR-CALDESC:Tapahtumat Kuopion museot
REFRESH-INTERVAL;VALUE=DURATION:PT1H
X-Robots-Tag:noindex
X-PUBLISHED-TTL:PT1H
BEGIN:VTIMEZONE
TZID:Europe/Helsinki
BEGIN:DAYLIGHT
TZOFFSETFROM:+0200
TZOFFSETTO:+0300
TZNAME:EEST
DTSTART:20250330T010000
END:DAYLIGHT
BEGIN:STANDARD
TZOFFSETFROM:+0300
TZOFFSETTO:+0200
TZNAME:EET
DTSTART:20251026T010000
END:STANDARD
BEGIN:DAYLIGHT
TZOFFSETFROM:+0200
TZOFFSETTO:+0300
TZNAME:EEST
DTSTART:20260329T010000
END:DAYLIGHT
BEGIN:STANDARD
TZOFFSETFROM:+0300
TZOFFSETTO:+0200
TZNAME:EET
DTSTART:20261025T010000
END:STANDARD
BEGIN:DAYLIGHT
TZOFFSETFROM:+0200
TZOFFSETTO:+0300
TZNAME:EEST
DTSTART:20270328T010000
END:DAYLIGHT
BEGIN:STANDARD
TZOFFSETFROM:+0300
TZOFFSETTO:+0200
TZNAME:EET
DTSTART:20271031T010000
END:STANDARD
END:VTIMEZONE
BEGIN:VEVENT
DTSTART;TZID=Europe/Helsinki:20260411T110000
DTEND;TZID=Europe/Helsinki:20260411T130000
DTSTAMP:20260423T031329
CREATED:20260203T112612Z
LAST-MODIFIED:20260409T044509Z
UID:10004188-1775905200-1775912400@kuopionmuseot.fi
SUMMARY:Stardust-päivä – Tähtitiedettä ja puuhaa lapsille  
DESCRIPTION:✨Lasten oma tiedepäivä Kuopion museon sekä Kuopion pääkirjaston tiloissa täynnä ihmettelyä ja oivalluksia! \nSnellmanEDU\, LUMA-keskus\, Saturnus sekä Kantti-yhteistyö (Kuopion museo + Kuopion kaupunginkirjasto) toteuttavat lasten oman tiedepäivän\, jossa uteliaisuus pääsee valloilleen. Tapahtuma sopii erityisesti 8–10-vuotiaille\, mutta kaikki tiedonjanoiset ovat tervetulleita. \n \nTapahtumaan on vapaa pääsy. Katukerroksissa sijaitsevat tapahtumatilat ovat esteettömiä. ♿️ \nKlo 11–13: Tiedepajoissa kokeilemisen ja ällistymisen iloa!\nOhjelmassa luvassa on:\n🚀laukaistavien rakettien rakentelua\,\n🤖avaruusmönkijärobotteja\,\n🌈sokerisateenkaaria\,\n🔭oikeaan kaukoputkeen tutustumista\,\n🌟tähtiprojisointi\,\n🏗️luova Lego-piste\n☀️aurinkosuunnistusta sekä\n✨Tähtiretki – teatteriesitys unelmille ja uteliaille klo 11.15 sekä klo 12.15. (Lue kuvaus alta!) \n🌟🌟🌟 \nKlo 13 alkaen: Kolmen vartin tähtituokiot Stardust-näyttelyssä. Tapahtuman jälkeen matka jatkuu avaruuden ihmeisiin lyhyillä lastenvarteilla näyttelykerroksessa. Tähtituokioihin pääsee mukaan museon pääsymaksulla: 15 / 10 €\, ja alle 18-vuotiaat maksutta. \nLastenpäivä on osa Stardust – Universumi sisällämme -näyttelykokonaisuutta https://kuopionmuseo.fi/nayttelyt/ \n🌟🌟🌟 \nTähtiretki-esitykset klo 11.15 sekä 12.15 kirjaston kokoustilassa: \nItseoppinut tähtihölynpölyn asiantuntija Aimo Kukku lupaa viedä katsojat aina tähtiin saakka\, ja kauemmaksikin! Hän on kertomansa mukaan kehittämänsä avaruusmutkailun\, kyllä\, avaruusMUTKAILUN\, konkari ja tuhansien planeettojen vallloittaja. Noinkohan vaan herra Kukun puheet pitävät paikkaansa? Ettei vaan osa tai jopa koko juttu olisi täyttä puppua!\nEsityskonsepti ja esiintyjä: Lasse Forsgren. Kesto 20 min. Esityksiä on kaksi samansisältöistä:
URL:https://kuopionmuseot.fi/tapahtuma/stardust-paiva-tahtitiedetta-ja-puuhaa-lapsille/
LOCATION:Kuopion museo
ATTACH;FMTTYPE=image/jpeg:https://kuopionmuseot.fi/wp-content/uploads/2026/02/Stardust-lastenpaiva-eiteksteja-logot-2.jpg
END:VEVENT
END:VCALENDAR