BEGIN:VCALENDAR
VERSION:2.0
PRODID:-//Kuopion museot - ECPv6.15.20//NONSGML v1.0//EN
CALSCALE:GREGORIAN
METHOD:PUBLISH
X-ORIGINAL-URL:https://kuopionmuseot.fi
X-WR-CALDESC:Tapahtumat Kuopion museot
REFRESH-INTERVAL;VALUE=DURATION:PT1H
X-Robots-Tag:noindex
X-PUBLISHED-TTL:PT1H
BEGIN:VTIMEZONE
TZID:Europe/Helsinki
BEGIN:DAYLIGHT
TZOFFSETFROM:+0200
TZOFFSETTO:+0300
TZNAME:EEST
DTSTART:20240331T010000
END:DAYLIGHT
BEGIN:STANDARD
TZOFFSETFROM:+0300
TZOFFSETTO:+0200
TZNAME:EET
DTSTART:20241027T010000
END:STANDARD
BEGIN:DAYLIGHT
TZOFFSETFROM:+0200
TZOFFSETTO:+0300
TZNAME:EEST
DTSTART:20250330T010000
END:DAYLIGHT
BEGIN:STANDARD
TZOFFSETFROM:+0300
TZOFFSETTO:+0200
TZNAME:EET
DTSTART:20251026T010000
END:STANDARD
BEGIN:DAYLIGHT
TZOFFSETFROM:+0200
TZOFFSETTO:+0300
TZNAME:EEST
DTSTART:20260329T010000
END:DAYLIGHT
BEGIN:STANDARD
TZOFFSETFROM:+0300
TZOFFSETTO:+0200
TZNAME:EET
DTSTART:20261025T010000
END:STANDARD
END:VTIMEZONE
BEGIN:VEVENT
DTSTART;TZID=Europe/Helsinki:20250910T173000
DTEND;TZID=Europe/Helsinki:20250910T183000
DTSTAMP:20260423T200535
CREATED:20250618T095815Z
LAST-MODIFIED:20260206T080922Z
UID:10003861-1757525400-1757529000@kuopionmuseot.fi
SUMMARY:Tanssitupa
DESCRIPTION:Tanssituvissa opetellaan kansanomaisia pari- ja ryhmätansseja sekä improvisoidaan matalalla kynnyksellä\, livemusiikin tahtiin. Vetäjinä tanssitaiteilija Outi Markkula ja muusikko Jenni Venäläinen. \nKevätkauden Tanssituvat:\n21.3. valssi ja sottiisi\n18.4. polska\n16.5. masurkka ja polkka\n13.6. karjalaiset tanssit \nAiempaa kokemusta tai omaa tanssiparia ei tarvitse olla. Vapaa pääsy. \n \n 
URL:https://kuopionmuseot.fi/tapahtuma/tanssitupa/2025-09-10/
LOCATION:Kuopion museo
ATTACH;FMTTYPE=image/jpeg:https://kuopionmuseot.fi/wp-content/uploads/2025/06/Tanssitupa-kuva-Outi-Markkula_netti.jpg
END:VEVENT
BEGIN:VEVENT
DTSTART;TZID=Europe/Helsinki:20250920T110000
DTEND;TZID=Europe/Helsinki:20250920T123000
DTSTAMP:20260423T200535
CREATED:20250618T095815Z
LAST-MODIFIED:20260206T080922Z
UID:10003821-1758366000-1758371400@kuopionmuseot.fi
SUMMARY:Tanssitupa
DESCRIPTION:Tanssituvissa opetellaan kansanomaisia pari- ja ryhmätansseja sekä improvisoidaan matalalla kynnyksellä\, livemusiikin tahtiin. Vetäjinä tanssitaiteilija Outi Markkula ja muusikko Jenni Venäläinen. \nKevätkauden Tanssituvat:\n21.3. valssi ja sottiisi\n18.4. polska\n16.5. masurkka ja polkka\n13.6. karjalaiset tanssit \nAiempaa kokemusta tai omaa tanssiparia ei tarvitse olla. Vapaa pääsy. \n \n 
URL:https://kuopionmuseot.fi/tapahtuma/tanssitupa/2025-09-20/
LOCATION:Kuopion museo
ATTACH;FMTTYPE=image/jpeg:https://kuopionmuseot.fi/wp-content/uploads/2025/06/Tanssitupa-kuva-Outi-Markkula_netti.jpg
END:VEVENT
BEGIN:VEVENT
DTSTART;TZID=Europe/Helsinki:20250926T130000
DTEND;TZID=Europe/Helsinki:20250926T133500
DTSTAMP:20260423T200535
CREATED:20250917T120419Z
LAST-MODIFIED:20250917T120419Z
UID:10004003-1758891600-1758893700@kuopionmuseot.fi
SUMMARY:Eilan tarina
DESCRIPTION:Eilan tarina on elämänkerrallinen muistojen matka vuosien 1955–1995 välillä. Eila on elänyt elämänsä maaseudulla maatalon emäntänä ja muistoissa nousee esille useita tuolle aikakaudelle tuttuja asioita. Esitys on kunnianosoitus emännille ja heidän suurelle työlleen maaseudun sekä yhteisöjen hyväksi\, isäntien työpanosta unohtamatta. \nEsityksen kesto n. 35 minuuttia.\nEsiintyjä: Kati Ahmaharju \n  \npe 26.9. klo 13 Kuopion museon monitoimitila\, Museokatu 1. Tapahtuma on maksuton ja esteetön. \nTapahtumat järjestää Kuopion kaupungin kansalaistoiminnan palvelut yhteistyössä Kuopion museon kanssa \n 
URL:https://kuopionmuseot.fi/tapahtuma/eilan-tarina/
LOCATION:Kuopion museo
ATTACH;FMTTYPE=image/jpeg:https://kuopionmuseot.fi/wp-content/uploads/2025/09/eilan-tarina.jpg
END:VEVENT
END:VCALENDAR