BEGIN:VCALENDAR
VERSION:2.0
PRODID:-//Kuopion museot - ECPv6.15.20//NONSGML v1.0//EN
CALSCALE:GREGORIAN
METHOD:PUBLISH
X-ORIGINAL-URL:https://kuopionmuseot.fi
X-WR-CALDESC:Tapahtumat Kuopion museot
REFRESH-INTERVAL;VALUE=DURATION:PT1H
X-Robots-Tag:noindex
X-PUBLISHED-TTL:PT1H
BEGIN:VTIMEZONE
TZID:Europe/Helsinki
BEGIN:DAYLIGHT
TZOFFSETFROM:+0200
TZOFFSETTO:+0300
TZNAME:EEST
DTSTART:20230326T010000
END:DAYLIGHT
BEGIN:STANDARD
TZOFFSETFROM:+0300
TZOFFSETTO:+0200
TZNAME:EET
DTSTART:20231029T010000
END:STANDARD
BEGIN:DAYLIGHT
TZOFFSETFROM:+0200
TZOFFSETTO:+0300
TZNAME:EEST
DTSTART:20240331T010000
END:DAYLIGHT
BEGIN:STANDARD
TZOFFSETFROM:+0300
TZOFFSETTO:+0200
TZNAME:EET
DTSTART:20241027T010000
END:STANDARD
BEGIN:DAYLIGHT
TZOFFSETFROM:+0200
TZOFFSETTO:+0300
TZNAME:EEST
DTSTART:20250330T010000
END:DAYLIGHT
BEGIN:STANDARD
TZOFFSETFROM:+0300
TZOFFSETTO:+0200
TZNAME:EET
DTSTART:20251026T010000
END:STANDARD
END:VTIMEZONE
BEGIN:VEVENT
DTSTART;TZID=Europe/Helsinki:20241218T180000
DTEND;TZID=Europe/Helsinki:20241218T183000
DTSTAMP:20260423T065451
CREATED:20241120T134327Z
LAST-MODIFIED:20241120T134327Z
UID:10003293-1734544800-1734546600@kuopionmuseot.fi
SUMMARY:Kuopion Taideopiston tanssikoulun joulutervehdys
DESCRIPTION:Kuopion Taideopiston tanssikoulun oppilaat tuovat tanssin iloa Kuopion Museolle! Luvassa on sekä lasten että nuorten baletti- ja jazztanssiesityksiä. Tapahtumassa nähtävät tanssijat ovat iältään 5-19 -vuotiaita. Tapahtuma on kaikille avoin!
URL:https://kuopionmuseot.fi/tapahtuma/kuopion-taideopiston-tanssikoulun-joulutervehdys/
LOCATION:Kuopion museo
ATTACH;FMTTYPE=image/jpeg:https://kuopionmuseot.fi/wp-content/uploads/2024/11/Tanssikoulun-joulutervehdys-2024-scaled.jpg
END:VEVENT
END:VCALENDAR