BEGIN:VCALENDAR
VERSION:2.0
PRODID:-//Kuopion museot - ECPv6.15.20//NONSGML v1.0//EN
CALSCALE:GREGORIAN
METHOD:PUBLISH
X-ORIGINAL-URL:https://kuopionmuseot.fi
X-WR-CALDESC:Tapahtumat Kuopion museot
REFRESH-INTERVAL;VALUE=DURATION:PT1H
X-Robots-Tag:noindex
X-PUBLISHED-TTL:PT1H
BEGIN:VTIMEZONE
TZID:Europe/Helsinki
BEGIN:DAYLIGHT
TZOFFSETFROM:+0200
TZOFFSETTO:+0300
TZNAME:EEST
DTSTART:20220327T010000
END:DAYLIGHT
BEGIN:STANDARD
TZOFFSETFROM:+0300
TZOFFSETTO:+0200
TZNAME:EET
DTSTART:20221030T010000
END:STANDARD
BEGIN:DAYLIGHT
TZOFFSETFROM:+0200
TZOFFSETTO:+0300
TZNAME:EEST
DTSTART:20230326T010000
END:DAYLIGHT
BEGIN:STANDARD
TZOFFSETFROM:+0300
TZOFFSETTO:+0200
TZNAME:EET
DTSTART:20231029T010000
END:STANDARD
BEGIN:DAYLIGHT
TZOFFSETFROM:+0200
TZOFFSETTO:+0300
TZNAME:EEST
DTSTART:20240331T010000
END:DAYLIGHT
BEGIN:STANDARD
TZOFFSETFROM:+0300
TZOFFSETTO:+0200
TZNAME:EET
DTSTART:20241027T010000
END:STANDARD
END:VTIMEZONE
BEGIN:VEVENT
DTSTART;TZID=Europe/Helsinki:20230524T173000
DTEND;TZID=Europe/Helsinki:20230524T190000
DTSTAMP:20260419T163147
CREATED:20230414T044654Z
LAST-MODIFIED:20230508T111357Z
UID:10002214-1684949400-1684954800@kuopionmuseot.fi
SUMMARY:Talon huoltokävely
DESCRIPTION:Pohditko\, mitä tulee ottaa huomioon vanhojen talojen huollon ja korjausten osalta? Nyt pulmaan on tarjolla tuhti tietopaketti. Tule mukaan huoltokävelylle\, jossa Kuopion kulttuurihistoriallisen museon restaurointiasiantuntija Teemu Kuivalainen neuvoo ja opastaa käytännössä\, mitä tulee tietää vanhan talon huoltotoimenpiteistä. Kesto noin 1\,5 h. Vapaa pääsy.  \nTapahtuma on osa Euroopan kulttuuriympäristöpäiviä.
URL:https://kuopionmuseot.fi/tapahtuma/talon-huoltokavely/
LOCATION:Korttelimuseo\, Kirkkokatu 22\, Kuopio\, 70100\, Suomi
ATTACH;FMTTYPE=image/jpeg:https://kuopionmuseot.fi/wp-content/uploads/2023/04/Korttelimuseo-1.jpg
END:VEVENT
END:VCALENDAR