BEGIN:VCALENDAR
VERSION:2.0
PRODID:-//Kuopion museot - ECPv6.15.20//NONSGML v1.0//EN
CALSCALE:GREGORIAN
METHOD:PUBLISH
X-WR-CALNAME:Kuopion museot
X-ORIGINAL-URL:https://kuopionmuseot.fi
X-WR-CALDESC:Tapahtumat Kuopion museot
REFRESH-INTERVAL;VALUE=DURATION:PT1H
X-Robots-Tag:noindex
X-PUBLISHED-TTL:PT1H
BEGIN:VTIMEZONE
TZID:Europe/Helsinki
BEGIN:DAYLIGHT
TZOFFSETFROM:+0200
TZOFFSETTO:+0300
TZNAME:EEST
DTSTART:20230326T010000
END:DAYLIGHT
BEGIN:STANDARD
TZOFFSETFROM:+0300
TZOFFSETTO:+0200
TZNAME:EET
DTSTART:20231029T010000
END:STANDARD
BEGIN:DAYLIGHT
TZOFFSETFROM:+0200
TZOFFSETTO:+0300
TZNAME:EEST
DTSTART:20240331T010000
END:DAYLIGHT
BEGIN:STANDARD
TZOFFSETFROM:+0300
TZOFFSETTO:+0200
TZNAME:EET
DTSTART:20241027T010000
END:STANDARD
BEGIN:DAYLIGHT
TZOFFSETFROM:+0200
TZOFFSETTO:+0300
TZNAME:EEST
DTSTART:20250330T010000
END:DAYLIGHT
BEGIN:STANDARD
TZOFFSETFROM:+0300
TZOFFSETTO:+0200
TZNAME:EET
DTSTART:20251026T010000
END:STANDARD
END:VTIMEZONE
BEGIN:VEVENT
DTSTART;TZID=Europe/Helsinki:20240518T110000
DTEND;TZID=Europe/Helsinki:20240518T140000
DTSTAMP:20260422T184506
CREATED:20240422T123542Z
LAST-MODIFIED:20240422T123542Z
UID:10002901-1716030000-1716040800@kuopionmuseot.fi
SUMMARY:Oodi perunalle
DESCRIPTION:Peruna on pyöreä\, peruna on soikea\, peruna on… perusruoka\, joka usein pistellään poskeen sen kummemmitta. Nyt keväällä istutusajan lähestyessä on kuitenkin hyvä hetki nostaa pottu parrasvaloihin ja kunnioittaa sen historiallista matkaa ruokapöytiimme sekä kotimaista ruokatuotantoa! \nKansainvälisenä museopäivänä Kuopion museossa hurrataan perunalle katselemalla komedialeffa Peruna (2021)\, tekemällä perunapainantaa sekä kuulemalla osuvia knoppitietoja perunan kulttuurihistoriasta. \nKlo 11-14 perunapainantaa koko perheelle\nKlo 12 alkaa monitoimitilassa Peruna-elokuva (kesto 109 min\, ikäsuositus 7)\nTietoknoppeja ennen elokuvaa klo 11-12. \nTapahtumaan ja leffaan on vapaa pääsy. \nPS: Leffapopparit voi käydä nappaamassa mukaan Kahvila Kantista!
URL:https://kuopionmuseot.fi/tapahtuma/oodi-perunalle/
LOCATION:Kuopion museo
ATTACH;FMTTYPE=image/jpeg:https://kuopionmuseot.fi/wp-content/uploads/2024/04/PERUNA_18052024.jpg
END:VEVENT
END:VCALENDAR