BEGIN:VCALENDAR
VERSION:2.0
PRODID:-//Kuopion museot - ECPv6.15.20//NONSGML v1.0//EN
CALSCALE:GREGORIAN
METHOD:PUBLISH
X-WR-CALNAME:Kuopion museot
X-ORIGINAL-URL:https://kuopionmuseot.fi
X-WR-CALDESC:Tapahtumat Kuopion museot
REFRESH-INTERVAL;VALUE=DURATION:PT1H
X-Robots-Tag:noindex
X-PUBLISHED-TTL:PT1H
BEGIN:VTIMEZONE
TZID:Europe/Helsinki
BEGIN:DAYLIGHT
TZOFFSETFROM:+0200
TZOFFSETTO:+0300
TZNAME:EEST
DTSTART:20230326T010000
END:DAYLIGHT
BEGIN:STANDARD
TZOFFSETFROM:+0300
TZOFFSETTO:+0200
TZNAME:EET
DTSTART:20231029T010000
END:STANDARD
BEGIN:DAYLIGHT
TZOFFSETFROM:+0200
TZOFFSETTO:+0300
TZNAME:EEST
DTSTART:20240331T010000
END:DAYLIGHT
BEGIN:STANDARD
TZOFFSETFROM:+0300
TZOFFSETTO:+0200
TZNAME:EET
DTSTART:20241027T010000
END:STANDARD
BEGIN:DAYLIGHT
TZOFFSETFROM:+0200
TZOFFSETTO:+0300
TZNAME:EEST
DTSTART:20250330T010000
END:DAYLIGHT
BEGIN:STANDARD
TZOFFSETFROM:+0300
TZOFFSETTO:+0200
TZNAME:EET
DTSTART:20251026T010000
END:STANDARD
END:VTIMEZONE
BEGIN:VEVENT
DTSTART;TZID=Europe/Helsinki:20240305T100000
DTEND;TZID=Europe/Helsinki:20240305T160000
DTSTAMP:20260425T005849
CREATED:20230224T121403Z
LAST-MODIFIED:20240216T103713Z
UID:10002154-1709632800-1709654400@kuopionmuseot.fi
SUMMARY:Magneettiongella non-stop-työpaja
DESCRIPTION:Tervetuloa testaamaan taitojasi magneettikalastuksessa! Kuopion museon non-stop-työpajassa pääset paitsi magneettionkimaan myös askartelemaan magneettikaloja. Ikioman kalan voi tehdä valmiista kalamallista\, mutta hauskempaa voi kuitenkin olla keksiä\, piirtää ja värittää ihan omia jänniä kaloja. Työpaja soveltuu kaikenikäisille.\n  \nTyöpaja on avoinna ti 5.3.2024. klo 10.00–16.00. Työpajamaksu on 1 € / kala.   \nJos museovierailu ei sovi hiihtolomatiistain ohjelmaan\, voi magneettikaloja askarrella myös museon YouTube-kanavalta löytyvän ohjevideon avulla kotosalla: https://www.youtube.com/watch?v=arWvrF5BB58 
URL:https://kuopionmuseot.fi/tapahtuma/magneettikalojen-onginnan-non-stop-tyopaja/
LOCATION:Kuopion museo
ATTACH;FMTTYPE=image/jpeg:https://kuopionmuseot.fi/wp-content/uploads/2023/02/MicrosoftTeams-image-33.jpg
ORGANIZER;CN="Kuopion museo":MAILTO:kuopionmuseo@kuopio.fi
END:VEVENT
END:VCALENDAR