BEGIN:VCALENDAR
VERSION:2.0
PRODID:-//Kuopion museot - ECPv6.15.20//NONSGML v1.0//EN
CALSCALE:GREGORIAN
METHOD:PUBLISH
X-ORIGINAL-URL:https://kuopionmuseot.fi
X-WR-CALDESC:Tapahtumat Kuopion museot
REFRESH-INTERVAL;VALUE=DURATION:PT1H
X-Robots-Tag:noindex
X-PUBLISHED-TTL:PT1H
BEGIN:VTIMEZONE
TZID:Europe/Helsinki
BEGIN:DAYLIGHT
TZOFFSETFROM:+0200
TZOFFSETTO:+0300
TZNAME:EEST
DTSTART:20230326T010000
END:DAYLIGHT
BEGIN:STANDARD
TZOFFSETFROM:+0300
TZOFFSETTO:+0200
TZNAME:EET
DTSTART:20231029T010000
END:STANDARD
BEGIN:DAYLIGHT
TZOFFSETFROM:+0200
TZOFFSETTO:+0300
TZNAME:EEST
DTSTART:20240331T010000
END:DAYLIGHT
BEGIN:STANDARD
TZOFFSETFROM:+0300
TZOFFSETTO:+0200
TZNAME:EET
DTSTART:20241027T010000
END:STANDARD
BEGIN:DAYLIGHT
TZOFFSETFROM:+0200
TZOFFSETTO:+0300
TZNAME:EEST
DTSTART:20250330T010000
END:DAYLIGHT
BEGIN:STANDARD
TZOFFSETFROM:+0300
TZOFFSETTO:+0200
TZNAME:EET
DTSTART:20251026T010000
END:STANDARD
END:VTIMEZONE
BEGIN:VEVENT
DTSTART;TZID=Europe/Helsinki:20240417T163000
DTEND;TZID=Europe/Helsinki:20240417T180000
DTSTAMP:20260422T205031
CREATED:20240207T100826Z
LAST-MODIFIED:20240214T054654Z
UID:10002643-1713371400-1713376800@kuopionmuseot.fi
SUMMARY:Kantin Kestävä Keskiviikko: Museoviraston avustukset rakennusten ja kulttuuriympä﻿ristökohteiden entistämiseen
DESCRIPTION:Museovirastolta voi vuosittain hakea entistämisavustusta suojeltujen rakennusten tai muuten kulttuuriympäristöarvojen kannalta merkittävien kohteiden säilyttävään korjaamiseen. Avustettavia kohteita voivat olla esimerkiksi rakennusten julkisivut\, ikkunat\, ovet ja katot. Myös historialliset puutarhat ja puistot rakennelmineen sekä hautapaikat muistomerkkeineen voivat saada avustusta. \nMillaisiin toimenpiteisiin avustusta on mahdollista saada? Miten avustusta haetaan? Millainen on hyvä hakemus? Pohjois-Savon alueellisen vastuumuseon korjausrakentamisen ja rakennetun kulttuuriympäristön asiantuntijat kertovat vinkit hyvän hakemuksen laatimiseen. \nTilaisuudessa esitellään myös Museoviraston korjaustaito.fi sivusto. Museoviraston korjauskorteissa on ohjeita rakennuksen säilyttävään korjaamiseen. \nTule kuuntelemaan lisää entistämisavustuksista sekä säilyttävästä ja palauttavasta korjaamisesta! Tilaisuus on maksuton. \nKantin Kestävän Keskiviikon kevätkauden ohjelma:\n3.1. klo 16.30-19 OMPELUSEURAT parsintapaja sekä esityssarjassa Kappaleita – taustamusikaali – suuntaa-antavasti kokoon kursittu valikoima viisailta lainattua tekstiä ja yksinkertaista musiikkia. Tilaisuuden toimittaa esitystaiteilija Lasse Forsgrén.\n7.2. klo 16.30-18 Perinteiset lakat ja puupintojen hoito\n14.2. klo 16.30-19 OMPELUSEURAT: Toppavaatteiden korjaus\n13.3. klo 16.30-19 OMPELUSEURAT: Pehmolelujen korjaaminen\n3.4. klo 16.30-18 Kirjastopuutarhat ja laatikkoviljelyn vinkit\n17.4. klo 16.30-18 Kantin Kestävä Keskiviikko: Museoviraston avustukset rakennusten ja kulttuuriympäristökohteiden entistämiseen\n\n24.4. klo 16.30-19 OMPELUSEURAT: Farkunpaikkaus. Esityssarjassa vuorossa on testailua keskeneräisestä näyttämöteoksesta Avaruus -self made space. Esiintyjät Reetta-Kaisa Iles ja Mika Juusela. Esitys ammentaa todellisista astronauttikokemuksista\, mielleyhtymistä ja inhimillistä eriytyneisyyden kokemuksista. Ensi-ilta Koko teatterissa Helsingissä toukokuussa.\n15.5. klo 16.30-19 OMPELUSEURAT: Kangaskenkien ja laukkujen kunnostaminen\n5.6. klo 16.30-18 Laatikkoviljelmän kevätkylvöt\n(Ohjelmamuutokset ja täydennykset ovat mahdollisia!)
URL:https://kuopionmuseot.fi/tapahtuma/kantin-kestava-keskiviikko-museoviraston-avustukset-rakennusten-ja-kulttuuriymparistokohteiden-entistamiseen/
LOCATION:Kuopion museo
ATTACH;FMTTYPE=image/jpeg:https://kuopionmuseot.fi/wp-content/uploads/2024/02/KeKeKe-avustukset170424.jpg
END:VEVENT
END:VCALENDAR