BEGIN:VCALENDAR
VERSION:2.0
PRODID:-//Kuopion museot - ECPv6.15.20//NONSGML v1.0//EN
CALSCALE:GREGORIAN
METHOD:PUBLISH
X-WR-CALNAME:Kuopion museot
X-ORIGINAL-URL:https://kuopionmuseot.fi
X-WR-CALDESC:Tapahtumat Kuopion museot
REFRESH-INTERVAL;VALUE=DURATION:PT1H
X-Robots-Tag:noindex
X-PUBLISHED-TTL:PT1H
BEGIN:VTIMEZONE
TZID:Europe/Helsinki
BEGIN:DAYLIGHT
TZOFFSETFROM:+0200
TZOFFSETTO:+0300
TZNAME:EEST
DTSTART:20240331T010000
END:DAYLIGHT
BEGIN:STANDARD
TZOFFSETFROM:+0300
TZOFFSETTO:+0200
TZNAME:EET
DTSTART:20241027T010000
END:STANDARD
BEGIN:DAYLIGHT
TZOFFSETFROM:+0200
TZOFFSETTO:+0300
TZNAME:EEST
DTSTART:20250330T010000
END:DAYLIGHT
BEGIN:STANDARD
TZOFFSETFROM:+0300
TZOFFSETTO:+0200
TZNAME:EET
DTSTART:20251026T010000
END:STANDARD
BEGIN:DAYLIGHT
TZOFFSETFROM:+0200
TZOFFSETTO:+0300
TZNAME:EEST
DTSTART:20260329T010000
END:DAYLIGHT
BEGIN:STANDARD
TZOFFSETFROM:+0300
TZOFFSETTO:+0200
TZNAME:EET
DTSTART:20261025T010000
END:STANDARD
END:VTIMEZONE
BEGIN:VEVENT
DTSTART;VALUE=DATE:20250909
DTEND;VALUE=DATE:20250915
DTSTAMP:20260420T224953
CREATED:20250808T094458Z
LAST-MODIFIED:20250808T094458Z
UID:10003873-1757376000-1757894399@kuopionmuseot.fi
SUMMARY:ANTI: Pienten ja huomiotta jätettyjen esineiden museo
DESCRIPTION:Pienten ja huomiotta jätettyjen esineiden museo on uusi\, tilapäinen museo Kuopiossa. Museon ovat suunnitelleet ja kuratoineet 115 koululaista Kuopion eri kouluista.\n\nMuseo on Kuopion tuorein ja pienin kulttuurikohde. Lapset ovat lahjoittaneet museoon esineitä\, joista he itse pitävät paljon\, mutta joiden he eivät usko kiinnostavan aikuisia. \nMuseon vitriinit eivät pelkästään pidä sisällään lasten tarinoita vaan ehkäpä myös vastaavat kysymyksiin siitä\, mikä museo on ja miksi se toimii. Museot ovat eräänlaisia yhteiskunnallisia koneita\, joissa esineistä tulee historiaa. Huoneita\, joissa rakennamme merkityksiä arjen hohdokkuudesta ja roskasta. Taiteilijoina Andy Field\, Beckie Darlington ja kuopiolaiset lapset (UK / FI). \nTi 9.9. klo 10:00-16:30\nKe 10.9. klo 10:00-19:00\nTo 11.9. klo 10:00-17:00\nPe 12.9. klo 10:00-17:00\nLa 13.9. klo 10:00-17:00\nSu 14.9. klo 10:00-17:00\nTeos sijaitsee Kuopion museon katukerroksessa\, vapaa pääsy. Tila on esteetön. \n\n\nTeos on osa Kuopio250-juhlavuoden ohjelmistoa\, ja saanut juhlavuoden tuotantotukea. Yhteistyössä Kuopion museo. \n\n\nLisätiedot festivaalista ANTI – Contemporary Art Festival
URL:https://kuopionmuseot.fi/tapahtuma/anti-pienten-ja-huomiotta-jatettyjen-esineiden-museo/
LOCATION:Kuopion museo
ATTACH;FMTTYPE=image/jpeg:https://kuopionmuseot.fi/wp-content/uploads/2025/08/Museum-of-small-things_17-2-1536x1024-1.jpg
END:VEVENT
END:VCALENDAR