BEGIN:VCALENDAR
VERSION:2.0
PRODID:-//Kuopion museot - ECPv6.15.20//NONSGML v1.0//EN
CALSCALE:GREGORIAN
METHOD:PUBLISH
X-WR-CALNAME:Kuopion museot
X-ORIGINAL-URL:https://kuopionmuseot.fi
X-WR-CALDESC:Tapahtumat Kuopion museot
REFRESH-INTERVAL;VALUE=DURATION:PT1H
X-Robots-Tag:noindex
X-PUBLISHED-TTL:PT1H
BEGIN:VTIMEZONE
TZID:Europe/Helsinki
BEGIN:DAYLIGHT
TZOFFSETFROM:+0200
TZOFFSETTO:+0300
TZNAME:EEST
DTSTART:20250330T010000
END:DAYLIGHT
BEGIN:STANDARD
TZOFFSETFROM:+0300
TZOFFSETTO:+0200
TZNAME:EET
DTSTART:20251026T010000
END:STANDARD
BEGIN:DAYLIGHT
TZOFFSETFROM:+0200
TZOFFSETTO:+0300
TZNAME:EEST
DTSTART:20260329T010000
END:DAYLIGHT
BEGIN:STANDARD
TZOFFSETFROM:+0300
TZOFFSETTO:+0200
TZNAME:EET
DTSTART:20261025T010000
END:STANDARD
BEGIN:DAYLIGHT
TZOFFSETFROM:+0200
TZOFFSETTO:+0300
TZNAME:EEST
DTSTART:20270328T010000
END:DAYLIGHT
BEGIN:STANDARD
TZOFFSETFROM:+0300
TZOFFSETTO:+0200
TZNAME:EET
DTSTART:20271031T010000
END:STANDARD
END:VTIMEZONE
BEGIN:VEVENT
DTSTART;TZID=Europe/Helsinki:20260506T130000
DTEND;TZID=Europe/Helsinki:20260506T173000
DTSTAMP:20260419T151451
CREATED:20260127T094609Z
LAST-MODIFIED:20260127T094609Z
UID:10004157-1778072400-1778088600@kuopionmuseot.fi
SUMMARY:OMPELUSEURAT: Kesävaatteiden korjaaminen & Jenni Venäläinen ja kantele
DESCRIPTION:Kaivetaan säilöstä ja korjataan kesään lempivaatteet parhaaseen käyttökuntoon. \nVoit tulla kysymään neuvoa kaikenlaisten korjaustöiden kanssa. Korjausaktiivit neuvovat ja auttavat korjaamisen alkuun. \nKorjausolohuoneeseen saa tulla ilman ennakkoilmoittautumista oman aikataulun mukaan. Paikan päältä löytyy ompelukoneita ja korjaamiseen paikkakankaita\, lankoja ym. Voit tuoda käyttöön ja kiertoon myös omia korjausmateriaaleja ja korjattavaa. \nIllan esiintyjänä muusikko Jenni Venäläinen luo musiikillisia hetken kuvia kanteleillaan. Hän esittää materiaalia muotoutumassa olevalta akustiselta sooloalbumiltaan\, jonka ohjelmistossa ruotsalainen kansanmusiikki yhdistyy karjalaisen kanteleperinteeseen. Jenni on esiintynyt useilla kokoonpanoilla ja soolona ympäri Suomea\, Pohjois-Euroopassa sekä Yhdysvalloissa ja voittanut Konsta Jylhä -kilpailun vuonna 2024. \nEsitysaika klo 17.00. Korjaaminen saa jatkua esityksen aikana. Korjauspaja päättyy esityksen jälkeen. \n  \nTapahtumassa on esillä pieni näyttely korjausteemaan liittyviä kirjoja. Kuopion kaupunginkirjaston koostaman vinkkilistan avulla kirjastosta voi lainata lisää aihetta käsittelevää kirjallisuutta. \nKorjataan se\, mitä pystytään. Korjataan tämä! \nKorjataan tämä elämä kestäväksi elämäksi. \n  \nYhteistyössä Jätekukko\, Kuopion museo\, Kuopion kaupunginkirjasto\, Elävä säätiö\, Taike ja ITAK \n  \nOhjelmamuutokset ja täydennykset mahdollisia. \nLisätietoja OMPELUSEURAT Instagramista.
URL:https://kuopionmuseot.fi/tapahtuma/ompeluseurat-kesavaatteiden-korjaaminen-jenni-venalainen-ja-kantele/
LOCATION:Kuopion museo
ATTACH;FMTTYPE=image/jpeg:https://kuopionmuseot.fi/wp-content/uploads/2026/01/Korjataan_tama_Kevat_2026_1920x1080px_Museo_kalenteri.jpg
END:VEVENT
END:VCALENDAR