BEGIN:VCALENDAR
VERSION:2.0
PRODID:-//Kuopion museot - ECPv6.15.20//NONSGML v1.0//EN
CALSCALE:GREGORIAN
METHOD:PUBLISH
X-WR-CALNAME:Kuopion museot
X-ORIGINAL-URL:https://kuopionmuseot.fi
X-WR-CALDESC:Tapahtumat Kuopion museot
REFRESH-INTERVAL;VALUE=DURATION:PT1H
X-Robots-Tag:noindex
X-PUBLISHED-TTL:PT1H
BEGIN:VTIMEZONE
TZID:Europe/Helsinki
BEGIN:DAYLIGHT
TZOFFSETFROM:+0200
TZOFFSETTO:+0300
TZNAME:EEST
DTSTART:20250330T010000
END:DAYLIGHT
BEGIN:STANDARD
TZOFFSETFROM:+0300
TZOFFSETTO:+0200
TZNAME:EET
DTSTART:20251026T010000
END:STANDARD
BEGIN:DAYLIGHT
TZOFFSETFROM:+0200
TZOFFSETTO:+0300
TZNAME:EEST
DTSTART:20260329T010000
END:DAYLIGHT
BEGIN:STANDARD
TZOFFSETFROM:+0300
TZOFFSETTO:+0200
TZNAME:EET
DTSTART:20261025T010000
END:STANDARD
BEGIN:DAYLIGHT
TZOFFSETFROM:+0200
TZOFFSETTO:+0300
TZNAME:EEST
DTSTART:20270328T010000
END:DAYLIGHT
BEGIN:STANDARD
TZOFFSETFROM:+0300
TZOFFSETTO:+0200
TZNAME:EET
DTSTART:20271031T010000
END:STANDARD
END:VTIMEZONE
BEGIN:VEVENT
DTSTART;TZID=Europe/Helsinki:20260107T130000
DTEND;TZID=Europe/Helsinki:20260107T173000
DTSTAMP:20260422T234010
CREATED:20251216T125555Z
LAST-MODIFIED:20251219T120801Z
UID:10004076-1767790800-1767807000@kuopionmuseot.fi
SUMMARY:OMPELUSEURAT: Parsintapaja & tanssitaitelija Outi Markkula ja sello
DESCRIPTION:Ke 7.1. klo 13-17.30 Huomioithan muuttuneen ajan!  \nAloitetaan vuosi korjaamalla keskittyneesti käsin museon monitoimitilassa. Aloittelija tai taideparsija –  tule oppimaan yhdessä ja parsimaan sukat\, lapaset\, sormikkaat\, villapaita tai -housut\, korjaamaan neuleen resorit tai karanneet silmukat. \nVoit tulla teemasta riippumatta kysymään neuvoa kaikenlaisten korjaustöiden kanssa\, mutta tällä kerralla käytössä ei ole ompelukoneita. Korjausaktiivit neuvovat korjaamisen alkuun. \nPajaan saa tulla ilman ennakkoilmoittautumista oman aikataulun mukaan\, vapaa pääsy. Paikan päällä on parsintalankoja\, neuloja ym. välineitä. Voit tuoda käyttöön ja kiertoon myös omia pieniä lankakerän loppuja. \nTanssitaiteilija Outi Markkula tutkii illan esiintyjänä\, mitä soitto ja tanssi ovat päällekkäisinä harjoituksina. Työskentelyn pohjamateriaalina on joukko suomalaisessa kansanmusiikkiperinteessä sekä omassa suvussa kulkeneita kehtolauluja ja melodioita\, joiden pohjalta Markkula improvisoi\, luo musiikkia ja liikettä. Sellon ja naisruumiin välisyys on yhteenkietoutumisen\, kuuntelemisen ja kannattelemisen koreografiaa sekä soittajan ja soittimen yhteistä materiaalisuutta\, hybridikehoa. Sellon soittoasento on jo itsessään eräänlainen halaus tai piteleminen\, ja sen soittamista voidaan ajatella kahden toisiaan vasten resonoivan kehon musiikkina. \nEsitysaika klo 17.00. Korjaaminen saa jatkua esityksen aikana. \nTapahtumassa on esillä pieni näyttely korjausteemaan liittyviä kirjoja. Kuopion kaupunginkirjaston koostaman vinkkilistan avulla kirjastosta voi lainata lisää kutakin aihetta käsittelevää kirjallisuutta. \nKorjataan se\, mitä pystytään. Korjataan tämä! \nKorjataan tämä elämä kestäväksi elämäksi. \nYhteistyössä Jätekukko\, Kuopion museo\, Kuopion kaupunginkirjasto\, Elävä säätiö\, Taika ja ITAK \n  \nOhjelmamuutokset ja täydennykset mahdollisia. \nLisätietoja OMPELUSEURAT Instagramista. \nOMPELUSEURAT Korjauspajojen kevätkausi 2026 \nKorjauspaja avoinna klo 13-17.30\, esitysaika pääsääntöisesti klo 17.00 \nPaikka: Kuopion museon monitoimitila (Museokatu 1)\, vapaa pääsy \nKe 7.1. Parsintapaja & Outi Markkula ja sello \nKe 4.2. Korjataan alusvaatteita & taiteilija \nKe 11.3. Farkkujen paikkaus ja taskupussien korjaus & taiteilija \nKe 8.4.  Pehmolelujen korjaaminen & taiteilija \nKe 6.5.  Kesävaatteiden korjaaminen & taiteilija \nOhjelmamuutokset ja täydennykset mahdollisia.
URL:https://kuopionmuseot.fi/tapahtuma/ompeluseurat-parsintapaja-tanssitaitelija-outi-markkula-ja-sello/
LOCATION:Kuopion museo
ATTACH;FMTTYPE=image/jpeg:https://kuopionmuseot.fi/wp-content/uploads/2025/12/Korjataantama-korjauspajakuva.jpg
END:VEVENT
END:VCALENDAR