BEGIN:VCALENDAR
VERSION:2.0
PRODID:-//Kuopion museot - ECPv6.15.20//NONSGML v1.0//EN
CALSCALE:GREGORIAN
METHOD:PUBLISH
X-ORIGINAL-URL:https://kuopionmuseot.fi
X-WR-CALDESC:Tapahtumat Kuopion museot
REFRESH-INTERVAL;VALUE=DURATION:PT1H
X-Robots-Tag:noindex
X-PUBLISHED-TTL:PT1H
BEGIN:VTIMEZONE
TZID:Europe/Helsinki
BEGIN:DAYLIGHT
TZOFFSETFROM:+0200
TZOFFSETTO:+0300
TZNAME:EEST
DTSTART:20250330T010000
END:DAYLIGHT
BEGIN:STANDARD
TZOFFSETFROM:+0300
TZOFFSETTO:+0200
TZNAME:EET
DTSTART:20251026T010000
END:STANDARD
BEGIN:DAYLIGHT
TZOFFSETFROM:+0200
TZOFFSETTO:+0300
TZNAME:EEST
DTSTART:20260329T010000
END:DAYLIGHT
BEGIN:STANDARD
TZOFFSETFROM:+0300
TZOFFSETTO:+0200
TZNAME:EET
DTSTART:20261025T010000
END:STANDARD
BEGIN:DAYLIGHT
TZOFFSETFROM:+0200
TZOFFSETTO:+0300
TZNAME:EEST
DTSTART:20270328T010000
END:DAYLIGHT
BEGIN:STANDARD
TZOFFSETFROM:+0300
TZOFFSETTO:+0200
TZNAME:EET
DTSTART:20271031T010000
END:STANDARD
END:VTIMEZONE
BEGIN:VEVENT
DTSTART;TZID=Europe/Helsinki:20260311T130000
DTEND;TZID=Europe/Helsinki:20260311T173000
DTSTAMP:20260422T194739
CREATED:20260127T094036Z
LAST-MODIFIED:20260127T094036Z
UID:10004155-1773234000-1773250200@kuopionmuseot.fi
SUMMARY:OMPELUSEURAT: Farkkujen paikkaus ja taskupussien korjaus
DESCRIPTION:Maaliskuussa on taas aika korjata lempifarkkujen polvet ja kuluneet haarat. Vaihdetaan revenneeseen taskupussiin uusi pohja tai paikataan pienet reijät ja vahvistetaan kulumakohdat. Korjauspajan farkkupaloista löytyy paikkauksiin värivaihtoehtoja ja sekä joustavaa että perinteistä farkkua. \nVoit teemasta riippumatta tulla kaikenlaisten korjaustöiden kanssa ja oman aikataulun mukaan. Korjausaktiivit neuvovat ja auttavat korjaamisen alkuun. \nPaikan päältä löytyy ompelukoneita ja korjaamiseen paikkakankaita\, lankoja ym. Voit tuoda käyttöön ja kiertoon myös omia korjausmateriaaleja. \nTällekin kerralle ilmaantuu meille taiteilija esittämään elävää taidetta. Ehkä korjatuissa farkuissa? \nEsitysaika klo 17.00. Korjaaminen saa jatkua esityksen aikana. Korjauspaja päättyy esityksen jälkeen. \nTapahtumassa on esillä pieni näyttely korjausteemaan liittyviä kirjoja. Kuopion kaupunginkirjaston koostaman vinkkilistan avulla kirjastosta voi lainata lisää aihetta käsittelevää kirjallisuutta. \nKorjataan se\, mitä pystytään. Korjataan tämä! \nKorjataan tämä elämä kestäväksi elämäksi. \n  \nYhteistyössä Jätekukko\, Kuopion museo\, Kuopion kaupunginkirjasto\, Elävä säätiö\, Taike ja ITAK \n  \nOhjelmamuutokset ja täydennykset mahdollisia. \nLisätietoja OMPELUSEURAT Instagramista. \nKevätkauden muut korjauspajat: \nKe 8.4. klo 13-17.30 OMPELUSEURAT: Pehmolelujen korjaaminen & Lasse Forsgren ja laitteet \nKe 6.5. klo 13-17.30 OMPELUSEURAT: Kesävaatteiden korjaaminen & Jenni Venäläinen ja kantele
URL:https://kuopionmuseot.fi/tapahtuma/ompeluseurat-farkkujen-paikkaus-ja-taskupussien-korjaus/
LOCATION:Kuopion museo
ATTACH;FMTTYPE=image/jpeg:https://kuopionmuseot.fi/wp-content/uploads/2026/01/Korjataan_tama_Kevat_2026_1920x1080px_Museo_kalenteri.jpg
END:VEVENT
END:VCALENDAR