BEGIN:VCALENDAR
VERSION:2.0
PRODID:-//Kuopion museot - ECPv6.15.20//NONSGML v1.0//EN
CALSCALE:GREGORIAN
METHOD:PUBLISH
X-WR-CALNAME:Kuopion museot
X-ORIGINAL-URL:https://kuopionmuseot.fi
X-WR-CALDESC:Tapahtumat Kuopion museot
REFRESH-INTERVAL;VALUE=DURATION:PT1H
X-Robots-Tag:noindex
X-PUBLISHED-TTL:PT1H
BEGIN:VTIMEZONE
TZID:Europe/Helsinki
BEGIN:DAYLIGHT
TZOFFSETFROM:+0200
TZOFFSETTO:+0300
TZNAME:EEST
DTSTART:20250330T010000
END:DAYLIGHT
BEGIN:STANDARD
TZOFFSETFROM:+0300
TZOFFSETTO:+0200
TZNAME:EET
DTSTART:20251026T010000
END:STANDARD
BEGIN:DAYLIGHT
TZOFFSETFROM:+0200
TZOFFSETTO:+0300
TZNAME:EEST
DTSTART:20260329T010000
END:DAYLIGHT
BEGIN:STANDARD
TZOFFSETFROM:+0300
TZOFFSETTO:+0200
TZNAME:EET
DTSTART:20261025T010000
END:STANDARD
BEGIN:DAYLIGHT
TZOFFSETFROM:+0200
TZOFFSETTO:+0300
TZNAME:EEST
DTSTART:20270328T010000
END:DAYLIGHT
BEGIN:STANDARD
TZOFFSETFROM:+0300
TZOFFSETTO:+0200
TZNAME:EET
DTSTART:20271031T010000
END:STANDARD
END:VTIMEZONE
BEGIN:VEVENT
DTSTART;TZID=Europe/Helsinki:20260513T140000
DTEND;TZID=Europe/Helsinki:20260513T151500
DTSTAMP:20260423T035824
CREATED:20260323T083416Z
LAST-MODIFIED:20260323T084200Z
UID:10004246-1778680800-1778685300@kuopionmuseot.fi
SUMMARY:Iskelmien ystävät: Kaunis kotimaani
DESCRIPTION:Kuopion kansalaisopiston laulu- ja soittoryhmä Iskelmien ystävät Johtajanaan Petra Lisitsin-Mantere esittää näytelmällisen lauluesityksen Kaunis kotimaani. \n\nEsityksessä kuljetaan laulujen ja humorististen kertomusten avulla ympäri Suomea kuvaten eri maakuntien piirteitä. Esityksen kesto on reilu tunti. \nLämpimästi tervetuloa! \nKuopion museon monitoimitilassa olevaan esitykseen on vapaa pääsy. Tila on esteetön.
URL:https://kuopionmuseot.fi/tapahtuma/kaunis-kotimaani/
LOCATION:Kuopion museo
ATTACH;FMTTYPE=image/jpeg:https://kuopionmuseot.fi/wp-content/uploads/2026/03/Iskelmien-ystavat-130526.jpg
END:VEVENT
END:VCALENDAR