BEGIN:VCALENDAR
VERSION:2.0
PRODID:-//Kuopion museot - ECPv6.15.20//NONSGML v1.0//EN
CALSCALE:GREGORIAN
METHOD:PUBLISH
X-ORIGINAL-URL:https://kuopionmuseot.fi
X-WR-CALDESC:Tapahtumat Kuopion museot
REFRESH-INTERVAL;VALUE=DURATION:PT1H
X-Robots-Tag:noindex
X-PUBLISHED-TTL:PT1H
BEGIN:VTIMEZONE
TZID:Europe/Helsinki
BEGIN:DAYLIGHT
TZOFFSETFROM:+0200
TZOFFSETTO:+0300
TZNAME:EEST
DTSTART:20230326T010000
END:DAYLIGHT
BEGIN:STANDARD
TZOFFSETFROM:+0300
TZOFFSETTO:+0200
TZNAME:EET
DTSTART:20231029T010000
END:STANDARD
BEGIN:DAYLIGHT
TZOFFSETFROM:+0200
TZOFFSETTO:+0300
TZNAME:EEST
DTSTART:20240331T010000
END:DAYLIGHT
BEGIN:STANDARD
TZOFFSETFROM:+0300
TZOFFSETTO:+0200
TZNAME:EET
DTSTART:20241027T010000
END:STANDARD
BEGIN:DAYLIGHT
TZOFFSETFROM:+0200
TZOFFSETTO:+0300
TZNAME:EEST
DTSTART:20250330T010000
END:DAYLIGHT
BEGIN:STANDARD
TZOFFSETFROM:+0300
TZOFFSETTO:+0200
TZNAME:EET
DTSTART:20251026T010000
END:STANDARD
END:VTIMEZONE
BEGIN:VEVENT
DTSTART;TZID=Europe/Helsinki:20241203T160000
DTEND;TZID=Europe/Helsinki:20241203T163000
DTSTAMP:20260425T015220
CREATED:20241127T105233Z
LAST-MODIFIED:20241127T105401Z
UID:10003298-1733241600-1733243400@kuopionmuseot.fi
SUMMARY:Hehkuu!-festivaalin konsertti Kuopion museolla
DESCRIPTION:Kuopion konservatoriossa järjestetään joulukuun alussa ammatillisen koulutuksen klassisen linjan opiskelijoiden näyttökonserteista oma festivaali 3.–11.12.2024. \nti. 3.12. klo 16 Kuopion museon monitoimitila\, Museokatu 1 \nKonsertissa kuullaan osia Paganinin triosta kitaralle\, viululle ja sellolle\, Paganinin Cantabile viululle ja kitaralle\, sekä osia Bartókin Romanialaisista tansseista sovitettuina viululle ja kitaralle. \nFiia Sirviö\, kitara\nVenla Pursiainen\, viulu\nElena Laakso\, viulu\nHarri Hyppölä\, sello\nPaganini\, Bartok \nKonserttiin on vapaa pääsy.
URL:https://kuopionmuseot.fi/tapahtuma/hehkuu-festivaalin-konsertti-kuopion-museolla/
LOCATION:Kuopion museo
ATTACH;FMTTYPE=image/jpeg:https://kuopionmuseot.fi/wp-content/uploads/2024/11/hehkuu-festivaali.jpg
END:VEVENT
BEGIN:VEVENT
DTSTART;TZID=Europe/Helsinki:20241205T130000
DTEND;TZID=Europe/Helsinki:20241205T133000
DTSTAMP:20260425T015220
CREATED:20241129T100721Z
LAST-MODIFIED:20241129T100721Z
UID:10003300-1733403600-1733405400@kuopionmuseot.fi
SUMMARY:Hehkuu!-festivaalin lounaskonsertti Kuopion museolla
DESCRIPTION:Lounaskonsertin esiintyjänä Fiia Sirviö\, kitara. \n \n**** \nHehkuu!-festivaalista: Kuopion konservatoriossa järjestetään joulukuun alussa ammatillisen koulutuksen klassisen linjan opiskelijoiden näyttökonserteista oma festivaali 3.–11.12.2024. \nHehkuu! -festivaalin konsertteja järjestetään Musiikkikeskuksen lisäksi kaupungintalolla\, Kuopion Museolla ja Galleria Ars Liberassa. \nFestivaalin tavoitteena on tuoda esiin konservatorion ammatillisen koulutuksen konserttitarjontaa ja osaamista. Konsertteja viedään kaupunkilaisten luokse muuallekin kuin varsinaisiin konserttisaleihin. \nKaikkiin konsertteihin on vapaa pääsy.
URL:https://kuopionmuseot.fi/tapahtuma/hehkuu-festivaalin-lounaskonsertti-kuopion-museolla/
LOCATION:Kuopion museo
ATTACH;FMTTYPE=image/jpeg:https://kuopionmuseot.fi/wp-content/uploads/2024/11/hehkuu-festivaali.jpg
END:VEVENT
BEGIN:VEVENT
DTSTART;TZID=Europe/Helsinki:20241208T150000
DTEND;TZID=Europe/Helsinki:20241208T160000
DTSTAMP:20260425T015220
CREATED:20241108T081548Z
LAST-MODIFIED:20241108T081548Z
UID:10003269-1733670000-1733673600@kuopionmuseot.fi
SUMMARY:Virkistävä viulunsoitto kaikilla elämänaalloilla
DESCRIPTION:Suomalaisen musiikin viulukonsertti Kuopion museon monitoimitilassa\, viulisti Maria Nikulina. Vapaa pääsy. \nTapahtuma on osa Kuopio250-juhlavuotta.
URL:https://kuopionmuseot.fi/tapahtuma/virkistava-viulunsoitto-kaikilla-elamanaalloilla/
LOCATION:Kuopion museo
ATTACH;FMTTYPE=image/jpeg:https://kuopionmuseot.fi/wp-content/uploads/2024/11/MariaNikulina.jpg
END:VEVENT
END:VCALENDAR