BEGIN:VCALENDAR
VERSION:2.0
PRODID:-//Kuopion museot - ECPv6.15.20//NONSGML v1.0//EN
CALSCALE:GREGORIAN
METHOD:PUBLISH
X-WR-CALNAME:Kuopion museot
X-ORIGINAL-URL:https://kuopionmuseot.fi
X-WR-CALDESC:Tapahtumat Kuopion museot
REFRESH-INTERVAL;VALUE=DURATION:PT1H
X-Robots-Tag:noindex
X-PUBLISHED-TTL:PT1H
BEGIN:VTIMEZONE
TZID:Europe/Helsinki
BEGIN:DAYLIGHT
TZOFFSETFROM:+0200
TZOFFSETTO:+0300
TZNAME:EEST
DTSTART:20230326T010000
END:DAYLIGHT
BEGIN:STANDARD
TZOFFSETFROM:+0300
TZOFFSETTO:+0200
TZNAME:EET
DTSTART:20231029T010000
END:STANDARD
BEGIN:DAYLIGHT
TZOFFSETFROM:+0200
TZOFFSETTO:+0300
TZNAME:EEST
DTSTART:20240331T010000
END:DAYLIGHT
BEGIN:STANDARD
TZOFFSETFROM:+0300
TZOFFSETTO:+0200
TZNAME:EET
DTSTART:20241027T010000
END:STANDARD
BEGIN:DAYLIGHT
TZOFFSETFROM:+0200
TZOFFSETTO:+0300
TZNAME:EEST
DTSTART:20250330T010000
END:DAYLIGHT
BEGIN:STANDARD
TZOFFSETFROM:+0300
TZOFFSETTO:+0200
TZNAME:EET
DTSTART:20251026T010000
END:STANDARD
END:VTIMEZONE
BEGIN:VEVENT
DTSTART;TZID=Europe/Helsinki:20241205T130000
DTEND;TZID=Europe/Helsinki:20241205T133000
DTSTAMP:20260425T003326
CREATED:20241129T100721Z
LAST-MODIFIED:20241129T100721Z
UID:10003300-1733403600-1733405400@kuopionmuseot.fi
SUMMARY:Hehkuu!-festivaalin lounaskonsertti Kuopion museolla
DESCRIPTION:Lounaskonsertin esiintyjänä Fiia Sirviö\, kitara. \n \n**** \nHehkuu!-festivaalista: Kuopion konservatoriossa järjestetään joulukuun alussa ammatillisen koulutuksen klassisen linjan opiskelijoiden näyttökonserteista oma festivaali 3.–11.12.2024. \nHehkuu! -festivaalin konsertteja järjestetään Musiikkikeskuksen lisäksi kaupungintalolla\, Kuopion Museolla ja Galleria Ars Liberassa. \nFestivaalin tavoitteena on tuoda esiin konservatorion ammatillisen koulutuksen konserttitarjontaa ja osaamista. Konsertteja viedään kaupunkilaisten luokse muuallekin kuin varsinaisiin konserttisaleihin. \nKaikkiin konsertteihin on vapaa pääsy.
URL:https://kuopionmuseot.fi/tapahtuma/hehkuu-festivaalin-lounaskonsertti-kuopion-museolla/
LOCATION:Kuopion museo
ATTACH;FMTTYPE=image/jpeg:https://kuopionmuseot.fi/wp-content/uploads/2024/11/hehkuu-festivaali.jpg
END:VEVENT
END:VCALENDAR