BEGIN:VCALENDAR
VERSION:2.0
PRODID:-//Kuopion museot - ECPv6.15.20//NONSGML v1.0//EN
CALSCALE:GREGORIAN
METHOD:PUBLISH
X-WR-CALNAME:Kuopion museot
X-ORIGINAL-URL:https://kuopionmuseot.fi
X-WR-CALDESC:Tapahtumat Kuopion museot
REFRESH-INTERVAL;VALUE=DURATION:PT1H
X-Robots-Tag:noindex
X-PUBLISHED-TTL:PT1H
BEGIN:VTIMEZONE
TZID:Europe/Helsinki
BEGIN:DAYLIGHT
TZOFFSETFROM:+0200
TZOFFSETTO:+0300
TZNAME:EEST
DTSTART:20240331T010000
END:DAYLIGHT
BEGIN:STANDARD
TZOFFSETFROM:+0300
TZOFFSETTO:+0200
TZNAME:EET
DTSTART:20241027T010000
END:STANDARD
BEGIN:DAYLIGHT
TZOFFSETFROM:+0200
TZOFFSETTO:+0300
TZNAME:EEST
DTSTART:20250330T010000
END:DAYLIGHT
BEGIN:STANDARD
TZOFFSETFROM:+0300
TZOFFSETTO:+0200
TZNAME:EET
DTSTART:20251026T010000
END:STANDARD
BEGIN:DAYLIGHT
TZOFFSETFROM:+0200
TZOFFSETTO:+0300
TZNAME:EEST
DTSTART:20260329T010000
END:DAYLIGHT
BEGIN:STANDARD
TZOFFSETFROM:+0300
TZOFFSETTO:+0200
TZNAME:EET
DTSTART:20261025T010000
END:STANDARD
END:VTIMEZONE
BEGIN:VEVENT
DTSTART;TZID=Europe/Helsinki:20250604T100000
DTEND;TZID=Europe/Helsinki:20250604T190000
DTSTAMP:20260423T143622
CREATED:20250526T103154Z
LAST-MODIFIED:20250526T104445Z
UID:10003709-1749031200-1749063600@kuopionmuseot.fi
SUMMARY:Kulttuurimaistiainen: vapaa pääsy Kuopion museoon
DESCRIPTION:Tervetuloa tutustumaan maksutta Kuopion museon näyttelyihin keskiviikkona 4.9. klo 10-19! Vapaa pääsy Kuopion museoon on osa Kuopion kaupungin kulttuurilaitosten Kulttuurimaistiaisia. \nKlo 17-17.30 museon aulassa esiintyy Triijuulla-yhtye ja museon sisäpihalla on klo 17.30-18.30 laatikkoviljelijöiden kaikille avoin kylvökerta. \n \nKuopion museon näyttely Myyttiset – metsän kätköissä sekä Triijuulla-konsertti ovat osa Kuopio250-juhlavuoden ohjelmistoa.
URL:https://kuopionmuseot.fi/tapahtuma/kulttuurimaistiainen-vapaa-paasy/
LOCATION:Kuopion museo
ATTACH;FMTTYPE=image/jpeg:https://kuopionmuseot.fi/wp-content/uploads/2025/05/Kulttuurimaistiainen-vapaapaasy-Kuopionmuseo-1.jpg
END:VEVENT
BEGIN:VEVENT
DTSTART;TZID=Europe/Helsinki:20250604T170000
DTEND;TZID=Europe/Helsinki:20250604T173000
DTSTAMP:20260423T143622
CREATED:20250523T051040Z
LAST-MODIFIED:20250523T051040Z
UID:10003706-1749056400-1749058200@kuopionmuseot.fi
SUMMARY:Triijuulla
DESCRIPTION:Triijuulla  on kolmen laulajan\, viulun\, mandoliinin\, kitaran ja basson kokoonpano. Ohjelmisto koostuu kansamusiikista ja vanhasta iskelmästä sovitettuna kyseiselle yhtyeelle. Triijuulla on toiminut jo yli 20vuotta esiintyen erilaisissa tapahtumissa kuten Kaustinen\, Siilifolk\, Folkfinlandia yms. \nMuseon katukerroksen konsertin kesto noin 30 min\, vapaa pääsy. Lämpimästi tervetuloa! \nTila on esteetön.
URL:https://kuopionmuseot.fi/tapahtuma/triijuulla/
LOCATION:Kuopion museo
ATTACH;FMTTYPE=image/jpeg:https://kuopionmuseot.fi/wp-content/uploads/2025/05/Triijuulla.jpg
END:VEVENT
BEGIN:VEVENT
DTSTART;TZID=Europe/Helsinki:20250605T150000
DTEND;TZID=Europe/Helsinki:20250605T153000
DTSTAMP:20260423T143622
CREATED:20250530T080521Z
LAST-MODIFIED:20250727T080852Z
UID:10003714-1749135600-1749137400@kuopionmuseot.fi
SUMMARY:Laulu- ja soitinyhtye Triijuulla Kuopion korttelimuseossa
DESCRIPTION:Triijuulla  on kolmen laulajan\, viulun\, mandoliinin\, kitaran ja basson kokoonpano. Ohjelmisto koostuu kansanmusiikista ja vanhasta iskelmästä sovitettuna kyseiselle yhtyeelle. Triijuulla on toiminut jo yli 20 vuotta esiintyen erilaisissa tapahtumissa kuten Kaustinen\, Siilifolk\, Folkfinlandia yms. \nKorttelimuseossa Triijuulla esiintyy torstaina 5.6. klo 15 ja sunnuntaina 3.8. klo 13. Kesto noin 30 min\, vapaa pääsy. Lämpimästi tervetuloa!
URL:https://kuopionmuseot.fi/tapahtuma/triijuulla-kuopion-korttelimuseossa/2025-06-05/
LOCATION:Korttelimuseo\, Kirkkokatu 22\, Kuopio\, 70100\, Suomi
ATTACH;FMTTYPE=image/jpeg:https://kuopionmuseot.fi/wp-content/uploads/2025/05/Triijuulla-1.jpg
END:VEVENT
BEGIN:VEVENT
DTSTART;TZID=Europe/Helsinki:20250618T150000
DTEND;TZID=Europe/Helsinki:20250618T180000
DTSTAMP:20260423T143622
CREATED:20250602T085220Z
LAST-MODIFIED:20250602T085443Z
UID:10003722-1750258800-1750269600@kuopionmuseot.fi
SUMMARY:MusaMaja Kuopion museolla
DESCRIPTION:Antti Raekallion elämystila\, konsertti ja soitintyöpaja MusaMaja ilahduttaa lapsia ja lapsenmielisiä Kuopion museolla! \nMyyttiset – metsän kätköissä -näyttelyyn soveltuvasti kansanmusiikkia ja metsäisiä lauluja sisältävät konsertit tasatunnein klo 15\, 16 sekä 17.00. Konserttien välissä on vapaata soittimien kokeilua ja yhteisjamittelua museovieraiden kanssa. \nVapaa pääsy – lämpimästi tervetuloa! Tapahtuman mahdollistaa Kuopion kansalaistoiminnan palvelut. \nTapahtuma on monitoimitilassa ja se on esteetön.
URL:https://kuopionmuseot.fi/tapahtuma/musamaja/
LOCATION:Kuopion museo
ATTACH;FMTTYPE=image/jpeg:https://kuopionmuseot.fi/wp-content/uploads/2025/06/Myyttiset-MusaMaja-1.jpg
END:VEVENT
END:VCALENDAR