BEGIN:VCALENDAR
VERSION:2.0
PRODID:-//Kuopion museot - ECPv6.15.20//NONSGML v1.0//EN
CALSCALE:GREGORIAN
METHOD:PUBLISH
X-WR-CALNAME:Kuopion museot
X-ORIGINAL-URL:https://kuopionmuseot.fi
X-WR-CALDESC:Tapahtumat Kuopion museot
REFRESH-INTERVAL;VALUE=DURATION:PT1H
X-Robots-Tag:noindex
X-PUBLISHED-TTL:PT1H
BEGIN:VTIMEZONE
TZID:Europe/Helsinki
BEGIN:DAYLIGHT
TZOFFSETFROM:+0200
TZOFFSETTO:+0300
TZNAME:EEST
DTSTART:20250330T010000
END:DAYLIGHT
BEGIN:STANDARD
TZOFFSETFROM:+0300
TZOFFSETTO:+0200
TZNAME:EET
DTSTART:20251026T010000
END:STANDARD
BEGIN:DAYLIGHT
TZOFFSETFROM:+0200
TZOFFSETTO:+0300
TZNAME:EEST
DTSTART:20260329T010000
END:DAYLIGHT
BEGIN:STANDARD
TZOFFSETFROM:+0300
TZOFFSETTO:+0200
TZNAME:EET
DTSTART:20261025T010000
END:STANDARD
BEGIN:DAYLIGHT
TZOFFSETFROM:+0200
TZOFFSETTO:+0300
TZNAME:EEST
DTSTART:20270328T010000
END:DAYLIGHT
BEGIN:STANDARD
TZOFFSETFROM:+0300
TZOFFSETTO:+0200
TZNAME:EET
DTSTART:20271031T010000
END:STANDARD
END:VTIMEZONE
BEGIN:VEVENT
DTSTART;TZID=Europe/Helsinki:20260327T160000
DTEND;TZID=Europe/Helsinki:20260327T171500
DTSTAMP:20260423T004821
CREATED:20260319T095117Z
LAST-MODIFIED:20260319T095616Z
UID:10004245-1774627200-1774631700@kuopionmuseot.fi
SUMMARY:Puhetta kokonaisturvallisuudesta: Luonto kriisinkestävyytemme vahvistajana
DESCRIPTION:Mikä on nykyinen luontosuhteemme?\nMiksi luonnossa liikkuminen on tärkeä osa arjen turvallisuutta ja hyvinvointia?\nTervetuloa maksuttomaan\, kaikille avoimeen tilaisuuteen kuulemaan lisää ja keskustelemaan luontotoimittaja Mikko “Peltsi” Peltolan kanssa! \nPaikkana on Kuopion museon monitoimitila\, joka on esteetön. (Huom. museon näyttelyt sulkeutuvat klo 17\, mutta tapahtuma jatkuu tarvittaessa monitoimitilassa sen jälkeenkin. Kahvila Kantti ovat avoinna klo 18 saakka.) \n*** \nTilaisuuden järjestää Kokonaisturvallisuuden osaamiskeskus \, ja se on toinen osa kevään 2026 tapahtumasarjasta\, jossa kokonaisturvallisuuden käsitettä avataan eri näkökulmista. Kevään tilaisuudet jatkuvat: \n\nhuhtikuussa\, jolloin keskustellaan yhdessä piispa Jari Jolkkosen kanssa henkisestä kriisinkestävyydestä\,\ntoukokuussa\, jolloin esillä ovat arjen häiriötilanteet\, alustajana siviilivalmiuden vanhempi opettaja Anu Keränen Pelastusopistolta sekä\nkesäkuussa\, jolloin teemana on taide ja kulttuuri sekä niiden merkitys henkiselle kriisinkestävyydellemme. Vieraana tällöin kirjailija Sirpa Kähkönen.\n\nAlkuperäinen tapahtumasivu löytyy täältä.
URL:https://kuopionmuseot.fi/tapahtuma/puhetta-kokonaisturvallisuudesta-luonto-kriisinkestavyytemme-vahvistajana/
LOCATION:Kuopion museo
ATTACH;FMTTYPE=image/jpeg:https://kuopionmuseot.fi/wp-content/uploads/2026/03/Kokonaisturvallisiuus_Peltsi270326_1920x1080_2.jpg
END:VEVENT
END:VCALENDAR