BEGIN:VCALENDAR
VERSION:2.0
PRODID:-//Kuopion museot - ECPv6.15.20//NONSGML v1.0//EN
CALSCALE:GREGORIAN
METHOD:PUBLISH
X-ORIGINAL-URL:https://kuopionmuseot.fi
X-WR-CALDESC:Tapahtumat Kuopion museot
REFRESH-INTERVAL;VALUE=DURATION:PT1H
X-Robots-Tag:noindex
X-PUBLISHED-TTL:PT1H
BEGIN:VTIMEZONE
TZID:Europe/Helsinki
BEGIN:DAYLIGHT
TZOFFSETFROM:+0200
TZOFFSETTO:+0300
TZNAME:EEST
DTSTART:20230326T010000
END:DAYLIGHT
BEGIN:STANDARD
TZOFFSETFROM:+0300
TZOFFSETTO:+0200
TZNAME:EET
DTSTART:20231029T010000
END:STANDARD
BEGIN:DAYLIGHT
TZOFFSETFROM:+0200
TZOFFSETTO:+0300
TZNAME:EEST
DTSTART:20240331T010000
END:DAYLIGHT
BEGIN:STANDARD
TZOFFSETFROM:+0300
TZOFFSETTO:+0200
TZNAME:EET
DTSTART:20241027T010000
END:STANDARD
BEGIN:DAYLIGHT
TZOFFSETFROM:+0200
TZOFFSETTO:+0300
TZNAME:EEST
DTSTART:20250330T010000
END:DAYLIGHT
BEGIN:STANDARD
TZOFFSETFROM:+0300
TZOFFSETTO:+0200
TZNAME:EET
DTSTART:20251026T010000
END:STANDARD
BEGIN:DAYLIGHT
TZOFFSETFROM:+0200
TZOFFSETTO:+0300
TZNAME:EEST
DTSTART:20260329T010000
END:DAYLIGHT
BEGIN:STANDARD
TZOFFSETFROM:+0300
TZOFFSETTO:+0200
TZNAME:EET
DTSTART:20261025T010000
END:STANDARD
BEGIN:DAYLIGHT
TZOFFSETFROM:+0200
TZOFFSETTO:+0300
TZNAME:EEST
DTSTART:20270328T010000
END:DAYLIGHT
BEGIN:STANDARD
TZOFFSETFROM:+0300
TZOFFSETTO:+0200
TZNAME:EET
DTSTART:20271031T010000
END:STANDARD
END:VTIMEZONE
BEGIN:VEVENT
DTSTART;TZID=Europe/Helsinki:20260327T160000
DTEND;TZID=Europe/Helsinki:20260327T171500
DTSTAMP:20260422T181058
CREATED:20260319T095117Z
LAST-MODIFIED:20260319T095616Z
UID:10004245-1774627200-1774631700@kuopionmuseot.fi
SUMMARY:Puhetta kokonaisturvallisuudesta: Luonto kriisinkestävyytemme vahvistajana
DESCRIPTION:Mikä on nykyinen luontosuhteemme?\nMiksi luonnossa liikkuminen on tärkeä osa arjen turvallisuutta ja hyvinvointia?\nTervetuloa maksuttomaan\, kaikille avoimeen tilaisuuteen kuulemaan lisää ja keskustelemaan luontotoimittaja Mikko “Peltsi” Peltolan kanssa! \nPaikkana on Kuopion museon monitoimitila\, joka on esteetön. (Huom. museon näyttelyt sulkeutuvat klo 17\, mutta tapahtuma jatkuu tarvittaessa monitoimitilassa sen jälkeenkin. Kahvila Kantti ovat avoinna klo 18 saakka.) \n*** \nTilaisuuden järjestää Kokonaisturvallisuuden osaamiskeskus \, ja se on toinen osa kevään 2026 tapahtumasarjasta\, jossa kokonaisturvallisuuden käsitettä avataan eri näkökulmista. Kevään tilaisuudet jatkuvat: \n\nhuhtikuussa\, jolloin keskustellaan yhdessä piispa Jari Jolkkosen kanssa henkisestä kriisinkestävyydestä\,\ntoukokuussa\, jolloin esillä ovat arjen häiriötilanteet\, alustajana siviilivalmiuden vanhempi opettaja Anu Keränen Pelastusopistolta sekä\nkesäkuussa\, jolloin teemana on taide ja kulttuuri sekä niiden merkitys henkiselle kriisinkestävyydellemme. Vieraana tällöin kirjailija Sirpa Kähkönen.\n\nAlkuperäinen tapahtumasivu löytyy täältä.
URL:https://kuopionmuseot.fi/tapahtuma/puhetta-kokonaisturvallisuudesta-luonto-kriisinkestavyytemme-vahvistajana/
LOCATION:Kuopion museo
ATTACH;FMTTYPE=image/jpeg:https://kuopionmuseot.fi/wp-content/uploads/2026/03/Kokonaisturvallisiuus_Peltsi270326_1920x1080_2.jpg
END:VEVENT
BEGIN:VEVENT
DTSTART;TZID=Europe/Helsinki:20241211T170000
DTEND;TZID=Europe/Helsinki:20241211T190000
DTSTAMP:20260422T181058
CREATED:20240821T050336Z
LAST-MODIFIED:20240821T050336Z
UID:10003114-1733936400-1733943600@kuopionmuseot.fi
SUMMARY:Filosofiakahvila: Kielellisen merkityksen objektiivisuus
DESCRIPTION:SnellmanEDUn Filosofiakahvilan syyskaudella jatketaan kevätkaudella 2024 aloitetulla teemalla objektiivisuus. \nKun ajattelemme\, ajattelemme jotakin asiaa tai kohdetta. Suomen kielessäkin on käytössä latinan kohdetta tarkoittavasta sanasta peräisin oleva ‘objekti’ johdannaisineen. Objektiivisen ja objektiivisuuden vastinpariksi esitetään taas yleisesti subjektiivinen ja subjektiivisuus. Myöskin latinasta peräisin oleva ’subjekti’ tarkoittaa kokijaa ja tekijää\, sitä joka ajattelee. Voiko se\, mitä ajattelemme\, olla kaikille ajattelijoille samaa – voiko meidän erillisten subjektien ajattelulla olla yhteinen objekti? Objektiivisuutta pidetään erityisesti tieteellisen tutkimuksen pyrkimyksenä. Jotkut pitänevät yhä objektiivisuutta myös ihanteena\, jota tulisi tavoitella muun muassa journalismissa ja oikeudenkäynneissä ja miksei yleisemminkin kriittisessä ajattelussa. Voiko ajattelumme olla\, edes joskus tai osittain\, objektiivista? Jos voi\, niin mitä tämä edellyttää\, ja jos ei\, niin miksi ei? \nKeskiviikkona 11.12.2024 klo 17-19 Filosofiakahvilan puhujavieraana on Jaakko Reinikainen\, filosofian tohtori\, aiheena Kielellisen merkityksen objektiivisuus. Tule mukaan kuuntelemaan ja keskustelemaan! \nSisältö\nSyyskauden Filosofiakahvilan ajankohdat ovat: \nke 25.9. klo 17-19 Mitä objektiivisuus tarkoittaa\, Inkeri Koskinen\, tieteenfilosofian tutkija\, dosentti\, Helsingin yliopisto >>\nke 13.11. klo 17-19  Journalismi ja objektiivisuus – mahdoton yhtälö?\, Olli Seuri\, Uuden Jutun perustajajäsen\, journalistiikan dosentti\, Jyväskylän yliopisto >>\nke 11.12. klo 17-19 Kielellisen merkityksen objektiivisuus\, Jaakko Reinikainen\, filosofian tohtori\, Tampereen yliopisto \nTilaisuus on kai­kil­le avoin ja maksuton. Se toteutetaan yhteistyössä Kuopion museon kanssa. SnellmanEDU suosittelee ilmoittautumaan etukäteen sivuiltaan löytyvällä lomakkeella. Kahvila Kantista voi noutaa omakustanteiset kahvit nautittavaksi tilaisuudessa.  Tervetuloa jälleen Filosofiakahvilaan\, sekä uudet että tutut kävijät!
URL:https://kuopionmuseot.fi/tapahtuma/filosofiakahvila-kielellisen-merkityksen-objektiivisuus/
LOCATION:Kuopion museo
ATTACH;FMTTYPE=image/jpeg:https://kuopionmuseot.fi/wp-content/uploads/2024/08/Filosofiakahvila-1-scaled.jpg
END:VEVENT
BEGIN:VEVENT
DTSTART;TZID=Europe/Helsinki:20241113T170000
DTEND;TZID=Europe/Helsinki:20241113T190000
DTSTAMP:20260422T181058
CREATED:20240821T045625Z
LAST-MODIFIED:20240821T050446Z
UID:10003113-1731517200-1731524400@kuopionmuseot.fi
SUMMARY:Filosofiakahvila: Journalismi ja objektiivisuus
DESCRIPTION:SnellmanEDUn Filosofiakahvilan syyskaudella jatketaan kevätkaudella 2024 aloitetulla teemalla objektiivisuus. \nKun ajattelemme\, ajattelemme jotakin asiaa tai kohdetta. Suomen kielessäkin on käytössä latinan kohdetta tarkoittavasta sanasta peräisin oleva ‘objekti’ johdannaisineen. Objektiivisen ja objektiivisuuden vastinpariksi esitetään taas yleisesti subjektiivinen ja subjektiivisuus. Myöskin latinasta peräisin oleva ’subjekti’ tarkoittaa kokijaa ja tekijää\, sitä joka ajattelee. Voiko se\, mitä ajattelemme\, olla kaikille ajattelijoille samaa – voiko meidän erillisten subjektien ajattelulla olla yhteinen objekti? Objektiivisuutta pidetään erityisesti tieteellisen tutkimuksen pyrkimyksenä. Jotkut pitänevät yhä objektiivisuutta myös ihanteena\, jota tulisi tavoitella muun muassa journalismissa ja oikeudenkäynneissä ja miksei yleisemminkin kriittisessä ajattelussa. Voiko ajattelumme olla\, edes joskus tai osittain\, objektiivista? Jos voi\, niin mitä tämä edellyttää\, ja jos ei\, niin miksi ei? \nKeskiviikkona 13.11.2024 klo 17-19 Filosofiakahvilan puhujavieraana on Olli Seuri\, Uuden Jutun perustajajäsen ja journalistiikan dosentti\, aiheena Journalismi ja objektiivisuus – mahdoton yhtälö?. Tule mukaan kuuntelemaan ja keskustelemaan! \nSisältö\nSyyskauden Filosofiakahvilan ajankohdat ovat: \nke 25.9. klo 17-19 Mitä objektiivisuus tarkoittaa\, Inkeri Koskinen\, tieteenfilosofian tutkija\, dosentti\, Helsingin yliopisto >>\nke 13.11. klo 17-19  Journalismi ja objektiivisuus – mahdoton yhtälö?\, Olli Seuri\, Uuden Jutun perustajajäsen\, journalistiikan dosentti\, Jyväskylän yliopisto >>\nke 11.12. klo 17-19 Kielellisen merkityksen objektiivisuus\, Jaakko Reinikainen\, filosofian tohtori\, Tampereen yliopisto \nTilaisuus on kai­kil­le avoin ja maksuton. Se toteutetaan yhteistyössä Kuopion museon kanssa. SnellmanEDU suosittelee ilmoittautumaan etukäteen sivuiltaan löytyvällä lomakkeella\, jotta saat tiedon mahdollisista muutoksista ja tulevista tapahtumista. Kahvila Kantista voi noutaa omakustanteiset kahvit nautittavaksi tilaisuudessa. Tervetuloa jälleen Filosofiakahvilaan\, sekä uudet että tutut kävijät!
URL:https://kuopionmuseot.fi/tapahtuma/filosofiakahvila-journalismi-ja-objektiivisuus/
LOCATION:Kuopion museo
ATTACH;FMTTYPE=image/jpeg:https://kuopionmuseot.fi/wp-content/uploads/2024/08/Filosofiakahvila-2-scaled.jpg
END:VEVENT
BEGIN:VEVENT
DTSTART;TZID=Europe/Helsinki:20241030T173000
DTEND;TZID=Europe/Helsinki:20241030T183000
DTSTAMP:20260422T181058
CREATED:20240925T090355Z
LAST-MODIFIED:20240925T090355Z
UID:10003216-1730309400-1730313000@kuopionmuseot.fi
SUMMARY:Hyvinvoinnin iltakoulu – Vaikeiden tunteiden punainen lanka
DESCRIPTION:Miten sietää vaikeaksi koettuja tunteita? Miten ilmaista\, purkaa ja käsitellä niitä?\nEntä mitä tarpeita niiden alla on\, mitä tunteiden viestistä voi oppia?\n\nPunainen lanka – elämän merkityksellisyyttä etsimässä -kokonaisuudessa kokeiltiin punaisen langan luovaa\, toiminnallista ja kehollista konseptia tunteiden käsittelyssä. Työskentelystä syntyi valokuvanäyttely valokuvataiteilija Helena Karhun kanssa. Millaisia pohdintoja yhteisötaideteokseen osallistuneet ihmiset kävivät vaikeiden tunteiden äärellä? Mitkä asiat ovat heitä auttaneet? Kuva- ja yhteisötaiteilija\, TM Ulla Remes avaa ihmisten oivalluksia valokuvateosten kautta ja syventää teemaa tunnetaitojen kautta.\n\nKuopion Korttelimuseossa kesällä 2024 nähty näyttely sai vaikuttunutta palautetta kävijöiltä avoimuudesta\, rohkeudesta ja toiveikkuuden kannattelusta. Jos et ehtinyt näyttelyyn\, tule tänne! \nTilaisuus on kaikille avoin ja maksuton!\n\n\n\nTilaisuuden mahdollistavat yhteistyössä Tukipilari\, Syömishäiriöliitto – SYLI ry\, Savon mielenterveysomaiset – FinFami ry\, Kuopion Ensikotiyhdistys\, Mieli kriisikeskus Kuopio ja Kuopion museo.
URL:https://kuopionmuseot.fi/tapahtuma/hyvinvoinnin-iltakoulu-vaikeiden-tunteiden-punainen-lanka/
LOCATION:Kuopion museo
ATTACH;FMTTYPE=image/png:https://kuopionmuseot.fi/wp-content/uploads/2024/09/Some-hyvinvoinniniltakoulu-2024-syksy.png
END:VEVENT
BEGIN:VEVENT
DTSTART;TZID=Europe/Helsinki:20240925T170000
DTEND;TZID=Europe/Helsinki:20240925T190000
DTSTAMP:20260422T181058
CREATED:20240821T044921Z
LAST-MODIFIED:20240821T050547Z
UID:10003112-1727283600-1727290800@kuopionmuseot.fi
SUMMARY:Filosofiakahvila: Mitä objektiivisuus tarkoittaa
DESCRIPTION:SnellmanEDUn Filosofiakahvilan syyskaudella jatketaan kevätkaudella 2024 aloitetulla teemalla objektiivisuus. \nKun ajattelemme\, ajattelemme jotakin asiaa tai kohdetta. Suomen kielessäkin on käytössä latinan kohdetta tarkoittavasta sanasta peräisin oleva ‘objekti’ johdannaisineen. Objektiivisen ja objektiivisuuden vastinpariksi esitetään taas yleisesti subjektiivinen ja subjektiivisuus. Myöskin latinasta peräisin oleva ’subjekti’ tarkoittaa kokijaa ja tekijää\, sitä joka ajattelee. Voiko se\, mitä ajattelemme\, olla kaikille ajattelijoille samaa – voiko meidän erillisten subjektien ajattelulla olla yhteinen objekti? Objektiivisuutta pidetään erityisesti tieteellisen tutkimuksen pyrkimyksenä. Jotkut pitänevät yhä objektiivisuutta myös ihanteena\, jota tulisi tavoitella muun muassa journalismissa ja oikeudenkäynneissä ja miksei yleisemminkin kriittisessä ajattelussa. Voiko ajattelumme olla\, edes joskus tai osittain\, objektiivista? Jos voi\, niin mitä tämä edellyttää\, ja jos ei\, niin miksi ei? \nKeskiviikkona 25.9.2024 klo 17-19 Filosofiakahvilan puhujavieraana on tieteenfilosofian tutkija Inkeri Koskinen aiheena “Mitä objektiivisuus tarkoittaa?”. Tule mukaan kuuntelemaan ja keskustelemaan! \nSisältö\nSyyskauden Filosofiakahvilan ajankohdat ovat: \nke 25.9. klo 17-19 Mitä objektiivisuus tarkoittaa\, Inkeri Koskinen\, tieteenfilosofian tutkija\, dosentti\, Helsingin yliopisto >>\nke 13.11. klo 17-19  Journalismi ja objektiivisuus – mahdoton yhtälö?\, Olli Seuri\, Uuden Jutun perustajajäsen\, journalistiikan dosentti\, Jyväskylän yliopisto >>\nke 11.12. klo 17-19 Kielellisen merkityksen objektiivisuus\, Jaakko Reinikainen\, filosofian tohtori\, Tampereen yliopisto \nTilaisuus on kai­kil­le avoin ja maksuton. Se toteutetaan yhteistyössä Kuopion museon kanssa. SnellmanEDU suosittelee ilmoittautumaan etukäteen sivuiltaan löytyvällä lomakkeella. Kahvila Kantista voi noutaa omakustanteiset kahvit nautittavaksi tilaisuudessa. Tervetuloa jälleen Filosofiakahvilaan\, sekä uudet että tutut kävijät!
URL:https://kuopionmuseot.fi/tapahtuma/filosofiakahvila-mita-objektiivisuus-tarkoittaa/
LOCATION:Kuopion museo
ATTACH;FMTTYPE=image/jpeg:https://kuopionmuseot.fi/wp-content/uploads/2024/08/Filosofiakahvila-3-scaled.jpg
END:VEVENT
BEGIN:VEVENT
DTSTART;TZID=Europe/Helsinki:20240522T170000
DTEND;TZID=Europe/Helsinki:20240522T190000
DTSTAMP:20260422T181058
CREATED:20240322T103543Z
LAST-MODIFIED:20240322T104633Z
UID:10002855-1716397200-1716404400@kuopionmuseot.fi
SUMMARY:Filosofiakahvila: Oikeuden objektiivisuus
DESCRIPTION:Filosofiakahvila: Oikeuden objektiivisuus\, Maija Aalto-Heinilä\n\n\n\n\n\n\n\nObjektiivisuus – Kuopion filosofiakahvilan teemana keväällä 2024Kun ajattelemme\, ajattelemme jotakin asiaa tai kohdetta. Suomen kielessäkin on käytössä latinan kohdetta tarkoittavasta sanasta peräisin oleva ‘objekti’ johdannaisineen. Objektiivisen ja objektiivisuuden vastinpariksi esitetään taas yleisesti subjektiivinen ja subjektiivisuus. Myöskin latinasta peräisin oleva ’subjekti’ tarkoittaa kokijaa ja tekijää\, sitä joka ajattelee. Voiko se\, mitä ajattelemme\, olla kaikille ajattelijoille samaa – voiko meidän erillisten subjektien ajattelulla olla yhteinen objekti? Objektiivisuutta pidetään erityisesti tieteellisen tutkimuksen pyrkimyksenä. Jotkut pitänevät yhä objektiivisuutta myös ihanteena\, jota tulisi tavoitella muun muassa journalismissa ja oikeudenkäynneissä ja miksei yleisemminkin kriittisessä ajattelussa. Voiko ajattelumme olla\, edes joskus tai osittain\, objektiivista? Jos voi\, niin mitä tämä edellyttää\, ja jos ei\, niin miksi ei? \nKeskiviikkona 22.5.2024 klo 17-19 Filosofiakahvilan puhujavieraana on Itä-Suomen yliopiston oikeusfilosofian yliopistonlehtori Maija Aalto-Heinilä aiheena ”Oikeuden objektiivisuus”. Tule mukaan kuuntelemaan ja keskustelemaan! \nSisältö\nKevätkauden tulevat Filosofiakahvilat: \nke 10.4.2024 klo 17-19 ”Voiko tiede olla objektiivista? Mitä se edes tarkoittaa?”\, Panu Raatikainen\, filosofian professori\, Tampereen yliopisto >>\nke 22.5.2024 klo 17-19 ”Oikeuden objektiivisuus”\, Maija Aalto-Heinilä\, oikeusfilosofian yliopistonlehtori\, Itä-Suomen yliopisto \nTilaisuus on kai­kil­le avoin ja maksuton. Suosittelemme ilmoittautumaan etukäteen\, jotta saat tiedon mahdollisista muutoksista ja tulevista tapahtumista. Kahvila Kantista voi noutaa omakustanteiset kahvit nautittavaksi tilaisuudessa. Tervetuloa jälleen Filosofiakahvilaan\, sekä uudet että tutut kävijät! \n\n\n\n\n\n\n\nMaksuton\n\n\n\nIlmoittaudu viimeistään 22.05.2024\, linkki ilmoittautumislomakkeelle tässä. \n\n\n\n\n\nAika ja paikka\n\nke 22.5.2024 klo 17–19 Kuopion Museon monitoimitilassa\n(Museokatu 1\, 70100 Kuopio)
URL:https://kuopionmuseot.fi/tapahtuma/filosofiakahvila-oikeuden-objektiivisuus/
LOCATION:Kuopion museo
ATTACH;FMTTYPE=image/jpeg:https://kuopionmuseot.fi/wp-content/uploads/2024/02/pexels-simon-berger-4462327-450x338-1.jpg
END:VEVENT
BEGIN:VEVENT
DTSTART;TZID=Europe/Helsinki:20240418T140000
DTEND;TZID=Europe/Helsinki:20240418T150000
DTSTAMP:20260422T181058
CREATED:20240412T080217Z
LAST-MODIFIED:20240412T080217Z
UID:10002896-1713448800-1713452400@kuopionmuseot.fi
SUMMARY:Café Smart Tiedekahvila: Elämän historia – Kasvien ja ihmisten evoluution tarina
DESCRIPTION:Itä-Suomen yliopiston Café Smart Tiedekahvilassa on tällä kertaa aiheena evoluutio. Millaisia vaiheita elämän historiasta löytyy\, mihin evoluutio on meidät tuonut ja mitä kannamme mukanamme evoluution taakkana tai sen ansiosta. Kuinka luonto reagoi ympäristön muutoksiin nyt ja tulevaisuudessa? Millainen rooli ihmisellä tässä tarinassa on? Aiheesta on keskustelemassa kasvibiologian professori Elina Oksanen ja professori Jaakko Pohjoismäki ympäristö- ja biotieteiden laitokselta. \nLämpimästi tervetuloa kuulolle ja keskustelemaan aiheesta. Tilaisuudessa kahvitarjoilu (rajallinen määrä). \nTapahtumassa yhteistyössä Kuopion museo. Apinat! Kädellisten tarina -näyttely museossa 30.3.-29.9.2024. \nLisätietoja tiedekahvilasta antaa Anna Simolin\, sähköposti anna.simolin@uef.fi.
URL:https://kuopionmuseot.fi/tapahtuma/cafe-smart-tiedekahvila-elaman-historia-kasvien-ja-ihmisten-evoluution-tarina/
LOCATION:Kuopion museo
ATTACH;FMTTYPE=image/png:https://kuopionmuseot.fi/wp-content/uploads/2024/04/Ajankohtaista_Cafe_Smart_Logo.png
END:VEVENT
BEGIN:VEVENT
DTSTART;TZID=Europe/Helsinki:20240410T170000
DTEND;TZID=Europe/Helsinki:20240410T190000
DTSTAMP:20260422T181058
CREATED:20240322T104215Z
LAST-MODIFIED:20240408T055400Z
UID:10002856-1712768400-1712775600@kuopionmuseot.fi
SUMMARY:Filosofiakahvila: Voiko tiede olla objektiivista?
DESCRIPTION:Objektiivisuus Kuopion filosofiakahvilan teemana keväällä 2024.  \nKun ajattelemme\, ajattelemme jotakin asiaa tai kohdetta. Suomen kielessäkin on käytössä latinan kohdetta tarkoittavasta sanasta peräisin oleva ‘objekti’ johdannaisineen. Objektiivisen ja objektiivisuuden vastinpariksi esitetään taas yleisesti subjektiivinen ja subjektiivisuus. Myöskin latinasta peräisin oleva ’subjekti’ tarkoittaa kokijaa ja tekijää\, sitä joka ajattelee. Voiko se\, mitä ajattelemme\, olla kaikille ajattelijoille samaa – voiko meidän erillisten subjektien ajattelulla olla yhteinen objekti? Objektiivisuutta pidetään erityisesti tieteellisen tutkimuksen pyrkimyksenä. Jotkut pitänevät yhä objektiivisuutta myös ihanteena\, jota tulisi tavoitella muun muassa journalismissa ja oikeudenkäynneissä ja miksei yleisemminkin kriittisessä ajattelussa. Voiko ajattelumme olla\, edes joskus tai osittain\, objektiivista? Jos voi\, niin mitä tämä edellyttää\, ja jos ei\, niin miksi ei? \nKeskiviikkona 10.4.2024 klo 17-19 Filosofiakahvilan puhujavieraana on Tampereen yliopiston filosofian tohtori Panu Raatikainen aiheena ”Voiko tiede olla objektiivista? Mitä se edes tarkoittaa? Tule mukaan kuuntelemaan ja keskustelemaan! \nKevätkauden tulevat Filosofiakahvilat:\nke 22.5.2024 klo 17-19 ”Oikeuden objektiivisuus”\, Maija Aalto-Heinilä\, oikeusfilosofian yliopistonlehtori\, Itä-Suomen yliopisto >>Tilaisuus on kai­kil­le avoin ja maksuton. Suosittelemme ilmoittautumaan etukäteen\, jotta saat tiedon mahdollisista muutoksista ja tulevista tapahtumista. Kahvila Kantista voi noutaa omakustanteiset kahvit nautittavaksi tilaisuudessa. \nTervetuloa jälleen Filosofiakahvilaan\, sekä uudet että tutut kävijät! \nMaksuton\nIlmoittaudu viimeistään 10.04.2024. Linkki ilmoittautumislomakkeelle tässä. \n\n\n\nAika ja paikka\n\nke 22.5.2024 klo 17–19 Kuopion Museon monitoimitilassa\n(Museokatu 1\, 70100 Kuopio)
URL:https://kuopionmuseot.fi/tapahtuma/filosofiakahvila-voiko-tiede-olla-objektiivista/
LOCATION:Kuopion museo
ATTACH;FMTTYPE=image/jpeg:https://kuopionmuseot.fi/wp-content/uploads/2024/02/pexels-simon-berger-4462327-450x338-1.jpg
END:VEVENT
END:VCALENDAR