BEGIN:VCALENDAR
VERSION:2.0
PRODID:-//Kuopion museot - ECPv6.15.20//NONSGML v1.0//EN
CALSCALE:GREGORIAN
METHOD:PUBLISH
X-ORIGINAL-URL:https://kuopionmuseot.fi
X-WR-CALDESC:Tapahtumat Kuopion museot
REFRESH-INTERVAL;VALUE=DURATION:PT1H
X-Robots-Tag:noindex
X-PUBLISHED-TTL:PT1H
BEGIN:VTIMEZONE
TZID:Europe/Helsinki
BEGIN:DAYLIGHT
TZOFFSETFROM:+0200
TZOFFSETTO:+0300
TZNAME:EEST
DTSTART:20230326T010000
END:DAYLIGHT
BEGIN:STANDARD
TZOFFSETFROM:+0300
TZOFFSETTO:+0200
TZNAME:EET
DTSTART:20231029T010000
END:STANDARD
BEGIN:DAYLIGHT
TZOFFSETFROM:+0200
TZOFFSETTO:+0300
TZNAME:EEST
DTSTART:20240331T010000
END:DAYLIGHT
BEGIN:STANDARD
TZOFFSETFROM:+0300
TZOFFSETTO:+0200
TZNAME:EET
DTSTART:20241027T010000
END:STANDARD
BEGIN:DAYLIGHT
TZOFFSETFROM:+0200
TZOFFSETTO:+0300
TZNAME:EEST
DTSTART:20250330T010000
END:DAYLIGHT
BEGIN:STANDARD
TZOFFSETFROM:+0300
TZOFFSETTO:+0200
TZNAME:EET
DTSTART:20251026T010000
END:STANDARD
END:VTIMEZONE
BEGIN:VEVENT
DTSTART;TZID=Europe/Helsinki:20240731T170000
DTEND;TZID=Europe/Helsinki:20240731T173500
DTSTAMP:20260423T063148
CREATED:20240601T130518Z
LAST-MODIFIED:20240601T130518Z
UID:10002984-1722445200-1722447300@kuopionmuseot.fi
SUMMARY:Etäopastus: Kuopion käsityöläiset
DESCRIPTION:Kutojia\, suutareita\, seppiä\, räätäleitä… Kuopiossa asui ja työskenteli 1800-luvulla ja 1900-luvun alussa monipuolinen joukko erilaisia käsityöläisiä. Kuopion käsityöläiset -etäopastuksella tutustutaan Kuopion korttelimuseon käsityöläiskotien kautta entisajan ahertajiin ja heidän elämäänsä. \nEtäopastuksen kesto on noin 30–40 minuuttia. \nTarkemmat ohjeet ja liput (4 €/hlö)  Kuopion kaupungin verkkokaupasta! \n***** \nMikä ihmeen etäopastus? \nKuopion museon ja Kuopion korttelimuseon näyttelyissä järjestetään kesän mittaan livestriimattuja opastuksia ytimekkäillä aiherajauksilla. Jos kaipaat täsmätietoa vaikkapa muinaisten mammuttien tai 1800-luvun kuopiolaisen säätyläisperheen elämästä\, tule mukaan etäopastukselle – kotisohvalta tai aurinkotuolista käsin! \n  \nTulossa olevat etäopastukset teemoineen: \nKe 7.8.2024 klo 17: Metsän myyttiset eläimet. Karhu ja muut myyttiset kumppanit pohjoissavolaisessa kansanperinteessä.
URL:https://kuopionmuseot.fi/tapahtuma/etaopastus-kuopion-kasityolaiset/
ATTACH;FMTTYPE=image/jpeg:https://kuopionmuseot.fi/wp-content/uploads/2024/06/etaopastus_kuopion-kasityolaiset_169-scaled.jpg
END:VEVENT
END:VCALENDAR