BEGIN:VCALENDAR
VERSION:2.0
PRODID:-//Kuopion museot - ECPv6.15.20//NONSGML v1.0//EN
CALSCALE:GREGORIAN
METHOD:PUBLISH
X-ORIGINAL-URL:https://kuopionmuseot.fi
X-WR-CALDESC:Tapahtumat Kuopion museot
REFRESH-INTERVAL;VALUE=DURATION:PT1H
X-Robots-Tag:noindex
X-PUBLISHED-TTL:PT1H
BEGIN:VTIMEZONE
TZID:Europe/Helsinki
BEGIN:DAYLIGHT
TZOFFSETFROM:+0200
TZOFFSETTO:+0300
TZNAME:EEST
DTSTART:20240331T010000
END:DAYLIGHT
BEGIN:STANDARD
TZOFFSETFROM:+0300
TZOFFSETTO:+0200
TZNAME:EET
DTSTART:20241027T010000
END:STANDARD
BEGIN:DAYLIGHT
TZOFFSETFROM:+0200
TZOFFSETTO:+0300
TZNAME:EEST
DTSTART:20250330T010000
END:DAYLIGHT
BEGIN:STANDARD
TZOFFSETFROM:+0300
TZOFFSETTO:+0200
TZNAME:EET
DTSTART:20251026T010000
END:STANDARD
BEGIN:DAYLIGHT
TZOFFSETFROM:+0200
TZOFFSETTO:+0300
TZNAME:EEST
DTSTART:20260329T010000
END:DAYLIGHT
BEGIN:STANDARD
TZOFFSETFROM:+0300
TZOFFSETTO:+0200
TZNAME:EET
DTSTART:20261025T010000
END:STANDARD
END:VTIMEZONE
BEGIN:VEVENT
DTSTART;TZID=Europe/Helsinki:20250806T170000
DTEND;TZID=Europe/Helsinki:20250806T180000
DTSTAMP:20260423T144604
CREATED:20250606T123608Z
LAST-MODIFIED:20250606T123609Z
UID:10003721-1754499600-1754503200@kuopionmuseot.fi
SUMMARY:Kuopion museon laatikkoviljelmään tutustuminen
DESCRIPTION:Jo viime kesänä hyvää asiakaspalautetta saaneet Kuopion museon ”olohuoneen jatkeessa”\, eli monitoimitilan vieressä\, sisäpihalla talvehtineet mustat kasvatuslaatikot heräävät eloon ja saavat seuraakin Korttelimuseolle alkavana kasvukautena.  \nKesäistä kaupunkiviljelyä toteutetaan museon sisäpihalla ja Korttelimuseolla syreenien katveessa yhteistyössä Kuopion Luonnonystäväin Yhdistyksen (KLYY) aktiivien kanssa. Kuopion kaupunki on kansallisen kaupunkipuiston nimissä mahdollistanut tarvikkeiden hankinnan ja KLYY:n jäsenet mahdollistavat kasvien kasvamisen ja hoitamisen omalla vapaaehtoistyöllään. Toiminnan on tarkoitus olla yhteisöllistä. Laatikkoviljely Kuopion museon sisäpihalla alkoi viime vuonna pilotilla\, joka jatkuu tänä vuonna kansallisen kaupunkipuiston pörriäiset- teeman mausteella. Laatikkoviljelyn tarkoituksena on kannustaa ihmisiä kaupunkiviljelyyn vaikkapa parvekkeella tai ikkunalla. Viljelylaatikoissa on hyötykasveista mukana viimevuotiseen tapaan muun muassa tammenlehtisalaattia\, pinaattia\, punaista basilikaa\, pensaskrassia\, lehtikorianteria\, kirsikkatomaattia\, porkkanaa ja silpoydinhernettä. Pörriäiskasveista esillä on mm. kurkkuyritti\, kehäkukkia\, malva ja ruiskaunokki.  \nHyvin suunniteltu on puoliksi tehty – ja hoidolla varmistettu   \nLaatikkoviljelmien pohjatyöt kannattaa tehdä huolellisesti. Kuopion museolla mullat olivatkin paikallaan jo viimevuotisesta ja Korttelimuseolla ne on laitettu viljelylaatikoihin toukokuun alkupuolella. Laatikossa pohjimmaisena on sanomalehtiä\, päällä multaa\, joka on ikään kuin ladattu käyttövalmiiksi sekoittamalla siihen biohiiltä\, kanankakkaa ja vettä. Museoiden laatikkoviljelyksillä ei käytetä hyönteismyrkkyjä.  Suurin osa kasveista on kylvetty siemeninä toukokuun puolivälissä. Tomaatit\, yrtit ja kurkut tulevat paikalle istutusvalmiina\, esikasvatettuina taimina\, mutta suurin osa kasveista kasvaa siemenestä ihan paikan päällä.   \nMyös pedagoginen näkökulma on laatikkoviljelyksillä huomioitu. Kasvien nimet tullaan kirjoittamaan saviruukun palasiin\, josta niitä on mahdollista opetella paikan päällä. Myös lajilistat tulevat museoille tutustuttaviksi. Laatikoista voi ottaa mallia omaan viljelmään..   \nLaatikkoviljelmän kasvukautta voi käydä seuraamassa Kuopion museon pääsymaksuttomalla alueella museon normaaleina aukioloaikoina ja Korttelimuseolla sen aukioloaikoina. 6.9. Kansalaisopistolla tullaan myös järjestämään pörriäisten talvehtimiseen liittyvä\, luennolla höystetty hyönteishotellityöpaja.  \nJos omaa viherpeukaloa alkaa kutkuttamaan\, niin laatikkoviljelmän hoitotiimiläiseksi voi liittyä mukaan ilmoittautumalla näissä avoimissa hoitopäivissä Kuopion museon sisäpihalla ke 2.7. klo 17-18 ja ke 6.8. klo 17-18.  \nVapaa pääsy.
URL:https://kuopionmuseot.fi/tapahtuma/kuopion-museon-laatikkoviljelmaan-tutustuminen/2025-08-06/
LOCATION:Kuopion museo
ATTACH;FMTTYPE=image/jpeg:https://kuopionmuseot.fi/wp-content/uploads/2025/06/Laatikkoviljely-1.jpg
END:VEVENT
END:VCALENDAR