BEGIN:VCALENDAR
VERSION:2.0
PRODID:-//Kuopion museot - ECPv6.15.20//NONSGML v1.0//EN
CALSCALE:GREGORIAN
METHOD:PUBLISH
X-ORIGINAL-URL:https://kuopionmuseot.fi
X-WR-CALDESC:Tapahtumat Kuopion museot
REFRESH-INTERVAL;VALUE=DURATION:PT1H
X-Robots-Tag:noindex
X-PUBLISHED-TTL:PT1H
BEGIN:VTIMEZONE
TZID:Europe/Helsinki
BEGIN:DAYLIGHT
TZOFFSETFROM:+0200
TZOFFSETTO:+0300
TZNAME:EEST
DTSTART:20230326T010000
END:DAYLIGHT
BEGIN:STANDARD
TZOFFSETFROM:+0300
TZOFFSETTO:+0200
TZNAME:EET
DTSTART:20231029T010000
END:STANDARD
BEGIN:DAYLIGHT
TZOFFSETFROM:+0200
TZOFFSETTO:+0300
TZNAME:EEST
DTSTART:20240331T010000
END:DAYLIGHT
BEGIN:STANDARD
TZOFFSETFROM:+0300
TZOFFSETTO:+0200
TZNAME:EET
DTSTART:20241027T010000
END:STANDARD
BEGIN:DAYLIGHT
TZOFFSETFROM:+0200
TZOFFSETTO:+0300
TZNAME:EEST
DTSTART:20250330T010000
END:DAYLIGHT
BEGIN:STANDARD
TZOFFSETFROM:+0300
TZOFFSETTO:+0200
TZNAME:EET
DTSTART:20251026T010000
END:STANDARD
END:VTIMEZONE
BEGIN:VEVENT
DTSTART;TZID=Europe/Helsinki:20241113T170000
DTEND;TZID=Europe/Helsinki:20241113T190000
DTSTAMP:20260424T053121
CREATED:20240821T045625Z
LAST-MODIFIED:20240821T050446Z
UID:10003113-1731517200-1731524400@kuopionmuseot.fi
SUMMARY:Filosofiakahvila: Journalismi ja objektiivisuus
DESCRIPTION:SnellmanEDUn Filosofiakahvilan syyskaudella jatketaan kevätkaudella 2024 aloitetulla teemalla objektiivisuus. \nKun ajattelemme\, ajattelemme jotakin asiaa tai kohdetta. Suomen kielessäkin on käytössä latinan kohdetta tarkoittavasta sanasta peräisin oleva ‘objekti’ johdannaisineen. Objektiivisen ja objektiivisuuden vastinpariksi esitetään taas yleisesti subjektiivinen ja subjektiivisuus. Myöskin latinasta peräisin oleva ’subjekti’ tarkoittaa kokijaa ja tekijää\, sitä joka ajattelee. Voiko se\, mitä ajattelemme\, olla kaikille ajattelijoille samaa – voiko meidän erillisten subjektien ajattelulla olla yhteinen objekti? Objektiivisuutta pidetään erityisesti tieteellisen tutkimuksen pyrkimyksenä. Jotkut pitänevät yhä objektiivisuutta myös ihanteena\, jota tulisi tavoitella muun muassa journalismissa ja oikeudenkäynneissä ja miksei yleisemminkin kriittisessä ajattelussa. Voiko ajattelumme olla\, edes joskus tai osittain\, objektiivista? Jos voi\, niin mitä tämä edellyttää\, ja jos ei\, niin miksi ei? \nKeskiviikkona 13.11.2024 klo 17-19 Filosofiakahvilan puhujavieraana on Olli Seuri\, Uuden Jutun perustajajäsen ja journalistiikan dosentti\, aiheena Journalismi ja objektiivisuus – mahdoton yhtälö?. Tule mukaan kuuntelemaan ja keskustelemaan! \nSisältö\nSyyskauden Filosofiakahvilan ajankohdat ovat: \nke 25.9. klo 17-19 Mitä objektiivisuus tarkoittaa\, Inkeri Koskinen\, tieteenfilosofian tutkija\, dosentti\, Helsingin yliopisto >>\nke 13.11. klo 17-19  Journalismi ja objektiivisuus – mahdoton yhtälö?\, Olli Seuri\, Uuden Jutun perustajajäsen\, journalistiikan dosentti\, Jyväskylän yliopisto >>\nke 11.12. klo 17-19 Kielellisen merkityksen objektiivisuus\, Jaakko Reinikainen\, filosofian tohtori\, Tampereen yliopisto \nTilaisuus on kai­kil­le avoin ja maksuton. Se toteutetaan yhteistyössä Kuopion museon kanssa. SnellmanEDU suosittelee ilmoittautumaan etukäteen sivuiltaan löytyvällä lomakkeella\, jotta saat tiedon mahdollisista muutoksista ja tulevista tapahtumista. Kahvila Kantista voi noutaa omakustanteiset kahvit nautittavaksi tilaisuudessa. Tervetuloa jälleen Filosofiakahvilaan\, sekä uudet että tutut kävijät!
URL:https://kuopionmuseot.fi/tapahtuma/filosofiakahvila-journalismi-ja-objektiivisuus/
LOCATION:Kuopion museo
ATTACH;FMTTYPE=image/jpeg:https://kuopionmuseot.fi/wp-content/uploads/2024/08/Filosofiakahvila-2-scaled.jpg
END:VEVENT
END:VCALENDAR