BEGIN:VCALENDAR
VERSION:2.0
PRODID:-//Kuopion museot - ECPv6.15.20//NONSGML v1.0//EN
CALSCALE:GREGORIAN
METHOD:PUBLISH
X-ORIGINAL-URL:https://kuopionmuseot.fi
X-WR-CALDESC:Tapahtumat Kuopion museot
REFRESH-INTERVAL;VALUE=DURATION:PT1H
X-Robots-Tag:noindex
X-PUBLISHED-TTL:PT1H
BEGIN:VTIMEZONE
TZID:Europe/Helsinki
BEGIN:DAYLIGHT
TZOFFSETFROM:+0200
TZOFFSETTO:+0300
TZNAME:EEST
DTSTART:20250330T010000
END:DAYLIGHT
BEGIN:STANDARD
TZOFFSETFROM:+0300
TZOFFSETTO:+0200
TZNAME:EET
DTSTART:20251026T010000
END:STANDARD
BEGIN:DAYLIGHT
TZOFFSETFROM:+0200
TZOFFSETTO:+0300
TZNAME:EEST
DTSTART:20260329T010000
END:DAYLIGHT
BEGIN:STANDARD
TZOFFSETFROM:+0300
TZOFFSETTO:+0200
TZNAME:EET
DTSTART:20261025T010000
END:STANDARD
BEGIN:DAYLIGHT
TZOFFSETFROM:+0200
TZOFFSETTO:+0300
TZNAME:EEST
DTSTART:20270328T010000
END:DAYLIGHT
BEGIN:STANDARD
TZOFFSETFROM:+0300
TZOFFSETTO:+0200
TZNAME:EET
DTSTART:20271031T010000
END:STANDARD
END:VTIMEZONE
BEGIN:VEVENT
DTSTART;TZID=Europe/Helsinki:20260517T130000
DTEND;TZID=Europe/Helsinki:20260517T134500
DTSTAMP:20260422T224318
CREATED:20260212T110147Z
LAST-MODIFIED:20260213T082039Z
UID:10004213-1779022800-1779025500@kuopionmuseot.fi
SUMMARY:Stardust-näyttelyopastus
DESCRIPTION:Matka maailmankaikkeuden mysteereihin  \nOpastuksella tehdään oppaan johdolla matka halki maailmankaikkeuden\, sen alkuhetkistä mahdollisiin erilaisiin loppuihin saakka. Matkalla tutustutaan käsittämättömän pieniin asioihin ja toisaalta uskomattoman valtaviin kokonaisuuksiin\, niin koon\, etäisyyksien kuin ajankin suhteen. Tule ottamaan selvää maailmankaikkeuden mysteereistä ja oman tarinamme nivoutumisesta universumiin.  \nTiedontäyteinen kierros on kestoltaan noin 45 minuuttia.  \nOpastus sisältyy pääsymaksuun (15/10 €\, alle 18-v maksutta)\, Museokortti ja Kaikukortti käyvät. \n***\nStardust – Universumi sisällämme -näyttelyssä pääset tutkimaan tähtien elinkaarta\, alkuaineiden alkuperää ja maailmankaikkeutta muovaavia kosmisia voimia jännittävän tarinankerronnan\, vuorovaikutteisten elämysten ja upeiden multimediaesitysten avulla. Heittäydy mukaan aikamatkalle avaruuteen!
URL:https://kuopionmuseot.fi/tapahtuma/stardust-nayttelyopastus/2026-05-17/
LOCATION:Kuopion museo
ATTACH;FMTTYPE=image/jpeg:https://kuopionmuseot.fi/wp-content/uploads/2026/02/Opastus-Stardust.jpg
END:VEVENT
BEGIN:VEVENT
DTSTART;TZID=Europe/Helsinki:20260517T130000
DTEND;TZID=Europe/Helsinki:20260517T160000
DTSTAMP:20260422T224318
CREATED:20260407T074308Z
LAST-MODIFIED:20260415T045821Z
UID:10004254-1779022800-1779033600@kuopionmuseot.fi
SUMMARY:Vintagea! – Jazzin 100 vuotta Suomessa
DESCRIPTION:Vintagea! – Jazzin 100 vuotta Suomessa\nKuopion museolla su 17.5.2026 klo 13–16 \nTervetuloa aikamatkalle jazz‑musiikin syntyhetkiin! Vintagea!-tapahtuma juhlistaa jazzin saapumista Suomeen tasan 100 vuotta sitten musiikin\, vintage-muodin ja tanssin pyörteissä. \nLiverytmeistä vastaa juuri tähän tilaisuuteen koostettu Suomi Jazz 100 Rytmiorkesteri solistinaan Sanna Rosberg (laulu). Musiikki nojaa vahvasti perinteeseen\, jazziskelmään ja suomalaisiin jazzstandardeihin. Yhtyeessä soittaa Kuopio Jazz & Blues ry:n jäseniä ja kuopiolaisen jazzin tuttuja kasvoja\, onpa mukana yksi suomalaisen jazzin legendakin!  Soittoajat tarkentuvat\, tiedossa on kaks settiä. Soiton tahdissa saa helmat heilua\, kun kuopiolaiset swing-tanssiharrastajat laittavat lattiaa rullalle yleisön ja itsensä iloksi. \nUpeana tietoiskuna kuulemme Pekka ja Mikko Toivasen ”Jatsista jazziin” puheenvuoron\, eli Jazzmaisterin ja filosofian tohtorin vapaamuotoista sanailua – pilke silmäkulmassa – suomalaisen jazzin yli 100-vuotisesta taipaleesta\, myyteistä ja legendoista sekä käännekohdista. \nKutsumme tapahtumavieraat pukeutumaan tai tuomaan mukanaan vintage‑vaatteita ja asusteita teemalla JUHLA. Pue siis upeimmat omat\, hankitut tai perityt vintage-juhlavaatteet 1920-luvulta tai muulta vuosikymmeneltä\, tai ota niitä muuten mukaan – nyt on hetki kaivaa esiin prameimmat vetimet ja sukuaarre-asusteet\, joita et muualla ehkä pääsisi käyttämään! Paikalla on myös maskeeraaja-kampaaja loihtimassa tyyliin sopivia kampauksia\, Kuopion kaupunginteatterin puvustamon kätköistä 1920-luvun asuja – aitoja ja puvustamon omia tuotoksia – sekä jazz-teemainen pieni näyttely ja aineistovinkkejä Kuopion kaupunginkirjastosta. (Tapahtuman jälkeen aineistonäyttely siirtyy esille pääkirjastolle). \nTulossa on myös vaatetusalan opiskelijoiden Suuri tuunauskisa\, jossa osallistujat loihtivat tarjotuilla materiaaleilla 1920-lukua sykkivän luomuksen. Tule seuraamaan\, miten työskentely etenee ja miten arvovaltainen tuomarointi ratkoo kisatöiden paremmuutta. Mikä tuotos tavoittakaan aikakauden tyylin parhaiten tiukoissa aikaraameissa? \nJo kolmatta kertaa järjestettävä Vintagea!-tapahtuma sopii kaikille\, joita kiehtovat menneen ajan henki\, musiikki\, tanssi ja muoti. Iloitaan samanmielisten kanssa ennen 1990-lukua ja pikamuoti-invaasiota valmistuneista aarteistamme ja saatetaan yhdessä vintagevaatteet käyttöön! Paikalle saa toki saapua muutoinkin ihastelemaan muiden aarteita ja fiilistelemään tunnelmaa. Tervetuloa kokemaan yhteisöllistä kurkkausta iloiseen 1920-lukuun ja juhlaan! \n(Huomaathan\, että et tuo tilaisuuteen turkiksia tai muutoin suuren tuhohyönteisriskin omaavia tuotteita.) \nTapahtumaan Kuopion museon katukerroksessa on vapaa pääsy. Tapahtumatilat ovat esteettömiä.\nTapahtuma on saanut Meidän Kuopio -tukea.\nOhjelmamuutokset ja täydennykset ovat mahdollisia. \n  \n 
URL:https://kuopionmuseot.fi/tapahtuma/vintagea-2026/
LOCATION:Kuopion museo
ATTACH;FMTTYPE=image/jpeg:https://kuopionmuseot.fi/wp-content/uploads/2026/04/Vintagea2026-somevaaka-logot.jpg
END:VEVENT
END:VCALENDAR