BEGIN:VCALENDAR
VERSION:2.0
PRODID:-//Kuopion museot - ECPv6.15.20//NONSGML v1.0//EN
CALSCALE:GREGORIAN
METHOD:PUBLISH
X-WR-CALNAME:Kuopion museot
X-ORIGINAL-URL:https://kuopionmuseot.fi
X-WR-CALDESC:Tapahtumat Kuopion museot
REFRESH-INTERVAL;VALUE=DURATION:PT1H
X-Robots-Tag:noindex
X-PUBLISHED-TTL:PT1H
BEGIN:VTIMEZONE
TZID:Europe/Helsinki
BEGIN:DAYLIGHT
TZOFFSETFROM:+0200
TZOFFSETTO:+0300
TZNAME:EEST
DTSTART:20250330T010000
END:DAYLIGHT
BEGIN:STANDARD
TZOFFSETFROM:+0300
TZOFFSETTO:+0200
TZNAME:EET
DTSTART:20251026T010000
END:STANDARD
BEGIN:DAYLIGHT
TZOFFSETFROM:+0200
TZOFFSETTO:+0300
TZNAME:EEST
DTSTART:20260329T010000
END:DAYLIGHT
BEGIN:STANDARD
TZOFFSETFROM:+0300
TZOFFSETTO:+0200
TZNAME:EET
DTSTART:20261025T010000
END:STANDARD
BEGIN:DAYLIGHT
TZOFFSETFROM:+0200
TZOFFSETTO:+0300
TZNAME:EEST
DTSTART:20270328T010000
END:DAYLIGHT
BEGIN:STANDARD
TZOFFSETFROM:+0300
TZOFFSETTO:+0200
TZNAME:EET
DTSTART:20271031T010000
END:STANDARD
END:VTIMEZONE
BEGIN:VEVENT
DTSTART;TZID=Europe/Helsinki:20260221T100000
DTEND;TZID=Europe/Helsinki:20260308T170000
DTSTAMP:20260422T215114
CREATED:20260219T093923Z
LAST-MODIFIED:20260219T093923Z
UID:10004228-1771668000-1772989200@kuopionmuseot.fi
SUMMARY:Talvitouhuja-suunnistus
DESCRIPTION:Kylmät\, valkoiset talvet täynnä vaikka minkämoista tekemistä ovat aina kuuluneet savolaisten elämään. \nTalvitouhuja-suunnistuksella etsitään eri aikojen talvipuuhia\, joita on piilotettu museon perusnäyttelyihin. Kierros on esillä 21.2.–8.3. ja sisältyy museon pääsymaksuun. Alle 18-vuotiaille museovierailu on aina maksuton!
URL:https://kuopionmuseot.fi/tapahtuma/talvitouhuja-suunnistus-2/
LOCATION:Kuopion museo
ATTACH;FMTTYPE=image/png:https://kuopionmuseot.fi/wp-content/uploads/2026/02/Talvitouhuja.png
ORGANIZER;CN="Kuopion museo":MAILTO:kuopionmuseo@kuopio.fi
END:VEVENT
BEGIN:VEVENT
DTSTART;TZID=Europe/Helsinki:20260228T130000
DTEND;TZID=Europe/Helsinki:20260228T140000
DTSTAMP:20260422T215114
CREATED:20260113T105216Z
LAST-MODIFIED:20260113T105216Z
UID:10004130-1772283600-1772287200@kuopionmuseot.fi
SUMMARY:Opastus: Talojen tarinoita
DESCRIPTION:Talojen tarinoita -näyttelyopastus esittelee jo lähes hävinnyttä puutalokaupunkia. Puu-Kuopio oli voimissaan 1900-luvun puoliväliin asti\, jolloin jälleenrakennuskausi ja kaupungistuminen muuttivat kaupunkikuvaa merkittävästi. Opastuksella muistellaan arkista elämää puutalokaupungissa siellä asuneiden silmin ja tutustutaan siihen valokuvien avulla. \nLauantaisin klo 13. Opastus sisältyy museon pääsymaksuun (8/5 €\, Museokortti\, Kaikukortti\, alle 18-vuotiaat maksutta). \n  \nTalojen tarinoita – Puutalokaupungin jäljillä \nNäyttelyssä valokuvat ja muistelmat nivoutuvat yhteen luoden eloisan kokonaisuuden\, joka kertoo kaupungin rakennushistoriasta sekä kaupunkikuvan muutoksesta. Näyttely esittelee Kuopion purettuja sekä edelleen olemassa olevia puutaloja piirtäen kuvaa vilkkaasta kaupungista\, jonka kaduilla ihmiset toimittivat arkisia askareitaan. Kuopiossa lapsuutensa ja nuoruutensa 1940–1960-luvuilla viettäneet ihmiset kertovat millaista oli elää puutalojen täyttämässä kaupungissa.
URL:https://kuopionmuseot.fi/tapahtuma/opastus-talojen-tarinoita-3/2026-02-28/
LOCATION:Korttelimuseo\, Kirkkokatu 22\, Kuopio\, 70100\, Suomi
ATTACH;FMTTYPE=image/png:https://kuopionmuseot.fi/wp-content/uploads/2026/01/Opastus-Talojen-tarinoita.png
END:VEVENT
BEGIN:VEVENT
DTSTART;TZID=Europe/Helsinki:20260228T130000
DTEND;TZID=Europe/Helsinki:20260228T143000
DTSTAMP:20260422T215114
CREATED:20260223T115131Z
LAST-MODIFIED:20260223T115131Z
UID:10004229-1772283600-1772289000@kuopionmuseot.fi
SUMMARY:Kansanlauluyhtye iLo KUMMAssa la 28.2. klo 13 ja 14
DESCRIPTION:iLo ❤️ Kumma \nTule nappaamaan kaksi taidekärpästä yhdellä kertaa\, kun Kansanlauluyhtye iLo esiintyy Kummassa klo 13.00 ja 14.00. Luvassa tarinoita\, mukavaa menoa ja maailmanmusiikkia ilolla maustettuna. \nTapahtuma kuuluu sisäänpääsyn hintaan 12 / 6 €\, alle 18-vuotiaat ilmaiseksi ja Museokortti ja Kaikukortti käy maksuvälineeksi tottakai.
URL:https://kuopionmuseot.fi/tapahtuma/kansanlauluyhtye-ilo-kummassa-la-28-2-klo-13-ja-14/
ATTACH;FMTTYPE=image/png:https://kuopionmuseot.fi/wp-content/uploads/2026/02/ilo-kummassa.png
END:VEVENT
BEGIN:VEVENT
DTSTART;TZID=Europe/Helsinki:20260228T140000
DTEND;TZID=Europe/Helsinki:20260228T150000
DTSTAMP:20260422T215114
CREATED:20260209T101752Z
LAST-MODIFIED:20260211T071117Z
UID:10004197-1772287200-1772290800@kuopionmuseot.fi
SUMMARY:Stardust-luento: Tähtien synty
DESCRIPTION:Tähtien synty\nEmma Mannfors\, tohtori\, Helsingin yliopisto \nTähtien lastentarhat\, värikkäiltä näyttävät kaasupilvet\, ovat yksi kuvauksellisimmista tähtivalokuvien aiheista. Niiden hehkuvat onkalot\, tummat pilarit ja kaasusuihkut ovat vaikuttavan näköisiä\, mutta mikä ne aiheuttaa? Mitä näissä pilvissä todella tapahtuu? Miten tähdet syntyvät? \nLuento on Kuopion museon monitoimitilassa\, joka on esteetön.\nVapaa pääsy. \nLuennon voi seurata suorana myös Kuopion museon Youtube-kanavalta tästä linkistä https://youtube.com/live/Dhx6E_p8Rbo?feature=share \n  \nMuut Stardust-luennot: \nLa 21.3. klo 14.00 Aurinkokunnan historia asteroidien ja komeettojen kertomana. Mikael Granvik\, professori\, Helsingin yliopisto ja Luulajan teknillinen yliopisto. \nLa 16.5. klo 14.00 Elinkelpoisia maailmoja etsimässä. Kirsi Lehto\, dosentti\, Turun yliopisto.
URL:https://kuopionmuseot.fi/tapahtuma/stardust-luento-tahtien-synty/
LOCATION:Kuopion museo
ATTACH;FMTTYPE=image/jpeg:https://kuopionmuseot.fi/wp-content/uploads/2026/02/Luento-tahtiensynty280226.jpg
END:VEVENT
END:VCALENDAR